Workbook
Name Ayham: Final!$B$5:$B$203
Name Ayham: Basic!$B$5:$B$203
Name Basic: Basic!$B$5:$B$204
Name Lubna: Final!$B$5:$B$64738
Name Lubna: Basic!$B$5:$B$64738

Sheet Home

Sheet Basic
A2: عودة إلى الصفحة الرئيسية
A3: تعريف المواد وإدخال كميتها عند البدء باستخدام البرنامج Create Codes & Beginning Balance
A4: Serial | B4: Code | C4: Description اسم المادة | D4: Unit الوحدة | E4: الكمية Quantity
A5: 1 | B5: A00001 | C5: Water 5L | D5: Bottle | E5: 14
A6: 2 | B6: A00002 | C6: Water 200ML | D6: Bottle | E6: 10
A7: 3 | B7: A00003 | C7: Water 500ML | D7: Bottle | E7: 35
A8: 4 | B8: A00004 | C8: Cola | D8: Can | E8: 0
A9: 5 | B9: A00005 | C9: Alokozay Cola | D9: Can | E9: 25
A10: 6 | B10: A00006 | C10: Sprite | D10: Can | E10: 0
A11: 7 | B11: A00007 | C11: Fanta | D11: Can | E11: 0
A12: 8 | B12: A00008 | C12: Tea | D12: Box (100Bags) | E12: 13
A13: 9 | B13: A00009 | C13: Tea | D13: Box (20Bags) | E13: 4
A14: 10 | B14: A00010 | C14: Zhooorat | D14: Box (50Bags) | E14: 13
A15: 11 | B15: A00011 | C15: Suger | D15: Kg | E15: 47
A16: 12 | B16: A00012 | C16: Salt | D16: Kg | E16: 21
... A19: 15 | B19: A00015 | C19: Tissues | D19: Box (10 PCS) | E19: 50
A20: 16
A21: 17
A22: 18
A23: 19
A24: 20
A25: 21
A26: 22
A27: 23
A28: 24
A29: 25
A30: 26
A31: 27
... A204: 200

Sheet المشتريات
A2: عودة إلى الصفحة الرئيسية
A3: Purchases / Inventory In المشتريات
A4: Serial | B4: Code | C4: Decription | D4: Unit | E4: Date | F4: In (+) | H4: Comments
A5: 1 | B5: A00005 | C5: =IFERROR(VLOOKUP(B5,Basic!$B:$E,2,0),"") -> Alokozay Cola | D5: =IFERROR(VLOOKUP(B5,Basic!$B:$E,3,0),"") -> Can | E5: 45748 | F5: 0
A6: 2 | B6: A00002 | C6: =IFERROR(VLOOKUP(B6,Basic!$B:$E,2,0),"") -> Water 200ML | D6: =IFERROR(VLOOKUP(B6,Basic!$B:$E,3,0),"") -> Bottle | E6: 45769 | F6: 3
A7: 3 | B7: A00003 | C7: =IFERROR(VLOOKUP(B7,Basic!$B:$E,2,0),"") -> Water 500ML | D7: =IFERROR(VLOOKUP(B7,Basic!$B:$E,3,0),"") -> Bottle | E7: 45770 | F7: 2
A8: 4 | B8: A00005 | C8: =IFERROR(VLOOKUP(B8,Basic!$B:$E,2,0),"") -> Alokozay Cola | D8: =IFERROR(VLOOKUP(B8,Basic!$B:$E,3,0),"") -> Can | E8: 45779 | F8: 3
A9: 5 | B9: A00005 | C9: =IFERROR(VLOOKUP(B9,Basic!$B:$E,2,0),"") -> Alokozay Cola | D9: =IFERROR(VLOOKUP(B9,Basic!$B:$E,3,0),"") -> Can | E9: 45780 | F9: 4
A10: 6 | B10: A00005 | C10: =IFERROR(VLOOKUP(B10,Basic!$B:$E,2,0),"") -> Alokozay Cola | D10: =IFERROR(VLOOKUP(B10,Basic!$B:$E,3,0),"") -> Can | E10: 45792 | F10: 12
A11: 7 | B11: A00008 | C11: =IFERROR(VLOOKUP(B11,Basic!$B:$E,2,0),"") -> Tea | D11: =IFERROR(VLOOKUP(B11,Basic!$B:$E,3,0),"") -> Box (100Bags) | E11: 45809 | F11: 6
A12: 8 | B12: A00008 | C12: =IFERROR(VLOOKUP(B12,Basic!$B:$E,2,0),"") -> Tea | D12: =IFERROR(VLOOKUP(B12,Basic!$B:$E,3,0),"") -> Box (100Bags) | E12: 45830 | F12: 1
A13: 9 | B13: A00001 | C13: =IFERROR(VLOOKUP(B13,Basic!$B:$E,2,0),"") -> Water 5L | D13: =IFERROR(VLOOKUP(B13,Basic!$B:$E,3,0),"") -> Bottle | E13: 45841 | F13: 3
A14: 10 | B14: A00002 | C14: =IFERROR(VLOOKUP(B14,Basic!$B:$E,2,0),"") -> Water 200ML | D14: =IFERROR(VLOOKUP(B14,Basic!$B:$E,3,0),"") -> Bottle | E14: 45841 | F14: 4
A15: 11 | B15: A00011 | C15: =IFERROR(VLOOKUP(B15,Basic!$B:$E,2,0),"") -> Suger | D15: =IFERROR(VLOOKUP(B15,Basic!$B:$E,3,0),"") -> Kg | E15: 45841 | F15: 2
A16: 12 | B16: A00005 | C16: =IFERROR(VLOOKUP(B16,Basic!$B:$E,2,0),"") -> Alokozay Cola | D16: =IFERROR(VLOOKUP(B16,Basic!$B:$E,3,0),"") -> Can | E16: 45870 | F16: 4
... A18: 14 | B18: A00010 | C18: =IFERROR(VLOOKUP(B18,Basic!$B:$E,2,0),"") -> Zhooorat | D18: =IFERROR(VLOOKUP(B18,Basic!$B:$E,3,0),"") -> Box (50Bags) | E18: 45884 | F18: 2
A19: 15 | C19: =IFERROR(VLOOKUP(B19,Basic!$B:$E,2,0),"") | D19: =IFERROR(VLOOKUP(B19,Basic!$B:$E,3,0),"")
A20: 16 | C20: =IFERROR(VLOOKUP(B20,Basic!$B:$E,2,0),"") | D20: =IFERROR(VLOOKUP(B20,Basic!$B:$E,3,0),"")
A21: 17 | C21: =IFERROR(VLOOKUP(B21,Basic!$B:$E,2,0),"") | D21: =IFERROR(VLOOKUP(B21,Basic!$B:$E,3,0),"")
A22: 18 | C22: =IFERROR(VLOOKUP(B22,Basic!$B:$E,2,0),"") | D22: =IFERROR(VLOOKUP(B22,Basic!$B:$E,3,0),"")
A23: 19 | C23: =IFERROR(VLOOKUP(B23,Basic!$B:$E,2,0),"") | D23: =IFERROR(VLOOKUP(B23,Basic!$B:$E,3,0),"")
A24: 20 | C24: =IFERROR(VLOOKUP(B24,Basic!$B:$E,2,0),"") | D24: =IFERROR(VLOOKUP(B24,Basic!$B:$E,3,0),"")
A25: 21 | C25: =IFERROR(VLOOKUP(B25,Basic!$B:$E,2,0),"") | D25: =IFERROR(VLOOKUP(B25,Basic!$B:$E,3,0),"")
A26: 22 | C26: =IFERROR(VLOOKUP(B26,Basic!$B:$E,2,0),"") | D26: =IFERROR(VLOOKUP(B26,Basic!$B:$E,3,0),"")
A27: 23 | C27: =IFERROR(VLOOKUP(B27,Basic!$B:$E,2,0),"") | D27: =IFERROR(VLOOKUP(B27,Basic!$B:$E,3,0),"")
A28: 24 | C28: =IFERROR(VLOOKUP(B28,Basic!$B:$E,2,0),"") | D28: =IFERROR(VLOOKUP(B28,Basic!$B:$E,3,0),"")
A29: 25 | C29: =IFERROR(VLOOKUP(B29,Basic!$B:$E,2,0),"") | D29: =IFERROR(VLOOKUP(B29,Basic!$B:$E,3,0),"")
A30: 26 | C30: =IFERROR(VLOOKUP(B30,Basic!$B:$E,2,0),"") | D30: =IFERROR(VLOOKUP(B30,Basic!$B:$E,3,0),"")
... A1004: 1000 | C1004: =IFERROR(VLOOKUP(B1004,Basic!$B:$E,2,0),"") | D1004: =IFERROR(VLOOKUP(B1004,Basic!$B:$E,3,0),"")

Sheet المبيعات
A2: عودة إلى الصفحة الرئيسية
A3: Sales / Consumption / Inventory Out المبيعات / الاستهلاك
A4: Serial | B4: Code | C4: Decription | D4: Unit | E4: Date | F4: Out (-) | H4: Notifications | J4: Comments
A5: 1 | B5: A00005 | C5: =IFERROR(VLOOKUP(B5,Basic!$B:$E,2,0),"") -> Alokozay Cola | D5: =IFERROR(VLOOKUP(B5,Basic!$B:$E,3,0),"") -> Can | E5: 45830 | F5: 2 | H5: =VLOOKUP(B5,Final!B:Z,8,0) | J5: Customer: Waseem
A6: 2 | B6: A00001 | C6: =IFERROR(VLOOKUP(B6,Basic!$B:$E,2,0),"") -> Water 5L | D6: =IFERROR(VLOOKUP(B6,Basic!$B:$E,3,0),"") -> Bottle | E6: 45851 | F6: 10 | H6: =VLOOKUP(B6,Final!B:Z,8,0)
A7: 3 | B7: A00010 | C7: =IFERROR(VLOOKUP(B7,Basic!$B:$E,2,0),"") -> Zhooorat | D7: =IFERROR(VLOOKUP(B7,Basic!$B:$E,3,0),"") -> Box (50Bags) | E7: 45867 | F7: 3 | H7: =VLOOKUP(B7,Final!B:Z,8,0)
A8: 4 | B8: A00012 | C8: =IFERROR(VLOOKUP(B8,Basic!$B:$E,2,0),"") -> Salt | D8: =IFERROR(VLOOKUP(B8,Basic!$B:$E,3,0),"") -> Kg | E8: 45870 | F8: 19 | H8: =VLOOKUP(B8,Final!B:Z,8,0) -> Low Stock
A9: 5 | C9: =IFERROR(VLOOKUP(B9,Basic!$B:$E,2,0),"") | D9: =IFERROR(VLOOKUP(B9,Basic!$B:$E,3,0),"") | H9: =VLOOKUP(B9,Final!B:Z,8,0)
A10: 6 | C10: =IFERROR(VLOOKUP(B10,Basic!$B:$E,2,0),"") | D10: =IFERROR(VLOOKUP(B10,Basic!$B:$E,3,0),"") | H10: =VLOOKUP(B10,Final!B:Z,8,0)
A11: 7 | C11: =IFERROR(VLOOKUP(B11,Basic!$B:$E,2,0),"") | D11: =IFERROR(VLOOKUP(B11,Basic!$B:$E,3,0),"") | H11: =VLOOKUP(B11,Final!B:Z,8,0)
A12: 8 | C12: =IFERROR(VLOOKUP(B12,Basic!$B:$E,2,0),"") | D12: =IFERROR(VLOOKUP(B12,Basic!$B:$E,3,0),"") | H12: =VLOOKUP(B12,Final!B:Z,8,0)
A13: 9 | C13: =IFERROR(VLOOKUP(B13,Basic!$B:$E,2,0),"") | D13: =IFERROR(VLOOKUP(B13,Basic!$B:$E,3,0),"") | H13: =VLOOKUP(B13,Final!B:Z,8,0)
A14: 10 | C14: =IFERROR(VLOOKUP(B14,Basic!$B:$E,2,0),"") | D14: =IFERROR(VLOOKUP(B14,Basic!$B:$E,3,0),"") | H14: =VLOOKUP(B14,Final!B:Z,8,0)
A15: 11 | C15: =IFERROR(VLOOKUP(B15,Basic!$B:$E,2,0),"") | D15: =IFERROR(VLOOKUP(B15,Basic!$B:$E,3,0),"") | H15: =VLOOKUP(B15,Final!B:Z,8,0)
A16: 12 | C16: =IFERROR(VLOOKUP(B16,Basic!$B:$E,2,0),"") | D16: =IFERROR(VLOOKUP(B16,Basic!$B:$E,3,0),"") | H16: =VLOOKUP(B16,Final!B:Z,8,0)
A17: 13 | C17: =IFERROR(VLOOKUP(B17,Basic!$B:$E,2,0),"") | D17: =IFERROR(VLOOKUP(B17,Basic!$B:$E,3,0),"") | H17: =VLOOKUP(B17,Final!B:Z,8,0)
A18: 14 | C18: =IFERROR(VLOOKUP(B18,Basic!$B:$E,2,0),"") | D18: =IFERROR(VLOOKUP(B18,Basic!$B:$E,3,0),"") | H18: =VLOOKUP(B18,Final!B:Z,8,0)
A19: 15 | C19: =IFERROR(VLOOKUP(B19,Basic!$B:$E,2,0),"") | D19: =IFERROR(VLOOKUP(B19,Basic!$B:$E,3,0),"") | H19: =VLOOKUP(B19,Final!B:Z,8,0)
A20: 16 | C20: =IFERROR(VLOOKUP(B20,Basic!$B:$E,2,0),"") | D20: =IFERROR(VLOOKUP(B20,Basic!$B:$E,3,0),"") | H20: =VLOOKUP(B20,Final!B:Z,8,0)
... A1004: 1000 | C1004: =IFERROR(VLOOKUP(B1004,Basic!$B:$E,2,0),"") | D1004: =IFERROR(VLOOKUP(B1004,Basic!$B:$E,3,0),"") | H1004: =VLOOKUP(B1004,Final!B:Z,8,0)

Sheet Final
A2: عودة إلى الصفحة الرئيسية | K2: =Manual!I82 -> 5
A3: Current Balance (Inventory) تقرير البضاعة الموجودة بالمستودع | H3: الرصيد الحالي
A4: Serial | B4: Code | C4: Decription | D4: Unit | E4: الرصيد الإفتتاحي | F4: المشتريات | G4: المبيعات | H4: البضاعة المتبقية | I4: Alert
A5: 1 | B5: =Basic!B5 -> A00001 | C5: =IFERROR(VLOOKUP(B5,Basic!$B:$E,2,0),"") -> Water 5L | D5: =IFERROR(VLOOKUP(B5,Basic!$B:$E,3,0),"") -> Bottle | E5: =IFERROR(VLOOKUP(B5,Basic!$B:$E,4,0),"") -> 14 | F5: =SUMIF(المشتريات!$B:$B,B5,المشتريات!$F:$F) -> 3 | G5: =SUMIF(المبيعات!$B:$B,B5,المبيعات!$F:$F) -> 10 | H5: =IFERROR(E5+F5-G5,"") -> 7 | I5: =IFERROR(IF(H5="","",IF(H5=0,"Out of Stock",IF(H5<0,"Error",IF(AND(H5>0,H5<=$K$2),"Low Stock","")))),"")
A6: 2 | B6: =Basic!B6 -> A00002 | C6: =IFERROR(VLOOKUP(B6,Basic!$B:$E,2,0),"") -> Water 200ML | D6: =IFERROR(VLOOKUP(B6,Basic!$B:$E,3,0),"") -> Bottle | E6: =IFERROR(VLOOKUP(B6,Basic!$B:$E,4,0),"") -> 10 | F6: =SUMIF(المشتريات!$B:$B,B6,المشتريات!$F:$F) -> 7 | G6: =SUMIF(المبيعات!$B:$B,B6,المبيعات!$F:$F) -> 0 | H6: =IFERROR(E6+F6-G6,"") -> 17 | I6: =IFERROR(IF(H6="","",IF(H6=0,"Out of Stock",IF(H6<0,"Error",IF(AND(H6>0,H6<=$K$2),"Low Stock","")))),"")
A7: 3 | B7: =Basic!B7 -> A00003 | C7: =IFERROR(VLOOKUP(B7,Basic!$B:$E,2,0),"") -> Water 500ML | D7: =IFERROR(VLOOKUP(B7,Basic!$B:$E,3,0),"") -> Bottle | E7: =IFERROR(VLOOKUP(B7,Basic!$B:$E,4,0),"") -> 35 | F7: =SUMIF(المشتريات!$B:$B,B7,المشتريات!$F:$F) -> 2 | G7: =SUMIF(المبيعات!$B:$B,B7,المبيعات!$F:$F) -> 0 | H7: =IFERROR(E7+F7-G7,"") -> 37 | I7: =IFERROR(IF(H7="","",IF(H7=0,"Out of Stock",IF(H7<0,"Error",IF(AND(H7>0,H7<=$K$2),"Low Stock","")))),"")
A8: 4 | B8: =Basic!B8 -> A00004 | C8: =IFERROR(VLOOKUP(B8,Basic!$B:$E,2,0),"") -> Cola | D8: =IFERROR(VLOOKUP(B8,Basic!$B:$E,3,0),"") -> Can | E8: =IFERROR(VLOOKUP(B8,Basic!$B:$E,4,0),"") -> 0 | F8: =SUMIF(المشتريات!$B:$B,B8,المشتريات!$F:$F) -> 0 | G8: =SUMIF(المبيعات!$B:$B,B8,المبيعات!$F:$F) -> 0 | H8: =IFERROR(E8+F8-G8,"") -> 0 | I8: =IFERROR(IF(H8="","",IF(H8=0,"Out of Stock",IF(H8<0,"Error",IF(AND(H8>0,H8<=$K$2),"Low Stock","")))),"") -> Out of Stock
A9: 5 | B9: =Basic!B9 -> A00005 | C9: =IFERROR(VLOOKUP(B9,Basic!$B:$E,2,0),"") -> Alokozay Cola | D9: =IFERROR(VLOOKUP(B9,Basic!$B:$E,3,0),"") -> Can | E9: =IFERROR(VLOOKUP(B9,Basic!$B:$E,4,0),"") -> 25 | F9: =SUMIF(المشتريات!$B:$B,B9,المشتريات!$F:$F) -> 23 | G9: =SUMIF(المبيعات!$B:$B,B9,المبيعات!$F:$F) -> 2 | H9: =IFERROR(E9+F9-G9,"") -> 46 | I9: =IFERROR(IF(H9="","",IF(H9=0,"Out of Stock",IF(H9<0,"Error",IF(AND(H9>0,H9<=$K$2),"Low Stock","")))),"")
A10: 6 | B10: =Basic!B10 -> A00006 | C10: =IFERROR(VLOOKUP(B10,Basic!$B:$E,2,0),"") -> Sprite | D10: =IFERROR(VLOOKUP(B10,Basic!$B:$E,3,0),"") -> Can | E10: =IFERROR(VLOOKUP(B10,Basic!$B:$E,4,0),"") -> 0 | F10: =SUMIF(المشتريات!$B:$B,B10,المشتريات!$F:$F) -> 0 | G10: =SUMIF(المبيعات!$B:$B,B10,المبيعات!$F:$F) -> 0 | H10: =IFERROR(E10+F10-G10,"") -> 0 | I10: =IFERROR(IF(H10="","",IF(H10=0,"Out of Stock",IF(H10<0,"Error",IF(AND(H10>0,H10<=$K$2),"Low Stock","")))),"") -> Out of Stock
A11: 7 | B11: =Basic!B11 -> A00007 | C11: =IFERROR(VLOOKUP(B11,Basic!$B:$E,2,0),"") -> Fanta | D11: =IFERROR(VLOOKUP(B11,Basic!$B:$E,3,0),"") -> Can | E11: =IFERROR(VLOOKUP(B11,Basic!$B:$E,4,0),"") -> 0 | F11: =SUMIF(المشتريات!$B:$B,B11,المشتريات!$F:$F) -> 0 | G11: =SUMIF(المبيعات!$B:$B,B11,المبيعات!$F:$F) -> 0 | H11: =IFERROR(E11+F11-G11,"") -> 0 | I11: =IFERROR(IF(H11="","",IF(H11=0,"Out of Stock",IF(H11<0,"Error",IF(AND(H11>0,H11<=$K$2),"Low Stock","")))),"") -> Out of Stock
A12: 8 | B12: =Basic!B12 -> A00008 | C12: =IFERROR(VLOOKUP(B12,Basic!$B:$E,2,0),"") -> Tea | D12: =IFERROR(VLOOKUP(B12,Basic!$B:$E,3,0),"") -> Box (100Bags) | E12: =IFERROR(VLOOKUP(B12,Basic!$B:$E,4,0),"") -> 13 | F12: =SUMIF(المشتريات!$B:$B,B12,المشتريات!$F:$F) -> 7 | G12: =SUMIF(المبيعات!$B:$B,B12,المبيعات!$F:$F) -> 0 | H12: =IFERROR(E12+F12-G12,"") -> 20 | I12: =IFERROR(IF(H12="","",IF(H12=0,"Out of Stock",IF(H12<0,"Error",IF(AND(H12>0,H12<=$K$2),"Low Stock","")))),"")
A13: 9 | B13: =Basic!B13 -> A00009 | C13: =IFERROR(VLOOKUP(B13,Basic!$B:$E,2,0),"") -> Tea | D13: =IFERROR(VLOOKUP(B13,Basic!$B:$E,3,0),"") -> Box (20Bags) | E13: =IFERROR(VLOOKUP(B13,Basic!$B:$E,4,0),"") -> 4 | F13: =SUMIF(المشتريات!$B:$B,B13,المشتريات!$F:$F) -> 0 | G13: =SUMIF(المبيعات!$B:$B,B13,المبيعات!$F:$F) -> 0 | H13: =IFERROR(E13+F13-G13,"") -> 4 | I13: =IFERROR(IF(H13="","",IF(H13=0,"Out of Stock",IF(H13<0,"Error",IF(AND(H13>0,H13<=$K$2),"Low Stock","")))),"") -> Low Stock
A14: 10 | B14: =Basic!B14 -> A00010 | C14: =IFERROR(VLOOKUP(B14,Basic!$B:$E,2,0),"") -> Zhooorat | D14: =IFERROR(VLOOKUP(B14,Basic!$B:$E,3,0),"") -> Box (50Bags) | E14: =IFERROR(VLOOKUP(B14,Basic!$B:$E,4,0),"") -> 13 | F14: =SUMIF(المشتريات!$B:$B,B14,المشتريات!$F:$F) -> 8 | G14: =SUMIF(المبيعات!$B:$B,B14,المبيعات!$F:$F) -> 3 | H14: =IFERROR(E14+F14-G14,"") -> 18 | I14: =IFERROR(IF(H14="","",IF(H14=0,"Out of Stock",IF(H14<0,"Error",IF(AND(H14>0,H14<=$K$2),"Low Stock","")))),"")
A15: 11 | B15: =Basic!B15 -> A00011 | C15: =IFERROR(VLOOKUP(B15,Basic!$B:$E,2,0),"") -> Suger | D15: =IFERROR(VLOOKUP(B15,Basic!$B:$E,3,0),"") -> Kg | E15: =IFERROR(VLOOKUP(B15,Basic!$B:$E,4,0),"") -> 47 | F15: =SUMIF(المشتريات!$B:$B,B15,المشتريات!$F:$F) -> 2 | G15: =SUMIF(المبيعات!$B:$B,B15,المبيعات!$F:$F) -> 0 | H15: =IFERROR(E15+F15-G15,"") -> 49 | I15: =IFERROR(IF(H15="","",IF(H15=0,"Out of Stock",IF(H15<0,"Error",IF(AND(H15>0,H15<=$K$2),"Low Stock","")))),"")
A16: 12 | B16: =Basic!B16 -> A00012 | C16: =IFERROR(VLOOKUP(B16,Basic!$B:$E,2,0),"") -> Salt | D16: =IFERROR(VLOOKUP(B16,Basic!$B:$E,3,0),"") -> Kg | E16: =IFERROR(VLOOKUP(B16,Basic!$B:$E,4,0),"") -> 21 | F16: =SUMIF(المشتريات!$B:$B,B16,المشتريات!$F:$F) -> 0 | G16: =SUMIF(المبيعات!$B:$B,B16,المبيعات!$F:$F) -> 19 | H16: =IFERROR(E16+F16-G16,"") -> 2 | I16: =IFERROR(IF(H16="","",IF(H16=0,"Out of Stock",IF(H16<0,"Error",IF(AND(H16>0,H16<=$K$2),"Low Stock","")))),"") -> Low Stock
... A204: 200 | B204: =Basic!B204 -> 0 | C204: =IFERROR(VLOOKUP(B204,Basic!$B:$E,2,0),"") | D204: =IFERROR(VLOOKUP(B204,Basic!$B:$E,3,0),"") | E204: =IFERROR(VLOOKUP(B204,Basic!$B:$E,4,0),"") | F204: =SUMIF(المشتريات!$B:$B,B204,المشتريات!$F:$F) -> 0 | G204: =SUMIF(المبيعات!$B:$B,B204,المبيعات!$F:$F) -> 0 | H204: =IFERROR(E204+F204-G204,"") | I204: =IFERROR(IF(H204="","",IF(H204=0,"Out of Stock",IF(H204<0,"Error",IF(AND(H204>0,H204<=$K$2),"Low Stock","")))),"")
I219: \
F64740: In | G64740: Out
F64741: =SUMIF(المشتريات!$B:$B,#REF!,المشتريات!$F:$F) -> 0 | G64741: =SUMIF(المشتريات!$B:$B,#REF!,المشتريات!#REF!) -> #REF!
F64742: =SUMIF(المشتريات!$B:$B,#REF!,المشتريات!$F:$F) -> 0 | G64742: =SUMIF(المشتريات!$B:$B,#REF!,المشتريات!#REF!) -> #REF!
F64743: =SUMIF(المشتريات!$B:$B,#REF!,المشتريات!$F:$F) -> 0 | G64743: =SUMIF(المشتريات!$B:$B,#REF!,المشتريات!#REF!) -> #REF!
F64744: =SUMIF(المشتريات!$B:$B,#REF!,المشتريات!$F:$F) -> 0 | G64744: =SUMIF(المشتريات!$B:$B,#REF!,المشتريات!#REF!) -> #REF!
F64745: =SUMIF(المشتريات!$B:$B,#REF!,المشتريات!$F:$F) -> 0 | G64745: =SUMIF(المشتريات!$B:$B,#REF!,المشتريات!#REF!) -> #REF!
F64746: =SUMIF(المشتريات!$B:$B,#REF!,المشتريات!$F:$F) -> 0 | G64746: =SUMIF(المشتريات!$B:$B,#REF!,المشتريات!#REF!) -> #REF!
F64747: =SUMIF(المشتريات!$B:$B,#REF!,المشتريات!$F:$F) -> 0 | G64747: =SUMIF(المشتريات!$B:$B,#REF!,المشتريات!#REF!) -> #REF!
F64748: =SUMIF(المشتريات!$B:$B,#REF!,المشتريات!$F:$F) -> 0 | G64748: =SUMIF(المشتريات!$B:$B,#REF!,المشتريات!#REF!) -> #REF!
F64749: =SUMIF(المشتريات!$B:$B,#REF!,المشتريات!$F:$F) -> 0 | G64749: =SUMIF(المشتريات!$B:$B,#REF!,المشتريات!#REF!) -> #REF!
F64750: =SUMIF(المشتريات!$B:$B,#REF!,المشتريات!$F:$F) -> 0 | G64750: =SUMIF(المشتريات!$B:$B,#REF!,المشتريات!#REF!) -> #REF!
F64751: =SUMIF(المشتريات!$B:$B,#REF!,المشتريات!$F:$F) -> 0 | G64751: =SUMIF(المشتريات!$B:$B,#REF!,المشتريات!#REF!) -> #REF!
F64752: =SUMIF(المشتريات!$B:$B,#REF!,المشتريات!$F:$F) -> 0 | G64752: =SUMIF(المشتريات!$B:$B,#REF!,المشتريات!#REF!) -> #REF!
... F65740: =SUMIF(المشتريات!$B:$B,#REF!,المشتريات!$F:$F) -> 0 | G65740: =SUMIF(المشتريات!$B:$B,#REF!,المشتريات!#REF!) -> #REF!
F130276: In | G130276: Out
F130277: =SUMIF(المشتريات!$B:$B,#REF!,المشتريات!$F:$F) -> 0 | G130277: =SUMIF(المشتريات!$B:$B,#REF!,المشتريات!#REF!) -> #REF!
F130278: =SUMIF(المشتريات!$B:$B,#REF!,المشتريات!$F:$F) -> 0 | G130278: =SUMIF(المشتريات!$B:$B,#REF!,المشتريات!#REF!) -> #REF!
F130279: =SUMIF(المشتريات!$B:$B,#REF!,المشتريات!$F:$F) -> 0 | G130279: =SUMIF(المشتريات!$B:$B,#REF!,المشتريات!#REF!) -> #REF!
F130280: =SUMIF(المشتريات!$B:$B,#REF!,المشتريات!$F:$F) -> 0 | G130280: =SUMIF(المشتريات!$B:$B,#REF!,المشتريات!#REF!) -> #REF!
F130281: =SUMIF(المشتريات!$B:$B,#REF!,المشتريات!$F:$F) -> 0 | G130281: =SUMIF(المشتريات!$B:$B,#REF!,المشتريات!#REF!) -> #REF!
F130282: =SUMIF(المشتريات!$B:$B,#REF!,المشتريات!$F:$F) -> 0 | G130282: =SUMIF(المشتريات!$B:$B,#REF!,المشتريات!#REF!) -> #REF!
F130283: =SUMIF(المشتريات!$B:$B,#REF!,المشتريات!$F:$F) -> 0 | G130283: =SUMIF(المشتريات!$B:$B,#REF!,المشتريات!#REF!) -> #REF!
F130284: =SUMIF(المشتريات!$B:$B,#REF!,المشتريات!$F:$F) -> 0 | G130284: =SUMIF(المشتريات!$B:$B,#REF!,المشتريات!#REF!) -> #REF!
F130285: =SUMIF(المشتريات!$B:$B,#REF!,المشتريات!$F:$F) -> 0 | G130285: =SUMIF(المشتريات!$B:$B,#REF!,المشتريات!#REF!) -> #REF!
F130286: =SUMIF(المشتريات!$B:$B,#REF!,المشتريات!$F:$F) -> 0 | G130286: =SUMIF(المشتريات!$B:$B,#REF!,المشتريات!#REF!) -> #REF!
F130287: =SUMIF(المشتريات!$B:$B,#REF!,المشتريات!$F:$F) -> 0 | G130287: =SUMIF(المشتريات!$B:$B,#REF!,المشتريات!#REF!) -> #REF!
F130288: =SUMIF(المشتريات!$B:$B,#REF!,المشتريات!$F:$F) -> 0 | G130288: =SUMIF(المشتريات!$B:$B,#REF!,المشتريات!#REF!) -> #REF!
... F131276: =SUMIF(المشتريات!$B:$B,#REF!,المشتريات!$F:$F) -> 0 | G131276: =SUMIF(المشتريات!$B:$B,#REF!,المشتريات!#REF!) -> #REF!
F195812: In | G195812: Out
F195813: =SUMIF(المشتريات!$B:$B,#REF!,المشتريات!$F:$F) -> 0 | G195813: =SUMIF(المشتريات!$B:$B,#REF!,المشتريات!#REF!) -> #REF!
F195814: =SUMIF(المشتريات!$B:$B,#REF!,المشتريات!$F:$F) -> 0 | G195814: =SUMIF(المشتريات!$B:$B,#REF!,المشتريات!#REF!) -> #REF!
F195815: =SUMIF(المشتريات!$B:$B,#REF!,المشتريات!$F:$F) -> 0 | G195815: =SUMIF(المشتريات!$B:$B,#REF!,المشتريات!#REF!) -> #REF!
F195816: =SUMIF(المشتريات!$B:$B,#REF!,المشتريات!$F:$F) -> 0 | G195816: =SUMIF(المشتريات!$B:$B,#REF!,المشتريات!#REF!) -> #REF!
F195817: =SUMIF(المشتريات!$B:$B,#REF!,المشتريات!$F:$F) -> 0 | G195817: =SUMIF(المشتريات!$B:$B,#REF!,المشتريات!#REF!) -> #REF!
F195818: =SUMIF(المشتريات!$B:$B,#REF!,المشتريات!$F:$F) -> 0 | G195818: =SUMIF(المشتريات!$B:$B,#REF!,المشتريات!#REF!) -> #REF!
F195819: =SUMIF(المشتريات!$B:$B,#REF!,المشتريات!$F:$F) -> 0 | G195819: =SUMIF(المشتريات!$B:$B,#REF!,المشتريات!#REF!) -> #REF!
F195820: =SUMIF(المشتريات!$B:$B,#REF!,المشتريات!$F:$F) -> 0 | G195820: =SUMIF(المشتريات!$B:$B,#REF!,المشتريات!#REF!) -> #REF!
F195821: =SUMIF(المشتريات!$B:$B,#REF!,المشتريات!$F:$F) -> 0 | G195821: =SUMIF(المشتريات!$B:$B,#REF!,المشتريات!#REF!) -> #REF!
F195822: =SUMIF(المشتريات!$B:$B,#REF!,المشتريات!$F:$F) -> 0 | G195822: =SUMIF(المشتريات!$B:$B,#REF!,المشتريات!#REF!) -> #REF!
F195823: =SUMIF(المشتريات!$B:$B,#REF!,المشتريات!$F:$F) -> 0 | G195823: =SUMIF(المشتريات!$B:$B,#REF!,المشتريات!#REF!) -> #REF!
F195824: =SUMIF(المشتريات!$B:$B,#REF!,المشتريات!$F:$F) -> 0 | G195824: =SUMIF(المشتريات!$B:$B,#REF!,المشتريات!#REF!) -> #REF!
... F196812: =SUMIF(المشتريات!$B:$B,#REF!,المشتريات!$F:$F) -> 0 | G196812: =SUMIF(المشتريات!$B:$B,#REF!,المشتريات!#REF!) -> #REF!
F261348: In | G261348: Out
F261349: =SUMIF(المشتريات!$B:$B,#REF!,المشتريات!$F:$F) -> 0 | G261349: =SUMIF(المشتريات!$B:$B,#REF!,المشتريات!#REF!) -> #REF!
F261350: =SUMIF(المشتريات!$B:$B,#REF!,المشتريات!$F:$F) -> 0 | G261350: =SUMIF(المشتريات!$B:$B,#REF!,المشتريات!#REF!) -> #REF!
F261351: =SUMIF(المشتريات!$B:$B,#REF!,المشتريات!$F:$F) -> 0 | G261351: =SUMIF(المشتريات!$B:$B,#REF!,المشتريات!#REF!) -> #REF!
F261352: =SUMIF(المشتريات!$B:$B,#REF!,المشتريات!$F:$F) -> 0 | G261352: =SUMIF(المشتريات!$B:$B,#REF!,المشتريات!#REF!) -> #REF!
F261353: =SUMIF(المشتريات!$B:$B,#REF!,المشتريات!$F:$F) -> 0 | G261353: =SUMIF(المشتريات!$B:$B,#REF!,المشتريات!#REF!) -> #REF!
F261354: =SUMIF(المشتريات!$B:$B,#REF!,المشتريات!$F:$F) -> 0 | G261354: =SUMIF(المشتريات!$B:$B,#REF!,المشتريات!#REF!) -> #REF!
F261355: =SUMIF(المشتريات!$B:$B,#REF!,المشتريات!$F:$F) -> 0 | G261355: =SUMIF(المشتريات!$B:$B,#REF!,المشتريات!#REF!) -> #REF!
F261356: =SUMIF(المشتريات!$B:$B,#REF!,المشتريات!$F:$F) -> 0 | G261356: =SUMIF(المشتريات!$B:$B,#REF!,المشتريات!#REF!) -> #REF!
F261357: =SUMIF(المشتريات!$B:$B,#REF!,المشتريات!$F:$F) -> 0 | G261357: =SUMIF(المشتريات!$B:$B,#REF!,المشتريات!#REF!) -> #REF!
F261358: =SUMIF(المشتريات!$B:$B,#REF!,المشتريات!$F:$F) -> 0 | G261358: =SUMIF(المشتريات!$B:$B,#REF!,المشتريات!#REF!) -> #REF!
F261359: =SUMIF(المشتريات!$B:$B,#REF!,المشتريات!$F:$F) -> 0 | G261359: =SUMIF(المشتريات!$B:$B,#REF!,المشتريات!#REF!) -> #REF!
F261360: =SUMIF(المشتريات!$B:$B,#REF!,المشتريات!$F:$F) -> 0 | G261360: =SUMIF(المشتريات!$B:$B,#REF!,المشتريات!#REF!) -> #REF!
... F262348: =SUMIF(المشتريات!$B:$B,#REF!,المشتريات!$F:$F) -> 0 | G262348: =SUMIF(المشتريات!$B:$B,#REF!,المشتريات!#REF!) -> #REF!
F326884: In | G326884: Out
F326885: =SUMIF(المشتريات!$B:$B,#REF!,المشتريات!$F:$F) -> 0 | G326885: =SUMIF(المشتريات!$B:$B,#REF!,المشتريات!#REF!) -> #REF!
F326886: =SUMIF(المشتريات!$B:$B,#REF!,المشتريات!$F:$F) -> 0 | G326886: =SUMIF(المشتريات!$B:$B,#REF!,المشتريات!#REF!) -> #REF!
F326887: =SUMIF(المشتريات!$B:$B,#REF!,المشتريات!$F:$F) -> 0 | G326887: =SUMIF(المشتريات!$B:$B,#REF!,المشتريات!#REF!) -> #REF!
F326888: =SUMIF(المشتريات!$B:$B,#REF!,المشتريات!$F:$F) -> 0 | G326888: =SUMIF(المشتريات!$B:$B,#REF!,المشتريات!#REF!) -> #REF!
F326889: =SUMIF(المشتريات!$B:$B,#REF!,المشتريات!$F:$F) -> 0 | G326889: =SUMIF(المشتريات!$B:$B,#REF!,المشتريات!#REF!) -> #REF!
F326890: =SUMIF(المشتريات!$B:$B,#REF!,المشتريات!$F:$F) -> 0 | G326890: =SUMIF(المشتريات!$B:$B,#REF!,المشتريات!#REF!) -> #REF!
F326891: =SUMIF(المشتريات!$B:$B,#REF!,المشتريات!$F:$F) -> 0 | G326891: =SUMIF(المشتريات!$B:$B,#REF!,المشتريات!#REF!) -> #REF!
F326892: =SUMIF(المشتريات!$B:$B,#REF!,المشتريات!$F:$F) -> 0 | G326892: =SUMIF(المشتريات!$B:$B,#REF!,المشتريات!#REF!) -> #REF!
F326893: =SUMIF(المشتريات!$B:$B,#REF!,المشتريات!$F:$F) -> 0 | G326893: =SUMIF(المشتريات!$B:$B,#REF!,المشتريات!#REF!) -> #REF!
F326894: =SUMIF(المشتريات!$B:$B,#REF!,المشتريات!$F:$F) -> 0 | G326894: =SUMIF(المشتريات!$B:$B,#REF!,المشتريات!#REF!) -> #REF!
F326895: =SUMIF(المشتريات!$B:$B,#REF!,المشتريات!$F:$F) -> 0 | G326895: =SUMIF(المشتريات!$B:$B,#REF!,المشتريات!#REF!) -> #REF!
F326896: =SUMIF(المشتريات!$B:$B,#REF!,المشتريات!$F:$F) -> 0 | G326896: =SUMIF(المشتريات!$B:$B,#REF!,المشتريات!#REF!) -> #REF!
... F327884: =SUMIF(المشتريات!$B:$B,#REF!,المشتريات!$F:$F) -> 0 | G327884: =SUMIF(المشتريات!$B:$B,#REF!,المشتريات!#REF!) -> #REF!
F392420: In | G392420: Out
F392421: =SUMIF(المشتريات!$B:$B,#REF!,المشتريات!$F:$F) -> 0 | G392421: =SUMIF(المشتريات!$B:$B,#REF!,المشتريات!#REF!) -> #REF!
F392422: =SUMIF(المشتريات!$B:$B,#REF!,المشتريات!$F:$F) -> 0 | G392422: =SUMIF(المشتريات!$B:$B,#REF!,المشتريات!#REF!) -> #REF!
F392423: =SUMIF(المشتريات!$B:$B,#REF!,المشتريات!$F:$F) -> 0 | G392423: =SUMIF(المشتريات!$B:$B,#REF!,المشتريات!#REF!) -> #REF!
F392424: =SUMIF(المشتريات!$B:$B,#REF!,المشتريات!$F:$F) -> 0 | G392424: =SUMIF(المشتريات!$B:$B,#REF!,المشتريات!#REF!) -> #REF!
F392425: =SUMIF(المشتريات!$B:$B,#REF!,المشتريات!$F:$F) -> 0 | G392425: =SUMIF(المشتريات!$B:$B,#REF!,المشتريات!#REF!) -> #REF!
F392426: =SUMIF(المشتريات!$B:$B,#REF!,المشتريات!$F:$F) -> 0 | G392426: =SUMIF(المشتريات!$B:$B,#REF!,المشتريات!#REF!) -> #REF!
F392427: =SUMIF(المشتريات!$B:$B,#REF!,المشتريات!$F:$F) -> 0 | G392427: =SUMIF(المشتريات!$B:$B,#REF!,المشتريات!#REF!) -> #REF!
F392428: =SUMIF(المشتريات!$B:$B,#REF!,المشتريات!$F:$F) -> 0 | G392428: =SUMIF(المشتريات!$B:$B,#REF!,المشتريات!#REF!) -> #REF!
F392429: =SUMIF(المشتريات!$B:$B,#REF!,المشتريات!$F:$F) -> 0 | G392429: =SUMIF(المشتريات!$B:$B,#REF!,المشتريات!#REF!) -> #REF!
F392430: =SUMIF(المشتريات!$B:$B,#REF!,المشتريات!$F:$F) -> 0 | G392430: =SUMIF(المشتريات!$B:$B,#REF!,المشتريات!#REF!) -> #REF!
F392431: =SUMIF(المشتريات!$B:$B,#REF!,المشتريات!$F:$F) -> 0 | G392431: =SUMIF(المشتريات!$B:$B,#REF!,المشتريات!#REF!) -> #REF!
F392432: =SUMIF(المشتريات!$B:$B,#REF!,المشتريات!$F:$F) -> 0 | G392432: =SUMIF(المشتريات!$B:$B,#REF!,المشتريات!#REF!) -> #REF!
...

Sheet Manual
A1: عودة إلى الصفحة الرئيسية
G13: هي أول خطوة تبدأ بها في هذا البرنامج، كل ما عليك فعله هو إنشاء كود Code محدد لكل مادة موجودة في مستودعك/مخزنك، ثم إدخال الكمية الموجودة منها لديك. يمكنك إنشاء الكود بالطريقة التي تفضلها مثلاً: A101, A102,A103... كتابة الكمية الموجودة يكون لمرة واحدة فقط.. لا تقم بتغيير الكمية الموجودة ولا تقم بتغيير الكود بعد إنشائه، يمكنك فقط تغيير اسم المادة (الشرح والوصف). لاحقاً، وفي حال شرائك لمادة جديدة (منتج جديد) يجب عليك إنشاء كود جديد لهذه المادة الجديدة هنا وكتابة الرقم صفر عند الكمية، على اعتبار أنك ستقوم بإدخال الكمية التي قمت بشرائها من خلال الضغط لاحقاً على "المشتريات". ــــــــ >>> إدخال البضاعة الموجودة لديك عند البدء باستخدام البرنامج من خلال تعريفها وإضافة كميتها. >>> تعريف المواد الجديدة (إنشاد كود للمواد الجديدة).
G30: عند كل عملية شراء، اضغط على "المشتريات" واكتب كود المنتج (الذي قمت بتعريفه من خلال صفحة تعريف المواد السابقة) ثم قم بإضافة الكمية التي قمت بشرائها. في حال لم تجد كود آو اسم المادة الجديدة، اضغط على"تعريف المواد" وقم بإنشاء كود جديد لهذه المادة مع إضافة الكمبة "صفر"، بعدها اضغط على "مشتريات" وأدخل الكود الجديد والكمية التي قمت بشرائها. كرر الخطوات لباقي المواد التي قمت بشرائها. ـــــ >>> إضافة المشتريات - إدخال كمية المواد التي قمت بشرائها لكل منتج.
G47: عند كل عملية بيع أو استهلاك/استخدام أحد المنتجات/المواد، اضغط على "المبيعات" واكتب الكود للمنتج مع إضافة الكمية التي قمت باستخدامها / بيعها. كرر الخطوات لباقي المواد التي قمت باستخدامها / بيعها. >>> المبيعات - إخراج / طرح الكمية التي قمت ببيعها أو استخدامها من كل منتج.
G66: تقرير يستعرض البضاعة / المواد / المنتجات الموجودة حالياً بالمستودع، الكمية المذكورة في هذا التقرير يجب أن تتطابق مع الجرد الفعلي للبضاعة الموجودة لديك. يمكنك طباعة هذا التقرير في كل مرة تود فيها مطابقة جرد المواد في المستودع أو للاطلاع على كميات المواد الموجودة لديك. ستظهرعبارة "Out of stock" عندما تكون كمية أحد المنتجات / المواد "صفر" ستظهر كلمة "Error" لتنبيهك إذا أدخلت كمية في صفحة المبيعات تفوق/تتجاوز العدد الفعلي / الكمية الفعلية الموجودة لديك ستظهرعبارة "Low Stock" عندما تصبح كمية أحد المنتجات / المواد أقل من 5 على سبيل المثال .. إذا أردت تغيير الحد الأدنى للمواد التي تود إظهار رسالة تنبيه "Low Stock" بجانبها لتنبيهك بأن هذا المنتج متوفرعدد قليل منه ويجب شراء كمية من هذا المنتج قبل نفاذها.. لتغيير هذا الحد الأدنى (التنبيه) قم بتغيير الرقم المذكور بالأسفل.
G81: رسالة التنبيه للحد الأدنى للمواد في المخزن
G82: قم بتغيير هذا الرقم إذا أردت آن تظهر رسالة تنبيه للمواد التي كميتها أقل من عدد معين | I82: 5
