Workbook

Sheet Be4 you start
B2: =DATE(YEAR(TODAY()),I2,1) -> 45901 | I2: =MONTH(TODAY()) -> 9 | J2: =MONTH(TODAY()) -> 9
B3: Sunday | C3: Monday | D3: Tuesday | E3: Wednesday | F3: Thursday | G3: Friday | H3: Saturday
B4: الأحد | C4: الإثنين | D4: الثلاثاء | E4: الأربعاء | F4: الخميس | G4: الجمعة | H4: السبت
B5: =IF(MONTH($B$2)<>MONTH($B$2-WEEKDAY($B$2,1)+(ROW(B5)-ROW($B$5))*7+(COLUMN(B5)-COLUMN($B$5)+1)),"",$B$2-WEEKDAY($B$2,1)+(ROW(B5)-ROW($B$5))*7+(COLUMN(B5)-COLUMN($B$5)+1)) | C5: =IF(MONTH($B$2)<>MONTH($B$2-WEEKDAY($B$2,1)+(ROW(C5)-ROW($B$5))*7+(COLUMN(C5)-COLUMN($B$5)+1)),"",$B$2-WEEKDAY($B$2,1)+(ROW(C5)-ROW($B$5))*7+(COLUMN(C5)-COLUMN($B$5)+1)) -> 45901 | D5: =IF(MONTH($B$2)<>MONTH($B$2-WEEKDAY($B$2,1)+(ROW(D5)-ROW($B$5))*7+(COLUMN(D5)-COLUMN($B$5)+1)),"",$B$2-WEEKDAY($B$2,1)+(ROW(D5)-ROW($B$5))*7+(COLUMN(D5)-COLUMN($B$5)+1)) -> 45902 | E5: =IF(MONTH($B$2)<>MONTH($B$2-WEEKDAY($B$2,1)+(ROW(E5)-ROW($B$5))*7+(COLUMN(E5)-COLUMN($B$5)+1)),"",$B$2-WEEKDAY($B$2,1)+(ROW(E5)-ROW($B$5))*7+(COLUMN(E5)-COLUMN($B$5)+1)) -> 45903 | F5: =IF(MONTH($B$2)<>MONTH($B$2-WEEKDAY($B$2,1)+(ROW(F5)-ROW($B$5))*7+(COLUMN(F5)-COLUMN($B$5)+1)),"",$B$2-WEEKDAY($B$2,1)+(ROW(F5)-ROW($B$5))*7+(COLUMN(F5)-COLUMN($B$5)+1)) -> 45904 | G5: =IF(MONTH($B$2)<>MONTH($B$2-WEEKDAY($B$2,1)+(ROW(G5)-ROW($B$5))*7+(COLUMN(G5)-COLUMN($B$5)+1)),"",$B$2-WEEKDAY($B$2,1)+(ROW(G5)-ROW($B$5))*7+(COLUMN(G5)-COLUMN($B$5)+1)) -> 45905 | H5: =IF(MONTH($B$2)<>MONTH($B$2-WEEKDAY($B$2,1)+(ROW(H5)-ROW($B$5))*7+(COLUMN(H5)-COLUMN($B$5)+1)),"",$B$2-WEEKDAY($B$2,1)+(ROW(H5)-ROW($B$5))*7+(COLUMN(H5)-COLUMN($B$5)+1)) -> 45906
B6: =IF(MONTH($B$2)<>MONTH($B$2-WEEKDAY($B$2,1)+(ROW(B6)-ROW($B$5))*7+(COLUMN(B6)-COLUMN($B$5)+1)),"",$B$2-WEEKDAY($B$2,1)+(ROW(B6)-ROW($B$5))*7+(COLUMN(B6)-COLUMN($B$5)+1)) -> 45907 | C6: =IF(MONTH($B$2)<>MONTH($B$2-WEEKDAY($B$2,1)+(ROW(C6)-ROW($B$5))*7+(COLUMN(C6)-COLUMN($B$5)+1)),"",$B$2-WEEKDAY($B$2,1)+(ROW(C6)-ROW($B$5))*7+(COLUMN(C6)-COLUMN($B$5)+1)) -> 45908 | D6: =IF(MONTH($B$2)<>MONTH($B$2-WEEKDAY($B$2,1)+(ROW(D6)-ROW($B$5))*7+(COLUMN(D6)-COLUMN($B$5)+1)),"",$B$2-WEEKDAY($B$2,1)+(ROW(D6)-ROW($B$5))*7+(COLUMN(D6)-COLUMN($B$5)+1)) -> 45909 | E6: =IF(MONTH($B$2)<>MONTH($B$2-WEEKDAY($B$2,1)+(ROW(E6)-ROW($B$5))*7+(COLUMN(E6)-COLUMN($B$5)+1)),"",$B$2-WEEKDAY($B$2,1)+(ROW(E6)-ROW($B$5))*7+(COLUMN(E6)-COLUMN($B$5)+1)) -> 45910 | F6: =IF(MONTH($B$2)<>MONTH($B$2-WEEKDAY($B$2,1)+(ROW(F6)-ROW($B$5))*7+(COLUMN(F6)-COLUMN($B$5)+1)),"",$B$2-WEEKDAY($B$2,1)+(ROW(F6)-ROW($B$5))*7+(COLUMN(F6)-COLUMN($B$5)+1)) -> 45911 | G6: =IF(MONTH($B$2)<>MONTH($B$2-WEEKDAY($B$2,1)+(ROW(G6)-ROW($B$5))*7+(COLUMN(G6)-COLUMN($B$5)+1)),"",$B$2-WEEKDAY($B$2,1)+(ROW(G6)-ROW($B$5))*7+(COLUMN(G6)-COLUMN($B$5)+1)) -> 45912 | H6: =IF(MONTH($B$2)<>MONTH($B$2-WEEKDAY($B$2,1)+(ROW(H6)-ROW($B$5))*7+(COLUMN(H6)-COLUMN($B$5)+1)),"",$B$2-WEEKDAY($B$2,1)+(ROW(H6)-ROW($B$5))*7+(COLUMN(H6)-COLUMN($B$5)+1)) -> 45913
B7: =IF(MONTH($B$2)<>MONTH($B$2-WEEKDAY($B$2,1)+(ROW(B7)-ROW($B$5))*7+(COLUMN(B7)-COLUMN($B$5)+1)),"",$B$2-WEEKDAY($B$2,1)+(ROW(B7)-ROW($B$5))*7+(COLUMN(B7)-COLUMN($B$5)+1)) -> 45914 | C7: =IF(MONTH($B$2)<>MONTH($B$2-WEEKDAY($B$2,1)+(ROW(C7)-ROW($B$5))*7+(COLUMN(C7)-COLUMN($B$5)+1)),"",$B$2-WEEKDAY($B$2,1)+(ROW(C7)-ROW($B$5))*7+(COLUMN(C7)-COLUMN($B$5)+1)) -> 45915 | D7: =IF(MONTH($B$2)<>MONTH($B$2-WEEKDAY($B$2,1)+(ROW(D7)-ROW($B$5))*7+(COLUMN(D7)-COLUMN($B$5)+1)),"",$B$2-WEEKDAY($B$2,1)+(ROW(D7)-ROW($B$5))*7+(COLUMN(D7)-COLUMN($B$5)+1)) -> 45916 | E7: =IF(MONTH($B$2)<>MONTH($B$2-WEEKDAY($B$2,1)+(ROW(E7)-ROW($B$5))*7+(COLUMN(E7)-COLUMN($B$5)+1)),"",$B$2-WEEKDAY($B$2,1)+(ROW(E7)-ROW($B$5))*7+(COLUMN(E7)-COLUMN($B$5)+1)) -> 45917 | F7: =IF(MONTH($B$2)<>MONTH($B$2-WEEKDAY($B$2,1)+(ROW(F7)-ROW($B$5))*7+(COLUMN(F7)-COLUMN($B$5)+1)),"",$B$2-WEEKDAY($B$2,1)+(ROW(F7)-ROW($B$5))*7+(COLUMN(F7)-COLUMN($B$5)+1)) -> 45918 | G7: =IF(MONTH($B$2)<>MONTH($B$2-WEEKDAY($B$2,1)+(ROW(G7)-ROW($B$5))*7+(COLUMN(G7)-COLUMN($B$5)+1)),"",$B$2-WEEKDAY($B$2,1)+(ROW(G7)-ROW($B$5))*7+(COLUMN(G7)-COLUMN($B$5)+1)) -> 45919 | H7: =IF(MONTH($B$2)<>MONTH($B$2-WEEKDAY($B$2,1)+(ROW(H7)-ROW($B$5))*7+(COLUMN(H7)-COLUMN($B$5)+1)),"",$B$2-WEEKDAY($B$2,1)+(ROW(H7)-ROW($B$5))*7+(COLUMN(H7)-COLUMN($B$5)+1)) -> 45920
B8: =IF(MONTH($B$2)<>MONTH($B$2-WEEKDAY($B$2,1)+(ROW(B8)-ROW($B$5))*7+(COLUMN(B8)-COLUMN($B$5)+1)),"",$B$2-WEEKDAY($B$2,1)+(ROW(B8)-ROW($B$5))*7+(COLUMN(B8)-COLUMN($B$5)+1)) -> 45921 | C8: =IF(MONTH($B$2)<>MONTH($B$2-WEEKDAY($B$2,1)+(ROW(C8)-ROW($B$5))*7+(COLUMN(C8)-COLUMN($B$5)+1)),"",$B$2-WEEKDAY($B$2,1)+(ROW(C8)-ROW($B$5))*7+(COLUMN(C8)-COLUMN($B$5)+1)) -> 45922 | D8: =IF(MONTH($B$2)<>MONTH($B$2-WEEKDAY($B$2,1)+(ROW(D8)-ROW($B$5))*7+(COLUMN(D8)-COLUMN($B$5)+1)),"",$B$2-WEEKDAY($B$2,1)+(ROW(D8)-ROW($B$5))*7+(COLUMN(D8)-COLUMN($B$5)+1)) -> 45923 | E8: =IF(MONTH($B$2)<>MONTH($B$2-WEEKDAY($B$2,1)+(ROW(E8)-ROW($B$5))*7+(COLUMN(E8)-COLUMN($B$5)+1)),"",$B$2-WEEKDAY($B$2,1)+(ROW(E8)-ROW($B$5))*7+(COLUMN(E8)-COLUMN($B$5)+1)) -> 45924 | F8: =IF(MONTH($B$2)<>MONTH($B$2-WEEKDAY($B$2,1)+(ROW(F8)-ROW($B$5))*7+(COLUMN(F8)-COLUMN($B$5)+1)),"",$B$2-WEEKDAY($B$2,1)+(ROW(F8)-ROW($B$5))*7+(COLUMN(F8)-COLUMN($B$5)+1)) -> 45925 | G8: =IF(MONTH($B$2)<>MONTH($B$2-WEEKDAY($B$2,1)+(ROW(G8)-ROW($B$5))*7+(COLUMN(G8)-COLUMN($B$5)+1)),"",$B$2-WEEKDAY($B$2,1)+(ROW(G8)-ROW($B$5))*7+(COLUMN(G8)-COLUMN($B$5)+1)) -> 45926 | H8: =IF(MONTH($B$2)<>MONTH($B$2-WEEKDAY($B$2,1)+(ROW(H8)-ROW($B$5))*7+(COLUMN(H8)-COLUMN($B$5)+1)),"",$B$2-WEEKDAY($B$2,1)+(ROW(H8)-ROW($B$5))*7+(COLUMN(H8)-COLUMN($B$5)+1)) -> 45927
B9: =IF(MONTH($B$2)<>MONTH($B$2-WEEKDAY($B$2,1)+(ROW(B9)-ROW($B$5))*7+(COLUMN(B9)-COLUMN($B$5)+1)),"",$B$2-WEEKDAY($B$2,1)+(ROW(B9)-ROW($B$5))*7+(COLUMN(B9)-COLUMN($B$5)+1)) -> 45928 | C9: =IF(MONTH($B$2)<>MONTH($B$2-WEEKDAY($B$2,1)+(ROW(C9)-ROW($B$5))*7+(COLUMN(C9)-COLUMN($B$5)+1)),"",$B$2-WEEKDAY($B$2,1)+(ROW(C9)-ROW($B$5))*7+(COLUMN(C9)-COLUMN($B$5)+1)) -> 45929 | D9: =IF(MONTH($B$2)<>MONTH($B$2-WEEKDAY($B$2,1)+(ROW(D9)-ROW($B$5))*7+(COLUMN(D9)-COLUMN($B$5)+1)),"",$B$2-WEEKDAY($B$2,1)+(ROW(D9)-ROW($B$5))*7+(COLUMN(D9)-COLUMN($B$5)+1)) -> 45930 | E9: =IF(MONTH($B$2)<>MONTH($B$2-WEEKDAY($B$2,1)+(ROW(E9)-ROW($B$5))*7+(COLUMN(E9)-COLUMN($B$5)+1)),"",$B$2-WEEKDAY($B$2,1)+(ROW(E9)-ROW($B$5))*7+(COLUMN(E9)-COLUMN($B$5)+1)) | F9: =IF(MONTH($B$2)<>MONTH($B$2-WEEKDAY($B$2,1)+(ROW(F9)-ROW($B$5))*7+(COLUMN(F9)-COLUMN($B$5)+1)),"",$B$2-WEEKDAY($B$2,1)+(ROW(F9)-ROW($B$5))*7+(COLUMN(F9)-COLUMN($B$5)+1)) | G9: =IF(MONTH($B$2)<>MONTH($B$2-WEEKDAY($B$2,1)+(ROW(G9)-ROW($B$5))*7+(COLUMN(G9)-COLUMN($B$5)+1)),"",$B$2-WEEKDAY($B$2,1)+(ROW(G9)-ROW($B$5))*7+(COLUMN(G9)-COLUMN($B$5)+1)) | H9: =IF(MONTH($B$2)<>MONTH($B$2-WEEKDAY($B$2,1)+(ROW(H9)-ROW($B$5))*7+(COLUMN(H9)-COLUMN($B$5)+1)),"",$B$2-WEEKDAY($B$2,1)+(ROW(H9)-ROW($B$5))*7+(COLUMN(H9)-COLUMN($B$5)+1))
B10: =IF(MONTH($B$2)<>MONTH($B$2-WEEKDAY($B$2,1)+(ROW(B10)-ROW($B$5))*7+(COLUMN(B10)-COLUMN($B$5)+1)),"",$B$2-WEEKDAY($B$2,1)+(ROW(B10)-ROW($B$5))*7+(COLUMN(B10)-COLUMN($B$5)+1)) | C10: =IF(MONTH($B$2)<>MONTH($B$2-WEEKDAY($B$2,1)+(ROW(C10)-ROW($B$5))*7+(COLUMN(C10)-COLUMN($B$5)+1)),"",$B$2-WEEKDAY($B$2,1)+(ROW(C10)-ROW($B$5))*7+(COLUMN(C10)-COLUMN($B$5)+1)) | D10: =IF(MONTH($B$2)<>MONTH($B$2-WEEKDAY($B$2,1)+(ROW(D10)-ROW($B$5))*7+(COLUMN(D10)-COLUMN($B$5)+1)),"",$B$2-WEEKDAY($B$2,1)+(ROW(D10)-ROW($B$5))*7+(COLUMN(D10)-COLUMN($B$5)+1)) | E10: =IF(MONTH($B$2)<>MONTH($B$2-WEEKDAY($B$2,1)+(ROW(E10)-ROW($B$5))*7+(COLUMN(E10)-COLUMN($B$5)+1)),"",$B$2-WEEKDAY($B$2,1)+(ROW(E10)-ROW($B$5))*7+(COLUMN(E10)-COLUMN($B$5)+1)) | F10: =IF(MONTH($B$2)<>MONTH($B$2-WEEKDAY($B$2,1)+(ROW(F10)-ROW($B$5))*7+(COLUMN(F10)-COLUMN($B$5)+1)),"",$B$2-WEEKDAY($B$2,1)+(ROW(F10)-ROW($B$5))*7+(COLUMN(F10)-COLUMN($B$5)+1)) | G10: =IF(MONTH($B$2)<>MONTH($B$2-WEEKDAY($B$2,1)+(ROW(G10)-ROW($B$5))*7+(COLUMN(G10)-COLUMN($B$5)+1)),"",$B$2-WEEKDAY($B$2,1)+(ROW(G10)-ROW($B$5))*7+(COLUMN(G10)-COLUMN($B$5)+1)) | H10: =IF(MONTH($B$2)<>MONTH($B$2-WEEKDAY($B$2,1)+(ROW(H10)-ROW($B$5))*7+(COLUMN(H10)-COLUMN($B$5)+1)),"",$B$2-WEEKDAY($B$2,1)+(ROW(H10)-ROW($B$5))*7+(COLUMN(H10)-COLUMN($B$5)+1))
S13: Saturday | T13: =IF(S13=$E$17,"",S13) -> Saturday | U13: =IF(T13=$E$16,"",T13) | V13: 7 | W13: 2025
B14: Select Year | E14: 2025 | H14: اختر السنة | S14: Sunday | T14: =IF(S14=$E$17,"",S14) | U14: =IF(T14=$E$16,"",T14) | V14: 1 | W14: 2026
E15: =IF(AND(MOD(E14,4)=0, OR(MOD(E14,100)<>0, MOD(E14,400)=0)), "Leap Year", "") | S15: Monday | T15: =IF(S15=$E$17,"",S15) -> Monday | U15: =IF(T15=$E$16,"",T15) -> Monday | V15: 2 | W15: 2027
B16: Choose Weekend Days | E16: Saturday | H16: اختر أيام العطلة الأسبوعية | K16: =IFERROR(VLOOKUP(E16,S13:V19,4,0),"-") -> 7 | S16: Tuesday | T16: =IF(S16=$E$17,"",S16) -> Tuesday | U16: =IF(T16=$E$16,"",T16) -> Tuesday | V16: 3 | W16: 2028
E17: Sunday | K17: =IFERROR(VLOOKUP(E17,S14:V20,4,0),"-") -> 1 | S17: Wednesday | T17: =IF(S17=$E$17,"",S17) -> Wednesday | U17: =IF(T17=$E$16,"",T17) -> Wednesday | V17: 4 | W17: 2029
S18: Thursday | T18: =IF(S18=$E$17,"",S18) -> Thursday | U18: =IF(T18=$E$16,"",T18) -> Thursday | V18: 5 | W18: 2030
B19: Employees' Names | H19: أسماء الموظفين | S19: Friday | T19: =IF(S19=$E$17,"",S19) -> Friday | U19: =IF(T19=$E$16,"",T19) -> Friday | V19: 6 | W19: 2031
E20: Mustafa Habra | W20: 2032
E21: Waseem Zeitouni | W21: 2033
E22: Lubna R | W22: 2034
E23: Lubna Q
E24: Moataz Al Sakka
E25: Yara
E26: Jaida
E27: Denise
E28: Wisam
E29: Tahani
E30: ياسمين
B32: Number of Employees | E32: =COUNTA(E20:F30) -> 11 | H32: عدد الموظفين | S32: =E32-E36 -> 7
B34: Vacation Warning: Too Many Vacations in One Day | F34: التنبيه عند وجود عدة إجازات بنفس اليوم
D36: Set Limit: | E36: 4
E37: Minimum | F37: على الأقل

Sheet Enter Data Here
C1: Enter Data Here
C2: Insert the vacation plan for each employee
C3: ="Year "&'Leave Plan'!B1 -> Year 2025
C5: ='Be4 you start'!E20 -> Mustafa Habra | E5: ='Be4 you start'!E21 -> Waseem Zeitouni | G5: ='Be4 you start'!E22 -> Lubna R | I5: ='Be4 you start'!E23 -> Lubna Q | K5: ='Be4 you start'!E24 -> Moataz Al Sakka | M5: ='Be4 you start'!E25 -> Yara | O5: ='Be4 you start'!E26 -> Jaida | Q5: ='Be4 you start'!E27 -> Denise | S5: ='Be4 you start'!E28 -> Wisam | U5: ='Be4 you start'!E29 -> Tahani | W5: ='Be4 you start'!E30 -> ياسمين
C6: =SUBSTITUTE(ADDRESS(1, COLUMN(C5), 4), "1", "") -> C | E6: =SUBSTITUTE(ADDRESS(1, COLUMN(E5), 4), "1", "") -> E | G6: =SUBSTITUTE(ADDRESS(1, COLUMN(G5), 4), "1", "") -> G | I6: =SUBSTITUTE(ADDRESS(1, COLUMN(I5), 4), "1", "") -> I | K6: =SUBSTITUTE(ADDRESS(1, COLUMN(K5), 4), "1", "") -> K | M6: =SUBSTITUTE(ADDRESS(1, COLUMN(M5), 4), "1", "") -> M | O6: =SUBSTITUTE(ADDRESS(1, COLUMN(O5), 4), "1", "") -> O | Q6: =SUBSTITUTE(ADDRESS(1, COLUMN(Q5), 4), "1", "") -> Q | S6: =SUBSTITUTE(ADDRESS(1, COLUMN(S5), 4), "1", "") -> S | U6: =SUBSTITUTE(ADDRESS(1, COLUMN(U5), 4), "1", "") -> U | W6: =SUBSTITUTE(ADDRESS(1, COLUMN(W5), 4), "1", "") -> W
A7: From | C7: 45658 | E7: 45672 | G7: 45662 | I7: 45689 | K7: 45663 | M7: 45719 | O7: 45992 | Q7: 45762 | S7: 45787 | U7: 45815 | W7: 46017
A8: To | C8: 45688 | E8: 45687 | G8: 45664 | I8: 45716 | K8: 45667 | M8: 45731 | O8: 46022 | Q8: 45791 | S8: 45817 | U8: 45816 | W8: 46022
A10: From | E10: 45689 | G10: 46014 | I10: 45992 | K10: 45702 | M10: 45778 | Q10: 46020 | S10: 46021 | U10: 45870
A11: To | E11: 45703 | G11: 46020 | I11: 45994 | K11: 45716 | M11: 45782 | Q11: 46022 | S11: 46022 | U11: 45891
A13: From | I13: 46013 | K13: 45748 | M13: 45839 | U13: 45912
A14: To | I14: 46022 | K14: 45762 | M14: 45846 | U14: 45916
A16: From | K16: 45997 | M16: 46019
A17: To | K17: 45997 | M17: 46022
A19: From
A20: To

Sheet Leave Plan
B1: ='Be4 you start'!E14 -> 2025
F3: =WEEKDAY(F5) -> 4 | G3: =WEEKDAY(G5) -> 5 | H3: =WEEKDAY(H5) -> 6 | I3: =WEEKDAY(I5) -> 7 | J3: =WEEKDAY(J5) -> 1 | K3: =WEEKDAY(K5) -> 2 | L3: =WEEKDAY(L5) -> 3 | M3: =WEEKDAY(M5) -> 4 | ... AJ3: =WEEKDAY(AJ5) -> 6
F4: =COUNTBLANK(F7:F17)-'Be4 you start'!$S$32 -> 3 | G4: =COUNTBLANK(G7:G17)-'Be4 you start'!$S$32 -> 3 | H4: =COUNTBLANK(H7:H17)-'Be4 you start'!$S$32 -> 3 | I4: =COUNTBLANK(I7:I17)-'Be4 you start'!$S$32 -> 3 | J4: =COUNTBLANK(J7:J17)-'Be4 you start'!$S$32 -> 2 | K4: =COUNTBLANK(K7:K17)-'Be4 you start'!$S$32 -> 1 | L4: =COUNTBLANK(L7:L17)-'Be4 you start'!$S$32 -> 1 | M4: =COUNTBLANK(M7:M17)-'Be4 you start'!$S$32 -> 2 | ... AJ4: =COUNTBLANK(AJ7:AJ17)-'Be4 you start'!$S$32 -> 3
D5: January | E5: 1 | F5: =DATE($B$1,$E$5,F6) -> 45658 | G5: =DATE($B$1,$E$5,G6) -> 45659 | H5: =DATE($B$1,$E$5,H6) -> 45660 | I5: =DATE($B$1,$E$5,I6) -> 45661 | J5: =DATE($B$1,$E$5,J6) -> 45662 | K5: =DATE($B$1,$E$5,K6) -> 45663 | L5: =DATE($B$1,$E$5,L6) -> 45664 | M5: =DATE($B$1,$E$5,M6) -> 45665 | ... AJ5: =DATE($B$1,$E$5,AJ6) -> 45688
F6: 1 | G6: 2 | H6: 3 | I6: 4 | J6: 5 | K6: 6 | L6: 7 | M6: 8 | N6: 9 | O6: 10 | P6: 11 | Q6: 12 | R6: 13 | S6: 14 | T6: 15 | U6: 16 | V6: 17 | W6: 18 | X6: 19 | Y6: 20 | Z6: 21 | AA6: 22 | AB6: 23 | AC6: 24 | AD6: 25 | AE6: 26 | AF6: 27 | AG6: 28 | AH6: 29 | AI6: 30 | AJ6: 31
B7: ='Be4 you start'!E20 -> Mustafa Habra | F7: {=IF(AND(F$5>=INDIRECT("'Enter Data Here'!"&HLOOKUP($B7,'Enter Data Here'!$5:$6,2,0)&"$7"),F$5<=INDIRECT("'Enter Data Here'!"&HLOOKUP($B7,'Enter Data Here'!$5:$6,2,0)&"$8")),$B7,IF(AND(F$5>=INDIRECT("'Enter Data Here'!"&HLOOKUP($B7,'Enter Data Here'!$5:$6,2,0)&"$10"),F$5<=INDIRECT("'Enter Data Here'!"&HLOOKUP($B7,'Enter Data Here'!$5:$6,2,0)&"$11")),$B7,IF(AND(F$5>=INDIRECT("'Enter Data Here'!"&HLOOKUP($B7,'Enter Data Here'!$5:$6,2,0)&"$13"),F$5<=INDIRECT("'Enter Data Here'!"&HLOOKUP($B7,'Enter Data Here'!$5:$6,2,0)&"$14")),$B7,IF(AND(F$5>=INDIRECT("'Enter Data Here'!"&HLOOKUP($B7,'Enter Data Here'!$5:$6,2,0)&"$16"),F$5<=INDIRECT("'Enter Data Here'!"&HLOOKUP($B7,'Enter Data Here'!$5:$6,2,0)&"$17")),$B7,IF(AND(F$5>=INDIRECT("'Enter Data Here'!"&HLOOKUP($B7,'Enter Data Here'!$5:$6,2,0)&"$19"),F$5<=INDIRECT("'Enter Data Here'!"&HLOOKUP($B7,'Enter Data Here'!$5:$6,2,0)&"$20")),$B7,"")))))} -> Mustafa Habra | G7: {=IF(AND(G$5>=INDIRECT("'Enter Data Here'!"&HLOOKUP($B7,'Enter Data Here'!$5:$6,2,0)&"$7"),G$5<=INDIRECT("'Enter Data Here'!"&HLOOKUP($B7,'Enter Data Here'!$5:$6,2,0)&"$8")),$B7,IF(AND(G$5>=INDIRECT("'Enter Data Here'!"&HLOOKUP($B7,'Enter Data Here'!$5:$6,2,0)&"$10"),G$5<=INDIRECT("'Enter Data Here'!"&HLOOKUP($B7,'Enter Data Here'!$5:$6,2,0)&"$11")),$B7,IF(AND(G$5>=INDIRECT("'Enter Data Here'!"&HLOOKUP($B7,'Enter Data Here'!$5:$6,2,0)&"$13"),G$5<=INDIRECT("'Enter Data Here'!"&HLOOKUP($B7,'Enter Data Here'!$5:$6,2,0)&"$14")),$B7,IF(AND(G$5>=INDIRECT("'Enter Data Here'!"&HLOOKUP($B7,'Enter Data Here'!$5:$6,2,0)&"$16"),G$5<=INDIRECT("'Enter Data Here'!"&HLOOKUP($B7,'Enter Data Here'!$5:$6,2,0)&"$17")),$B7,IF(AND(G$5>=INDIRECT("'Enter Data Here'!"&HLOOKUP($B7,'Enter Data Here'!$5:$6,2,0)&"$19"),G$5<=INDIRECT("'Enter Data Here'!"&HLOOKUP($B7,'Enter Data Here'!$5:$6,2,0)&"$20")),$B7,"")))))} -> Mustafa Habra | H7: {=IF(AND(H$5>=INDIRECT("'Enter Data Here'!"&HLOOKUP($B7,'Enter Data Here'!$5:$6,2,0)&"$7"),H$5<=INDIRECT("'Enter Data Here'!"&HLOOKUP($B7,'Enter Data Here'!$5:$6,2,0)&"$8")),$B7,IF(AND(H$5>=INDIRECT("'Enter Data Here'!"&HLOOKUP($B7,'Enter Data Here'!$5:$6,2,0)&"$10"),H$5<=INDIRECT("'Enter Data Here'!"&HLOOKUP($B7,'Enter Data Here'!$5:$6,2,0)&"$11")),$B7,IF(AND(H$5>=INDIRECT("'Enter Data Here'!"&HLOOKUP($B7,'Enter Data Here'!$5:$6,2,0)&"$13"),H$5<=INDIRECT("'Enter Data Here'!"&HLOOKUP($B7,'Enter Data Here'!$5:$6,2,0)&"$14")),$B7,IF(AND(H$5>=INDIRECT("'Enter Data Here'!"&HLOOKUP($B7,'Enter Data Here'!$5:$6,2,0)&"$16"),H$5<=INDIRECT("'Enter Data Here'!"&HLOOKUP($B7,'Enter Data Here'!$5:$6,2,0)&"$17")),$B7,IF(AND(H$5>=INDIRECT("'Enter Data Here'!"&HLOOKUP($B7,'Enter Data Here'!$5:$6,2,0)&"$19"),H$5<=INDIRECT("'Enter Data Here'!"&HLOOKUP($B7,'Enter Data Here'!$5:$6,2,0)&"$20")),$B7,"")))))} -> Mustafa Habra | I7: {=IF(AND(I$5>=INDIRECT("'Enter Data Here'!"&HLOOKUP($B7,'Enter Data Here'!$5:$6,2,0)&"$7"),I$5<=INDIRECT("'Enter Data Here'!"&HLOOKUP($B7,'Enter Data Here'!$5:$6,2,0)&"$8")),$B7,IF(AND(I$5>=INDIRECT("'Enter Data Here'!"&HLOOKUP($B7,'Enter Data Here'!$5:$6,2,0)&"$10"),I$5<=INDIRECT("'Enter Data Here'!"&HLOOKUP($B7,'Enter Data Here'!$5:$6,2,0)&"$11")),$B7,IF(AND(I$5>=INDIRECT("'Enter Data Here'!"&HLOOKUP($B7,'Enter Data Here'!$5:$6,2,0)&"$13"),I$5<=INDIRECT("'Enter Data Here'!"&HLOOKUP($B7,'Enter Data Here'!$5:$6,2,0)&"$14")),$B7,IF(AND(I$5>=INDIRECT("'Enter Data Here'!"&HLOOKUP($B7,'Enter Data Here'!$5:$6,2,0)&"$16"),I$5<=INDIRECT("'Enter Data Here'!"&HLOOKUP($B7,'Enter Data Here'!$5:$6,2,0)&"$17")),$B7,IF(AND(I$5>=INDIRECT("'Enter Data Here'!"&HLOOKUP($B7,'Enter Data Here'!$5:$6,2,0)&"$19"),I$5<=INDIRECT("'Enter Data Here'!"&HLOOKUP($B7,'Enter Data Here'!$5:$6,2,0)&"$20")),$B7,"")))))} -> Mustafa Habra | J7: {=IF(AND(J$5>=INDIRECT("'Enter Data Here'!"&HLOOKUP($B7,'Enter Data Here'!$5:$6,2,0)&"$7"),J$5<=INDIRECT("'Enter Data Here'!"&HLOOKUP($B7,'Enter Data Here'!$5:$6,2,0)&"$8")),$B7,IF(AND(J$5>=INDIRECT("'Enter Data Here'!"&HLOOKUP($B7,'Enter Data Here'!$5:$6,2,0)&"$10"),J$5<=INDIRECT("'Enter Data Here'!"&HLOOKUP($B7,'Enter Data Here'!$5:$6,2,0)&"$11")),$B7,IF(AND(J$5>=INDIRECT("'Enter Data Here'!"&HLOOKUP($B7,'Enter Data Here'!$5:$6,2,0)&"$13"),J$5<=INDIRECT("'Enter Data Here'!"&HLOOKUP($B7,'Enter Data Here'!$5:$6,2,0)&"$14")),$B7,IF(AND(J$5>=INDIRECT("'Enter Data Here'!"&HLOOKUP($B7,'Enter Data Here'!$5:$6,2,0)&"$16"),J$5<=INDIRECT("'Enter Data Here'!"&HLOOKUP($B7,'Enter Data Here'!$5:$6,2,0)&"$17")),$B7,IF(AND(J$5>=INDIRECT("'Enter Data Here'!"&HLOOKUP($B7,'Enter Data Here'!$5:$6,2,0)&"$19"),J$5<=INDIRECT("'Enter Data Here'!"&HLOOKUP($B7,'Enter Data Here'!$5:$6,2,0)&"$20")),$B7,"")))))} -> Mustafa Habra | K7: {=IF(AND(K$5>=INDIRECT("'Enter Data Here'!"&HLOOKUP($B7,'Enter Data Here'!$5:$6,2,0)&"$7"),K$5<=INDIRECT("'Enter Data Here'!"&HLOOKUP($B7,'Enter Data Here'!$5:$6,2,0)&"$8")),$B7,IF(AND(K$5>=INDIRECT("'Enter Data Here'!"&HLOOKUP($B7,'Enter Data Here'!$5:$6,2,0)&"$10"),K$5<=INDIRECT("'Enter Data Here'!"&HLOOKUP($B7,'Enter Data Here'!$5:$6,2,0)&"$11")),$B7,IF(AND(K$5>=INDIRECT("'Enter Data Here'!"&HLOOKUP($B7,'Enter Data Here'!$5:$6,2,0)&"$13"),K$5<=INDIRECT("'Enter Data Here'!"&HLOOKUP($B7,'Enter Data Here'!$5:$6,2,0)&"$14")),$B7,IF(AND(K$5>=INDIRECT("'Enter Data Here'!"&HLOOKUP($B7,'Enter Data Here'!$5:$6,2,0)&"$16"),K$5<=INDIRECT("'Enter Data Here'!"&HLOOKUP($B7,'Enter Data Here'!$5:$6,2,0)&"$17")),$B7,IF(AND(K$5>=INDIRECT("'Enter Data Here'!"&HLOOKUP($B7,'Enter Data Here'!$5:$6,2,0)&"$19"),K$5<=INDIRECT("'Enter Data Here'!"&HLOOKUP($B7,'Enter Data Here'!$5:$6,2,0)&"$20")),$B7,"")))))} -> Mustafa Habra | L7: {=IF(AND(L$5>=INDIRECT("'Enter Data Here'!"&HLOOKUP($B7,'Enter Data Here'!$5:$6,2,0)&"$7"),L$5<=INDIRECT("'Enter Data Here'!"&HLOOKUP($B7,'Enter Data Here'!$5:$6,2,0)&"$8")),$B7,IF(AND(L$5>=INDIRECT("'Enter Data Here'!"&HLOOKUP($B7,'Enter Data Here'!$5:$6,2,0)&"$10"),L$5<=INDIRECT("'Enter Data Here'!"&HLOOKUP($B7,'Enter Data Here'!$5:$6,2,0)&"$11")),$B7,IF(AND(L$5>=INDIRECT("'Enter Data Here'!"&HLOOKUP($B7,'Enter Data Here'!$5:$6,2,0)&"$13"),L$5<=INDIRECT("'Enter Data Here'!"&HLOOKUP($B7,'Enter Data Here'!$5:$6,2,0)&"$14")),$B7,IF(AND(L$5>=INDIRECT("'Enter Data Here'!"&HLOOKUP($B7,'Enter Data Here'!$5:$6,2,0)&"$16"),L$5<=INDIRECT("'Enter Data Here'!"&HLOOKUP($B7,'Enter Data Here'!$5:$6,2,0)&"$17")),$B7,IF(AND(L$5>=INDIRECT("'Enter Data Here'!"&HLOOKUP($B7,'Enter Data Here'!$5:$6,2,0)&"$19"),L$5<=INDIRECT("'Enter Data Here'!"&HLOOKUP($B7,'Enter Data Here'!$5:$6,2,0)&"$20")),$B7,"")))))} -> Mustafa Habra | M7: {=IF(AND(M$5>=INDIRECT("'Enter Data Here'!"&HLOOKUP($B7,'Enter Data Here'!$5:$6,2,0)&"$7"),M$5<=INDIRECT("'Enter Data Here'!"&HLOOKUP($B7,'Enter Data Here'!$5:$6,2,0)&"$8")),$B7,IF(AND(M$5>=INDIRECT("'Enter Data Here'!"&HLOOKUP($B7,'Enter Data Here'!$5:$6,2,0)&"$10"),M$5<=INDIRECT("'Enter Data Here'!"&HLOOKUP($B7,'Enter Data Here'!$5:$6,2,0)&"$11")),$B7,IF(AND(M$5>=INDIRECT("'Enter Data Here'!"&HLOOKUP($B7,'Enter Data Here'!$5:$6,2,0)&"$13"),M$5<=INDIRECT("'Enter Data Here'!"&HLOOKUP($B7,'Enter Data Here'!$5:$6,2,0)&"$14")),$B7,IF(AND(M$5>=INDIRECT("'Enter Data Here'!"&HLOOKUP($B7,'Enter Data Here'!$5:$6,2,0)&"$16"),M$5<=INDIRECT("'Enter Data Here'!"&HLOOKUP($B7,'Enter Data Here'!$5:$6,2,0)&"$17")),$B7,IF(AND(M$5>=INDIRECT("'Enter Data Here'!"&HLOOKUP($B7,'Enter Data Here'!$5:$6,2,0)&"$19"),M$5<=INDIRECT("'Enter Data Here'!"&HLOOKUP($B7,'Enter Data Here'!$5:$6,2,0)&"$20")),$B7,"")))))} -> Mustafa Habra | ... AJ7: {=IF(AND(AJ$5>=INDIRECT("'Enter Data Here'!"&HLOOKUP($B7,'Enter Data Here'!$5:$6,2,0)&"$7"),AJ$5<=INDIRECT("'Enter Data Here'!"&HLOOKUP($B7,'Enter Data Here'!$5:$6,2,0)&"$8")),$B7,IF(AND(AJ$5>=INDIRECT("'Enter Data Here'!"&HLOOKUP($B7,'Enter Data Here'!$5:$6,2,0)&"$10"),AJ$5<=INDIRECT("'Enter Data Here'!"&HLOOKUP($B7,'Enter Data Here'!$5:$6,2,0)&"$11")),$B7,IF(AND(AJ$5>=INDIRECT("'Enter Data Here'!"&HLOOKUP($B7,'Enter Data Here'!$5:$6,2,0)&"$13"),AJ$5<=INDIRECT("'Enter Data Here'!"&HLOOKUP($B7,'Enter Data Here'!$5:$6,2,0)&"$14")),$B7,IF(AND(AJ$5>=INDIRECT("'Enter Data Here'!"&HLOOKUP($B7,'Enter Data Here'!$5:$6,2,0)&"$16"),AJ$5<=INDIRECT("'Enter Data Here'!"&HLOOKUP($B7,'Enter Data Here'!$5:$6,2,0)&"$17")),$B7,IF(AND(AJ$5>=INDIRECT("'Enter Data Here'!"&HLOOKUP($B7,'Enter Data Here'!$5:$6,2,0)&"$19"),AJ$5<=INDIRECT("'Enter Data Here'!"&HLOOKUP($B7,'Enter Data Here'!$5:$6,2,0)&"$20")),$B7,"")))))} -> Mustafa Habra
B8: ='Be4 you start'!E21 -> Waseem Zeitouni | F8: {=IF(AND(F$5>=INDIRECT("'Enter Data Here'!"&HLOOKUP($B8,'Enter Data Here'!$5:$6,2,0)&"$7"),F$5<=INDIRECT("'Enter Data Here'!"&HLOOKUP($B8,'Enter Data Here'!$5:$6,2,0)&"$8")),$B8,IF(AND(F$5>=INDIRECT("'Enter Data Here'!"&HLOOKUP($B8,'Enter Data Here'!$5:$6,2,0)&"$10"),F$5<=INDIRECT("'Enter Data Here'!"&HLOOKUP($B8,'Enter Data Here'!$5:$6,2,0)&"$11")),$B8,IF(AND(F$5>=INDIRECT("'Enter Data Here'!"&HLOOKUP($B8,'Enter Data Here'!$5:$6,2,0)&"$13"),F$5<=INDIRECT("'Enter Data Here'!"&HLOOKUP($B8,'Enter Data Here'!$5:$6,2,0)&"$14")),$B8,IF(AND(F$5>=INDIRECT("'Enter Data Here'!"&HLOOKUP($B8,'Enter Data Here'!$5:$6,2,0)&"$16"),F$5<=INDIRECT("'Enter Data Here'!"&HLOOKUP($B8,'Enter Data Here'!$5:$6,2,0)&"$17")),$B8,IF(AND(F$5>=INDIRECT("'Enter Data Here'!"&HLOOKUP($B8,'Enter Data Here'!$5:$6,2,0)&"$19"),F$5<=INDIRECT("'Enter Data Here'!"&HLOOKUP($B8,'Enter Data Here'!$5:$6,2,0)&"$20")),$B8,"")))))} | G8: {=IF(AND(G$5>=INDIRECT("'Enter Data Here'!"&HLOOKUP($B8,'Enter Data Here'!$5:$6,2,0)&"$7"),G$5<=INDIRECT("'Enter Data Here'!"&HLOOKUP($B8,'Enter Data Here'!$5:$6,2,0)&"$8")),$B8,IF(AND(G$5>=INDIRECT("'Enter Data Here'!"&HLOOKUP($B8,'Enter Data Here'!$5:$6,2,0)&"$10"),G$5<=INDIRECT("'Enter Data Here'!"&HLOOKUP($B8,'Enter Data Here'!$5:$6,2,0)&"$11")),$B8,IF(AND(G$5>=INDIRECT("'Enter Data Here'!"&HLOOKUP($B8,'Enter Data Here'!$5:$6,2,0)&"$13"),G$5<=INDIRECT("'Enter Data Here'!"&HLOOKUP($B8,'Enter Data Here'!$5:$6,2,0)&"$14")),$B8,IF(AND(G$5>=INDIRECT("'Enter Data Here'!"&HLOOKUP($B8,'Enter Data Here'!$5:$6,2,0)&"$16"),G$5<=INDIRECT("'Enter Data Here'!"&HLOOKUP($B8,'Enter Data Here'!$5:$6,2,0)&"$17")),$B8,IF(AND(G$5>=INDIRECT("'Enter Data Here'!"&HLOOKUP($B8,'Enter Data Here'!$5:$6,2,0)&"$19"),G$5<=INDIRECT("'Enter Data Here'!"&HLOOKUP($B8,'Enter Data Here'!$5:$6,2,0)&"$20")),$B8,"")))))} | H8: {=IF(AND(H$5>=INDIRECT("'Enter Data Here'!"&HLOOKUP($B8,'Enter Data Here'!$5:$6,2,0)&"$7"),H$5<=INDIRECT("'Enter Data Here'!"&HLOOKUP($B8,'Enter Data Here'!$5:$6,2,0)&"$8")),$B8,IF(AND(H$5>=INDIRECT("'Enter Data Here'!"&HLOOKUP($B8,'Enter Data Here'!$5:$6,2,0)&"$10"),H$5<=INDIRECT("'Enter Data Here'!"&HLOOKUP($B8,'Enter Data Here'!$5:$6,2,0)&"$11")),$B8,IF(AND(H$5>=INDIRECT("'Enter Data Here'!"&HLOOKUP($B8,'Enter Data Here'!$5:$6,2,0)&"$13"),H$5<=INDIRECT("'Enter Data Here'!"&HLOOKUP($B8,'Enter Data Here'!$5:$6,2,0)&"$14")),$B8,IF(AND(H$5>=INDIRECT("'Enter Data Here'!"&HLOOKUP($B8,'Enter Data Here'!$5:$6,2,0)&"$16"),H$5<=INDIRECT("'Enter Data Here'!"&HLOOKUP($B8,'Enter Data Here'!$5:$6,2,0)&"$17")),$B8,IF(AND(H$5>=INDIRECT("'Enter Data Here'!"&HLOOKUP($B8,'Enter Data Here'!$5:$6,2,0)&"$19"),H$5<=INDIRECT("'Enter Data Here'!"&HLOOKUP($B8,'Enter Data Here'!$5:$6,2,0)&"$20")),$B8,"")))))} | I8: {=IF(AND(I$5>=INDIRECT("'Enter Data Here'!"&HLOOKUP($B8,'Enter Data Here'!$5:$6,2,0)&"$7"),I$5<=INDIRECT("'Enter Data Here'!"&HLOOKUP($B8,'Enter Data Here'!$5:$6,2,0)&"$8")),$B8,IF(AND(I$5>=INDIRECT("'Enter Data Here'!"&HLOOKUP($B8,'Enter Data Here'!$5:$6,2,0)&"$10"),I$5<=INDIRECT("'Enter Data Here'!"&HLOOKUP($B8,'Enter Data Here'!$5:$6,2,0)&"$11")),$B8,IF(AND(I$5>=INDIRECT("'Enter Data Here'!"&HLOOKUP($B8,'Enter Data Here'!$5:$6,2,0)&"$13"),I$5<=INDIRECT("'Enter Data Here'!"&HLOOKUP($B8,'Enter Data Here'!$5:$6,2,0)&"$14")),$B8,IF(AND(I$5>=INDIRECT("'Enter Data Here'!"&HLOOKUP($B8,'Enter Data Here'!$5:$6,2,0)&"$16"),I$5<=INDIRECT("'Enter Data Here'!"&HLOOKUP($B8,'Enter Data Here'!$5:$6,2,0)&"$17")),$B8,IF(AND(I$5>=INDIRECT("'Enter Data Here'!"&HLOOKUP($B8,'Enter Data Here'!$5:$6,2,0)&"$19"),I$5<=INDIRECT("'Enter Data Here'!"&HLOOKUP($B8,'Enter Data Here'!$5:$6,2,0)&"$20")),$B8,"")))))} | J8: {=IF(AND(J$5>=INDIRECT("'Enter Data Here'!"&HLOOKUP($B8,'Enter Data Here'!$5:$6,2,0)&"$7"),J$5<=INDIRECT("'Enter Data Here'!"&HLOOKUP($B8,'Enter Data Here'!$5:$6,2,0)&"$8")),$B8,IF(AND(J$5>=INDIRECT("'Enter Data Here'!"&HLOOKUP($B8,'Enter Data Here'!$5:$6,2,0)&"$10"),J$5<=INDIRECT("'Enter Data Here'!"&HLOOKUP($B8,'Enter Data Here'!$5:$6,2,0)&"$11")),$B8,IF(AND(J$5>=INDIRECT("'Enter Data Here'!"&HLOOKUP($B8,'Enter Data Here'!$5:$6,2,0)&"$13"),J$5<=INDIRECT("'Enter Data Here'!"&HLOOKUP($B8,'Enter Data Here'!$5:$6,2,0)&"$14")),$B8,IF(AND(J$5>=INDIRECT("'Enter Data Here'!"&HLOOKUP($B8,'Enter Data Here'!$5:$6,2,0)&"$16"),J$5<=INDIRECT("'Enter Data Here'!"&HLOOKUP($B8,'Enter Data Here'!$5:$6,2,0)&"$17")),$B8,IF(AND(J$5>=INDIRECT("'Enter Data Here'!"&HLOOKUP($B8,'Enter Data Here'!$5:$6,2,0)&"$19"),J$5<=INDIRECT("'Enter Data Here'!"&HLOOKUP($B8,'Enter Data Here'!$5:$6,2,0)&"$20")),$B8,"")))))} | K8: {=IF(AND(K$5>=INDIRECT("'Enter Data Here'!"&HLOOKUP($B8,'Enter Data Here'!$5:$6,2,0)&"$7"),K$5<=INDIRECT("'Enter Data Here'!"&HLOOKUP($B8,'Enter Data Here'!$5:$6,2,0)&"$8")),$B8,IF(AND(K$5>=INDIRECT("'Enter Data Here'!"&HLOOKUP($B8,'Enter Data Here'!$5:$6,2,0)&"$10"),K$5<=INDIRECT("'Enter Data Here'!"&HLOOKUP($B8,'Enter Data Here'!$5:$6,2,0)&"$11")),$B8,IF(AND(K$5>=INDIRECT("'Enter Data Here'!"&HLOOKUP($B8,'Enter Data Here'!$5:$6,2,0)&"$13"),K$5<=INDIRECT("'Enter Data Here'!"&HLOOKUP($B8,'Enter Data Here'!$5:$6,2,0)&"$14")),$B8,IF(AND(K$5>=INDIRECT("'Enter Data Here'!"&HLOOKUP($B8,'Enter Data Here'!$5:$6,2,0)&"$16"),K$5<=INDIRECT("'Enter Data Here'!"&HLOOKUP($B8,'Enter Data Here'!$5:$6,2,0)&"$17")),$B8,IF(AND(K$5>=INDIRECT("'Enter Data Here'!"&HLOOKUP($B8,'Enter Data Here'!$5:$6,2,0)&"$19"),K$5<=INDIRECT("'Enter Data Here'!"&HLOOKUP($B8,'Enter Data Here'!$5:$6,2,0)&"$20")),$B8,"")))))} | L8: {=IF(AND(L$5>=INDIRECT("'Enter Data Here'!"&HLOOKUP($B8,'Enter Data Here'!$5:$6,2,0)&"$7"),L$5<=INDIRECT("'Enter Data Here'!"&HLOOKUP($B8,'Enter Data Here'!$5:$6,2,0)&"$8")),$B8,IF(AND(L$5>=INDIRECT("'Enter Data Here'!"&HLOOKUP($B8,'Enter Data Here'!$5:$6,2,0)&"$10"),L$5<=INDIRECT("'Enter Data Here'!"&HLOOKUP($B8,'Enter Data Here'!$5:$6,2,0)&"$11")),$B8,IF(AND(L$5>=INDIRECT("'Enter Data Here'!"&HLOOKUP($B8,'Enter Data Here'!$5:$6,2,0)&"$13"),L$5<=INDIRECT("'Enter Data Here'!"&HLOOKUP($B8,'Enter Data Here'!$5:$6,2,0)&"$14")),$B8,IF(AND(L$5>=INDIRECT("'Enter Data Here'!"&HLOOKUP($B8,'Enter Data Here'!$5:$6,2,0)&"$16"),L$5<=INDIRECT("'Enter Data Here'!"&HLOOKUP($B8,'Enter Data Here'!$5:$6,2,0)&"$17")),$B8,IF(AND(L$5>=INDIRECT("'Enter Data Here'!"&HLOOKUP($B8,'Enter Data Here'!$5:$6,2,0)&"$19"),L$5<=INDIRECT("'Enter Data Here'!"&HLOOKUP($B8,'Enter Data Here'!$5:$6,2,0)&"$20")),$B8,"")))))} | M8: {=IF(AND(M$5>=INDIRECT("'Enter Data Here'!"&HLOOKUP($B8,'Enter Data Here'!$5:$6,2,0)&"$7"),M$5<=INDIRECT("'Enter Data Here'!"&HLOOKUP($B8,'Enter Data Here'!$5:$6,2,0)&"$8")),$B8,IF(AND(M$5>=INDIRECT("'Enter Data Here'!"&HLOOKUP($B8,'Enter Data Here'!$5:$6,2,0)&"$10"),M$5<=INDIRECT("'Enter Data Here'!"&HLOOKUP($B8,'Enter Data Here'!$5:$6,2,0)&"$11")),$B8,IF(AND(M$5>=INDIRECT("'Enter Data Here'!"&HLOOKUP($B8,'Enter Data Here'!$5:$6,2,0)&"$13"),M$5<=INDIRECT("'Enter Data Here'!"&HLOOKUP($B8,'Enter Data Here'!$5:$6,2,0)&"$14")),$B8,IF(AND(M$5>=INDIRECT("'Enter Data Here'!"&HLOOKUP($B8,'Enter Data Here'!$5:$6,2,0)&"$16"),M$5<=INDIRECT("'Enter Data Here'!"&HLOOKUP($B8,'Enter Data Here'!$5:$6,2,0)&"$17")),$B8,IF(AND(M$5>=INDIRECT("'Enter Data Here'!"&HLOOKUP($B8,'Enter Data Here'!$5:$6,2,0)&"$19"),M$5<=INDIRECT("'Enter Data Here'!"&HLOOKUP($B8,'Enter Data Here'!$5:$6,2,0)&"$20")),$B8,"")))))} | ... AJ8: {=IF(AND(AJ$5>=INDIRECT("'Enter Data Here'!"&HLOOKUP($B8,'Enter Data Here'!$5:$6,2,0)&"$7"),AJ$5<=INDIRECT("'Enter Data Here'!"&HLOOKUP($B8,'Enter Data Here'!$5:$6,2,0)&"$8")),$B8,IF(AND(AJ$5>=INDIRECT("'Enter Data Here'!"&HLOOKUP($B8,'Enter Data Here'!$5:$6,2,0)&"$10"),AJ$5<=INDIRECT("'Enter Data Here'!"&HLOOKUP($B8,'Enter Data Here'!$5:$6,2,0)&"$11")),$B8,IF(AND(AJ$5>=INDIRECT("'Enter Data Here'!"&HLOOKUP($B8,'Enter Data Here'!$5:$6,2,0)&"$13"),AJ$5<=INDIRECT("'Enter Data Here'!"&HLOOKUP($B8,'Enter Data Here'!$5:$6,2,0)&"$14")),$B8,IF(AND(AJ$5>=INDIRECT("'Enter Data Here'!"&HLOOKUP($B8,'Enter Data Here'!$5:$6,2,0)&"$16"),AJ$5<=INDIRECT("'Enter Data Here'!"&HLOOKUP($B8,'Enter Data Here'!$5:$6,2,0)&"$17")),$B8,IF(AND(AJ$5>=INDIRECT("'Enter Data Here'!"&HLOOKUP($B8,'Enter Data Here'!$5:$6,2,0)&"$19"),AJ$5<=INDIRECT("'Enter Data Here'!"&HLOOKUP($B8,'Enter Data Here'!$5:$6,2,0)&"$20")),$B8,"")))))}
B9: ='Be4 you start'!E22 -> Lubna R | F9: {=IF(AND(F$5>=INDIRECT("'Enter Data Here'!"&HLOOKUP($B9,'Enter Data Here'!$5:$6,2,0)&"$7"),F$5<=INDIRECT("'Enter Data Here'!"&HLOOKUP($B9,'Enter Data Here'!$5:$6,2,0)&"$8")),$B9,IF(AND(F$5>=INDIRECT("'Enter Data Here'!"&HLOOKUP($B9,'Enter Data Here'!$5:$6,2,0)&"$10"),F$5<=INDIRECT("'Enter Data Here'!"&HLOOKUP($B9,'Enter Data Here'!$5:$6,2,0)&"$11")),$B9,IF(AND(F$5>=INDIRECT("'Enter Data Here'!"&HLOOKUP($B9,'Enter Data Here'!$5:$6,2,0)&"$13"),F$5<=INDIRECT("'Enter Data Here'!"&HLOOKUP($B9,'Enter Data Here'!$5:$6,2,0)&"$14")),$B9,IF(AND(F$5>=INDIRECT("'Enter Data Here'!"&HLOOKUP($B9,'Enter Data Here'!$5:$6,2,0)&"$16"),F$5<=INDIRECT("'Enter Data Here'!"&HLOOKUP($B9,'Enter Data Here'!$5:$6,2,0)&"$17")),$B9,IF(AND(F$5>=INDIRECT("'Enter Data Here'!"&HLOOKUP($B9,'Enter Data Here'!$5:$6,2,0)&"$19"),F$5<=INDIRECT("'Enter Data Here'!"&HLOOKUP($B9,'Enter Data Here'!$5:$6,2,0)&"$20")),$B9,"")))))} | G9: {=IF(AND(G$5>=INDIRECT("'Enter Data Here'!"&HLOOKUP($B9,'Enter Data Here'!$5:$6,2,0)&"$7"),G$5<=INDIRECT("'Enter Data Here'!"&HLOOKUP($B9,'Enter Data Here'!$5:$6,2,0)&"$8")),$B9,IF(AND(G$5>=INDIRECT("'Enter Data Here'!"&HLOOKUP($B9,'Enter Data Here'!$5:$6,2,0)&"$10"),G$5<=INDIRECT("'Enter Data Here'!"&HLOOKUP($B9,'Enter Data Here'!$5:$6,2,0)&"$11")),$B9,IF(AND(G$5>=INDIRECT("'Enter Data Here'!"&HLOOKUP($B9,'Enter Data Here'!$5:$6,2,0)&"$13"),G$5<=INDIRECT("'Enter Data Here'!"&HLOOKUP($B9,'Enter Data Here'!$5:$6,2,0)&"$14")),$B9,IF(AND(G$5>=INDIRECT("'Enter Data Here'!"&HLOOKUP($B9,'Enter Data Here'!$5:$6,2,0)&"$16"),G$5<=INDIRECT("'Enter Data Here'!"&HLOOKUP($B9,'Enter Data Here'!$5:$6,2,0)&"$17")),$B9,IF(AND(G$5>=INDIRECT("'Enter Data Here'!"&HLOOKUP($B9,'Enter Data Here'!$5:$6,2,0)&"$19"),G$5<=INDIRECT("'Enter Data Here'!"&HLOOKUP($B9,'Enter Data Here'!$5:$6,2,0)&"$20")),$B9,"")))))} | H9: {=IF(AND(H$5>=INDIRECT("'Enter Data Here'!"&HLOOKUP($B9,'Enter Data Here'!$5:$6,2,0)&"$7"),H$5<=INDIRECT("'Enter Data Here'!"&HLOOKUP($B9,'Enter Data Here'!$5:$6,2,0)&"$8")),$B9,IF(AND(H$5>=INDIRECT("'Enter Data Here'!"&HLOOKUP($B9,'Enter Data Here'!$5:$6,2,0)&"$10"),H$5<=INDIRECT("'Enter Data Here'!"&HLOOKUP($B9,'Enter Data Here'!$5:$6,2,0)&"$11")),$B9,IF(AND(H$5>=INDIRECT("'Enter Data Here'!"&HLOOKUP($B9,'Enter Data Here'!$5:$6,2,0)&"$13"),H$5<=INDIRECT("'Enter Data Here'!"&HLOOKUP($B9,'Enter Data Here'!$5:$6,2,0)&"$14")),$B9,IF(AND(H$5>=INDIRECT("'Enter Data Here'!"&HLOOKUP($B9,'Enter Data Here'!$5:$6,2,0)&"$16"),H$5<=INDIRECT("'Enter Data Here'!"&HLOOKUP($B9,'Enter Data Here'!$5:$6,2,0)&"$17")),$B9,IF(AND(H$5>=INDIRECT("'Enter Data Here'!"&HLOOKUP($B9,'Enter Data Here'!$5:$6,2,0)&"$19"),H$5<=INDIRECT("'Enter Data Here'!"&HLOOKUP($B9,'Enter Data Here'!$5:$6,2,0)&"$20")),$B9,"")))))} | I9: {=IF(AND(I$5>=INDIRECT("'Enter Data Here'!"&HLOOKUP($B9,'Enter Data Here'!$5:$6,2,0)&"$7"),I$5<=INDIRECT("'Enter Data Here'!"&HLOOKUP($B9,'Enter Data Here'!$5:$6,2,0)&"$8")),$B9,IF(AND(I$5>=INDIRECT("'Enter Data Here'!"&HLOOKUP($B9,'Enter Data Here'!$5:$6,2,0)&"$10"),I$5<=INDIRECT("'Enter Data Here'!"&HLOOKUP($B9,'Enter Data Here'!$5:$6,2,0)&"$11")),$B9,IF(AND(I$5>=INDIRECT("'Enter Data Here'!"&HLOOKUP($B9,'Enter Data Here'!$5:$6,2,0)&"$13"),I$5<=INDIRECT("'Enter Data Here'!"&HLOOKUP($B9,'Enter Data Here'!$5:$6,2,0)&"$14")),$B9,IF(AND(I$5>=INDIRECT("'Enter Data Here'!"&HLOOKUP($B9,'Enter Data Here'!$5:$6,2,0)&"$16"),I$5<=INDIRECT("'Enter Data Here'!"&HLOOKUP($B9,'Enter Data Here'!$5:$6,2,0)&"$17")),$B9,IF(AND(I$5>=INDIRECT("'Enter Data Here'!"&HLOOKUP($B9,'Enter Data Here'!$5:$6,2,0)&"$19"),I$5<=INDIRECT("'Enter Data Here'!"&HLOOKUP($B9,'Enter Data Here'!$5:$6,2,0)&"$20")),$B9,"")))))} | J9: {=IF(AND(J$5>=INDIRECT("'Enter Data Here'!"&HLOOKUP($B9,'Enter Data Here'!$5:$6,2,0)&"$7"),J$5<=INDIRECT("'Enter Data Here'!"&HLOOKUP($B9,'Enter Data Here'!$5:$6,2,0)&"$8")),$B9,IF(AND(J$5>=INDIRECT("'Enter Data Here'!"&HLOOKUP($B9,'Enter Data Here'!$5:$6,2,0)&"$10"),J$5<=INDIRECT("'Enter Data Here'!"&HLOOKUP($B9,'Enter Data Here'!$5:$6,2,0)&"$11")),$B9,IF(AND(J$5>=INDIRECT("'Enter Data Here'!"&HLOOKUP($B9,'Enter Data Here'!$5:$6,2,0)&"$13"),J$5<=INDIRECT("'Enter Data Here'!"&HLOOKUP($B9,'Enter Data Here'!$5:$6,2,0)&"$14")),$B9,IF(AND(J$5>=INDIRECT("'Enter Data Here'!"&HLOOKUP($B9,'Enter Data Here'!$5:$6,2,0)&"$16"),J$5<=INDIRECT("'Enter Data Here'!"&HLOOKUP($B9,'Enter Data Here'!$5:$6,2,0)&"$17")),$B9,IF(AND(J$5>=INDIRECT("'Enter Data Here'!"&HLOOKUP($B9,'Enter Data Here'!$5:$6,2,0)&"$19"),J$5<=INDIRECT("'Enter Data Here'!"&HLOOKUP($B9,'Enter Data Here'!$5:$6,2,0)&"$20")),$B9,"")))))} -> Lubna R | K9: {=IF(AND(K$5>=INDIRECT("'Enter Data Here'!"&HLOOKUP($B9,'Enter Data Here'!$5:$6,2,0)&"$7"),K$5<=INDIRECT("'Enter Data Here'!"&HLOOKUP($B9,'Enter Data Here'!$5:$6,2,0)&"$8")),$B9,IF(AND(K$5>=INDIRECT("'Enter Data Here'!"&HLOOKUP($B9,'Enter Data Here'!$5:$6,2,0)&"$10"),K$5<=INDIRECT("'Enter Data Here'!"&HLOOKUP($B9,'Enter Data Here'!$5:$6,2,0)&"$11")),$B9,IF(AND(K$5>=INDIRECT("'Enter Data Here'!"&HLOOKUP($B9,'Enter Data Here'!$5:$6,2,0)&"$13"),K$5<=INDIRECT("'Enter Data Here'!"&HLOOKUP($B9,'Enter Data Here'!$5:$6,2,0)&"$14")),$B9,IF(AND(K$5>=INDIRECT("'Enter Data Here'!"&HLOOKUP($B9,'Enter Data Here'!$5:$6,2,0)&"$16"),K$5<=INDIRECT("'Enter Data Here'!"&HLOOKUP($B9,'Enter Data Here'!$5:$6,2,0)&"$17")),$B9,IF(AND(K$5>=INDIRECT("'Enter Data Here'!"&HLOOKUP($B9,'Enter Data Here'!$5:$6,2,0)&"$19"),K$5<=INDIRECT("'Enter Data Here'!"&HLOOKUP($B9,'Enter Data Here'!$5:$6,2,0)&"$20")),$B9,"")))))} -> Lubna R | L9: {=IF(AND(L$5>=INDIRECT("'Enter Data Here'!"&HLOOKUP($B9,'Enter Data Here'!$5:$6,2,0)&"$7"),L$5<=INDIRECT("'Enter Data Here'!"&HLOOKUP($B9,'Enter Data Here'!$5:$6,2,0)&"$8")),$B9,IF(AND(L$5>=INDIRECT("'Enter Data Here'!"&HLOOKUP($B9,'Enter Data Here'!$5:$6,2,0)&"$10"),L$5<=INDIRECT("'Enter Data Here'!"&HLOOKUP($B9,'Enter Data Here'!$5:$6,2,0)&"$11")),$B9,IF(AND(L$5>=INDIRECT("'Enter Data Here'!"&HLOOKUP($B9,'Enter Data Here'!$5:$6,2,0)&"$13"),L$5<=INDIRECT("'Enter Data Here'!"&HLOOKUP($B9,'Enter Data Here'!$5:$6,2,0)&"$14")),$B9,IF(AND(L$5>=INDIRECT("'Enter Data Here'!"&HLOOKUP($B9,'Enter Data Here'!$5:$6,2,0)&"$16"),L$5<=INDIRECT("'Enter Data Here'!"&HLOOKUP($B9,'Enter Data Here'!$5:$6,2,0)&"$17")),$B9,IF(AND(L$5>=INDIRECT("'Enter Data Here'!"&HLOOKUP($B9,'Enter Data Here'!$5:$6,2,0)&"$19"),L$5<=INDIRECT("'Enter Data Here'!"&HLOOKUP($B9,'Enter Data Here'!$5:$6,2,0)&"$20")),$B9,"")))))} -> Lubna R | M9: {=IF(AND(M$5>=INDIRECT("'Enter Data Here'!"&HLOOKUP($B9,'Enter Data Here'!$5:$6,2,0)&"$7"),M$5<=INDIRECT("'Enter Data Here'!"&HLOOKUP($B9,'Enter Data Here'!$5:$6,2,0)&"$8")),$B9,IF(AND(M$5>=INDIRECT("'Enter Data Here'!"&HLOOKUP($B9,'Enter Data Here'!$5:$6,2,0)&"$10"),M$5<=INDIRECT("'Enter Data Here'!"&HLOOKUP($B9,'Enter Data Here'!$5:$6,2,0)&"$11")),$B9,IF(AND(M$5>=INDIRECT("'Enter Data Here'!"&HLOOKUP($B9,'Enter Data Here'!$5:$6,2,0)&"$13"),M$5<=INDIRECT("'Enter Data Here'!"&HLOOKUP($B9,'Enter Data Here'!$5:$6,2,0)&"$14")),$B9,IF(AND(M$5>=INDIRECT("'Enter Data Here'!"&HLOOKUP($B9,'Enter Data Here'!$5:$6,2,0)&"$16"),M$5<=INDIRECT("'Enter Data Here'!"&HLOOKUP($B9,'Enter Data Here'!$5:$6,2,0)&"$17")),$B9,IF(AND(M$5>=INDIRECT("'Enter Data Here'!"&HLOOKUP($B9,'Enter Data Here'!$5:$6,2,0)&"$19"),M$5<=INDIRECT("'Enter Data Here'!"&HLOOKUP($B9,'Enter Data Here'!$5:$6,2,0)&"$20")),$B9,"")))))} | ... AJ9: {=IF(AND(AJ$5>=INDIRECT("'Enter Data Here'!"&HLOOKUP($B9,'Enter Data Here'!$5:$6,2,0)&"$7"),AJ$5<=INDIRECT("'Enter Data Here'!"&HLOOKUP($B9,'Enter Data Here'!$5:$6,2,0)&"$8")),$B9,IF(AND(AJ$5>=INDIRECT("'Enter Data Here'!"&HLOOKUP($B9,'Enter Data Here'!$5:$6,2,0)&"$10"),AJ$5<=INDIRECT("'Enter Data Here'!"&HLOOKUP($B9,'Enter Data Here'!$5:$6,2,0)&"$11")),$B9,IF(AND(AJ$5>=INDIRECT("'Enter Data Here'!"&HLOOKUP($B9,'Enter Data Here'!$5:$6,2,0)&"$13"),AJ$5<=INDIRECT("'Enter Data Here'!"&HLOOKUP($B9,'Enter Data Here'!$5:$6,2,0)&"$14")),$B9,IF(AND(AJ$5>=INDIRECT("'Enter Data Here'!"&HLOOKUP($B9,'Enter Data Here'!$5:$6,2,0)&"$16"),AJ$5<=INDIRECT("'Enter Data Here'!"&HLOOKUP($B9,'Enter Data Here'!$5:$6,2,0)&"$17")),$B9,IF(AND(AJ$5>=INDIRECT("'Enter Data Here'!"&HLOOKUP($B9,'Enter Data Here'!$5:$6,2,0)&"$19"),AJ$5<=INDIRECT("'Enter Data Here'!"&HLOOKUP($B9,'Enter Data Here'!$5:$6,2,0)&"$20")),$B9,"")))))}
B10: ='Be4 you start'!E23 -> Lubna Q | F10: {=IF(AND(F$5>=INDIRECT("'Enter Data Here'!"&HLOOKUP($B10,'Enter Data Here'!$5:$6,2,0)&"$7"),F$5<=INDIRECT("'Enter Data Here'!"&HLOOKUP($B10,'Enter Data Here'!$5:$6,2,0)&"$8")),$B10,IF(AND(F$5>=INDIRECT("'Enter Data Here'!"&HLOOKUP($B10,'Enter Data Here'!$5:$6,2,0)&"$10"),F$5<=INDIRECT("'Enter Data Here'!"&HLOOKUP($B10,'Enter Data Here'!$5:$6,2,0)&"$11")),$B10,IF(AND(F$5>=INDIRECT("'Enter Data Here'!"&HLOOKUP($B10,'Enter Data Here'!$5:$6,2,0)&"$13"),F$5<=INDIRECT("'Enter Data Here'!"&HLOOKUP($B10,'Enter Data Here'!$5:$6,2,0)&"$14")),$B10,IF(AND(F$5>=INDIRECT("'Enter Data Here'!"&HLOOKUP($B10,'Enter Data Here'!$5:$6,2,0)&"$16"),F$5<=INDIRECT("'Enter Data Here'!"&HLOOKUP($B10,'Enter Data Here'!$5:$6,2,0)&"$17")),$B10,IF(AND(F$5>=INDIRECT("'Enter Data Here'!"&HLOOKUP($B10,'Enter Data Here'!$5:$6,2,0)&"$19"),F$5<=INDIRECT("'Enter Data Here'!"&HLOOKUP($B10,'Enter Data Here'!$5:$6,2,0)&"$20")),$B10,"")))))} | G10: {=IF(AND(G$5>=INDIRECT("'Enter Data Here'!"&HLOOKUP($B10,'Enter Data Here'!$5:$6,2,0)&"$7"),G$5<=INDIRECT("'Enter Data Here'!"&HLOOKUP($B10,'Enter Data Here'!$5:$6,2,0)&"$8")),$B10,IF(AND(G$5>=INDIRECT("'Enter Data Here'!"&HLOOKUP($B10,'Enter Data Here'!$5:$6,2,0)&"$10"),G$5<=INDIRECT("'Enter Data Here'!"&HLOOKUP($B10,'Enter Data Here'!$5:$6,2,0)&"$11")),$B10,IF(AND(G$5>=INDIRECT("'Enter Data Here'!"&HLOOKUP($B10,'Enter Data Here'!$5:$6,2,0)&"$13"),G$5<=INDIRECT("'Enter Data Here'!"&HLOOKUP($B10,'Enter Data Here'!$5:$6,2,0)&"$14")),$B10,IF(AND(G$5>=INDIRECT("'Enter Data Here'!"&HLOOKUP($B10,'Enter Data Here'!$5:$6,2,0)&"$16"),G$5<=INDIRECT("'Enter Data Here'!"&HLOOKUP($B10,'Enter Data Here'!$5:$6,2,0)&"$17")),$B10,IF(AND(G$5>=INDIRECT("'Enter Data Here'!"&HLOOKUP($B10,'Enter Data Here'!$5:$6,2,0)&"$19"),G$5<=INDIRECT("'Enter Data Here'!"&HLOOKUP($B10,'Enter Data Here'!$5:$6,2,0)&"$20")),$B10,"")))))} | H10: {=IF(AND(H$5>=INDIRECT("'Enter Data Here'!"&HLOOKUP($B10,'Enter Data Here'!$5:$6,2,0)&"$7"),H$5<=INDIRECT("'Enter Data Here'!"&HLOOKUP($B10,'Enter Data Here'!$5:$6,2,0)&"$8")),$B10,IF(AND(H$5>=INDIRECT("'Enter Data Here'!"&HLOOKUP($B10,'Enter Data Here'!$5:$6,2,0)&"$10"),H$5<=INDIRECT("'Enter Data Here'!"&HLOOKUP($B10,'Enter Data Here'!$5:$6,2,0)&"$11")),$B10,IF(AND(H$5>=INDIRECT("'Enter Data Here'!"&HLOOKUP($B10,'Enter Data Here'!$5:$6,2,0)&"$13"),H$5<=INDIRECT("'Enter Data Here'!"&HLOOKUP($B10,'Enter Data Here'!$5:$6,2,0)&"$14")),$B10,IF(AND(H$5>=INDIRECT("'Enter Data Here'!"&HLOOKUP($B10,'Enter Data Here'!$5:$6,2,0)&"$16"),H$5<=INDIRECT("'Enter Data Here'!"&HLOOKUP($B10,'Enter Data Here'!$5:$6,2,0)&"$17")),$B10,IF(AND(H$5>=INDIRECT("'Enter Data Here'!"&HLOOKUP($B10,'Enter Data Here'!$5:$6,2,0)&"$19"),H$5<=INDIRECT("'Enter Data Here'!"&HLOOKUP($B10,'Enter Data Here'!$5:$6,2,0)&"$20")),$B10,"")))))} | I10: {=IF(AND(I$5>=INDIRECT("'Enter Data Here'!"&HLOOKUP($B10,'Enter Data Here'!$5:$6,2,0)&"$7"),I$5<=INDIRECT("'Enter Data Here'!"&HLOOKUP($B10,'Enter Data Here'!$5:$6,2,0)&"$8")),$B10,IF(AND(I$5>=INDIRECT("'Enter Data Here'!"&HLOOKUP($B10,'Enter Data Here'!$5:$6,2,0)&"$10"),I$5<=INDIRECT("'Enter Data Here'!"&HLOOKUP($B10,'Enter Data Here'!$5:$6,2,0)&"$11")),$B10,IF(AND(I$5>=INDIRECT("'Enter Data Here'!"&HLOOKUP($B10,'Enter Data Here'!$5:$6,2,0)&"$13"),I$5<=INDIRECT("'Enter Data Here'!"&HLOOKUP($B10,'Enter Data Here'!$5:$6,2,0)&"$14")),$B10,IF(AND(I$5>=INDIRECT("'Enter Data Here'!"&HLOOKUP($B10,'Enter Data Here'!$5:$6,2,0)&"$16"),I$5<=INDIRECT("'Enter Data Here'!"&HLOOKUP($B10,'Enter Data Here'!$5:$6,2,0)&"$17")),$B10,IF(AND(I$5>=INDIRECT("'Enter Data Here'!"&HLOOKUP($B10,'Enter Data Here'!$5:$6,2,0)&"$19"),I$5<=INDIRECT("'Enter Data Here'!"&HLOOKUP($B10,'Enter Data Here'!$5:$6,2,0)&"$20")),$B10,"")))))} | J10: {=IF(AND(J$5>=INDIRECT("'Enter Data Here'!"&HLOOKUP($B10,'Enter Data Here'!$5:$6,2,0)&"$7"),J$5<=INDIRECT("'Enter Data Here'!"&HLOOKUP($B10,'Enter Data Here'!$5:$6,2,0)&"$8")),$B10,IF(AND(J$5>=INDIRECT("'Enter Data Here'!"&HLOOKUP($B10,'Enter Data Here'!$5:$6,2,0)&"$10"),J$5<=INDIRECT("'Enter Data Here'!"&HLOOKUP($B10,'Enter Data Here'!$5:$6,2,0)&"$11")),$B10,IF(AND(J$5>=INDIRECT("'Enter Data Here'!"&HLOOKUP($B10,'Enter Data Here'!$5:$6,2,0)&"$13"),J$5<=INDIRECT("'Enter Data Here'!"&HLOOKUP($B10,'Enter Data Here'!$5:$6,2,0)&"$14")),$B10,IF(AND(J$5>=INDIRECT("'Enter Data Here'!"&HLOOKUP($B10,'Enter Data Here'!$5:$6,2,0)&"$16"),J$5<=INDIRECT("'Enter Data Here'!"&HLOOKUP($B10,'Enter Data Here'!$5:$6,2,0)&"$17")),$B10,IF(AND(J$5>=INDIRECT("'Enter Data Here'!"&HLOOKUP($B10,'Enter Data Here'!$5:$6,2,0)&"$19"),J$5<=INDIRECT("'Enter Data Here'!"&HLOOKUP($B10,'Enter Data Here'!$5:$6,2,0)&"$20")),$B10,"")))))} | K10: {=IF(AND(K$5>=INDIRECT("'Enter Data Here'!"&HLOOKUP($B10,'Enter Data Here'!$5:$6,2,0)&"$7"),K$5<=INDIRECT("'Enter Data Here'!"&HLOOKUP($B10,'Enter Data Here'!$5:$6,2,0)&"$8")),$B10,IF(AND(K$5>=INDIRECT("'Enter Data Here'!"&HLOOKUP($B10,'Enter Data Here'!$5:$6,2,0)&"$10"),K$5<=INDIRECT("'Enter Data Here'!"&HLOOKUP($B10,'Enter Data Here'!$5:$6,2,0)&"$11")),$B10,IF(AND(K$5>=INDIRECT("'Enter Data Here'!"&HLOOKUP($B10,'Enter Data Here'!$5:$6,2,0)&"$13"),K$5<=INDIRECT("'Enter Data Here'!"&HLOOKUP($B10,'Enter Data Here'!$5:$6,2,0)&"$14")),$B10,IF(AND(K$5>=INDIRECT("'Enter Data Here'!"&HLOOKUP($B10,'Enter Data Here'!$5:$6,2,0)&"$16"),K$5<=INDIRECT("'Enter Data Here'!"&HLOOKUP($B10,'Enter Data Here'!$5:$6,2,0)&"$17")),$B10,IF(AND(K$5>=INDIRECT("'Enter Data Here'!"&HLOOKUP($B10,'Enter Data Here'!$5:$6,2,0)&"$19"),K$5<=INDIRECT("'Enter Data Here'!"&HLOOKUP($B10,'Enter Data Here'!$5:$6,2,0)&"$20")),$B10,"")))))} | L10: {=IF(AND(L$5>=INDIRECT("'Enter Data Here'!"&HLOOKUP($B10,'Enter Data Here'!$5:$6,2,0)&"$7"),L$5<=INDIRECT("'Enter Data Here'!"&HLOOKUP($B10,'Enter Data Here'!$5:$6,2,0)&"$8")),$B10,IF(AND(L$5>=INDIRECT("'Enter Data Here'!"&HLOOKUP($B10,'Enter Data Here'!$5:$6,2,0)&"$10"),L$5<=INDIRECT("'Enter Data Here'!"&HLOOKUP($B10,'Enter Data Here'!$5:$6,2,0)&"$11")),$B10,IF(AND(L$5>=INDIRECT("'Enter Data Here'!"&HLOOKUP($B10,'Enter Data Here'!$5:$6,2,0)&"$13"),L$5<=INDIRECT("'Enter Data Here'!"&HLOOKUP($B10,'Enter Data Here'!$5:$6,2,0)&"$14")),$B10,IF(AND(L$5>=INDIRECT("'Enter Data Here'!"&HLOOKUP($B10,'Enter Data Here'!$5:$6,2,0)&"$16"),L$5<=INDIRECT("'Enter Data Here'!"&HLOOKUP($B10,'Enter Data Here'!$5:$6,2,0)&"$17")),$B10,IF(AND(L$5>=INDIRECT("'Enter Data Here'!"&HLOOKUP($B10,'Enter Data Here'!$5:$6,2,0)&"$19"),L$5<=INDIRECT("'Enter Data Here'!"&HLOOKUP($B10,'Enter Data Here'!$5:$6,2,0)&"$20")),$B10,"")))))} | M10: {=IF(AND(M$5>=INDIRECT("'Enter Data Here'!"&HLOOKUP($B10,'Enter Data Here'!$5:$6,2,0)&"$7"),M$5<=INDIRECT("'Enter Data Here'!"&HLOOKUP($B10,'Enter Data Here'!$5:$6,2,0)&"$8")),$B10,IF(AND(M$5>=INDIRECT("'Enter Data Here'!"&HLOOKUP($B10,'Enter Data Here'!$5:$6,2,0)&"$10"),M$5<=INDIRECT("'Enter Data Here'!"&HLOOKUP($B10,'Enter Data Here'!$5:$6,2,0)&"$11")),$B10,IF(AND(M$5>=INDIRECT("'Enter Data Here'!"&HLOOKUP($B10,'Enter Data Here'!$5:$6,2,0)&"$13"),M$5<=INDIRECT("'Enter Data Here'!"&HLOOKUP($B10,'Enter Data Here'!$5:$6,2,0)&"$14")),$B10,IF(AND(M$5>=INDIRECT("'Enter Data Here'!"&HLOOKUP($B10,'Enter Data Here'!$5:$6,2,0)&"$16"),M$5<=INDIRECT("'Enter Data Here'!"&HLOOKUP($B10,'Enter Data Here'!$5:$6,2,0)&"$17")),$B10,IF(AND(M$5>=INDIRECT("'Enter Data Here'!"&HLOOKUP($B10,'Enter Data Here'!$5:$6,2,0)&"$19"),M$5<=INDIRECT("'Enter Data Here'!"&HLOOKUP($B10,'Enter Data Here'!$5:$6,2,0)&"$20")),$B10,"")))))} | ... AJ10: {=IF(AND(AJ$5>=INDIRECT("'Enter Data Here'!"&HLOOKUP($B10,'Enter Data Here'!$5:$6,2,0)&"$7"),AJ$5<=INDIRECT("'Enter Data Here'!"&HLOOKUP($B10,'Enter Data Here'!$5:$6,2,0)&"$8")),$B10,IF(AND(AJ$5>=INDIRECT("'Enter Data Here'!"&HLOOKUP($B10,'Enter Data Here'!$5:$6,2,0)&"$10"),AJ$5<=INDIRECT("'Enter Data Here'!"&HLOOKUP($B10,'Enter Data Here'!$5:$6,2,0)&"$11")),$B10,IF(AND(AJ$5>=INDIRECT("'Enter Data Here'!"&HLOOKUP($B10,'Enter Data Here'!$5:$6,2,0)&"$13"),AJ$5<=INDIRECT("'Enter Data Here'!"&HLOOKUP($B10,'Enter Data Here'!$5:$6,2,0)&"$14")),$B10,IF(AND(AJ$5>=INDIRECT("'Enter Data Here'!"&HLOOKUP($B10,'Enter Data Here'!$5:$6,2,0)&"$16"),AJ$5<=INDIRECT("'Enter Data Here'!"&HLOOKUP($B10,'Enter Data Here'!$5:$6,2,0)&"$17")),$B10,IF(AND(AJ$5>=INDIRECT("'Enter Data Here'!"&HLOOKUP($B10,'Enter Data Here'!$5:$6,2,0)&"$19"),AJ$5<=INDIRECT("'Enter Data Here'!"&HLOOKUP($B10,'Enter Data Here'!$5:$6,2,0)&"$20")),$B10,"")))))}
B11: ='Be4 you start'!E24 -> Moataz Al Sakka | F11: {=IF(AND(F$5>=INDIRECT("'Enter Data Here'!"&HLOOKUP($B11,'Enter Data Here'!$5:$6,2,0)&"$7"),F$5<=INDIRECT("'Enter Data Here'!"&HLOOKUP($B11,'Enter Data Here'!$5:$6,2,0)&"$8")),$B11,IF(AND(F$5>=INDIRECT("'Enter Data Here'!"&HLOOKUP($B11,'Enter Data Here'!$5:$6,2,0)&"$10"),F$5<=INDIRECT("'Enter Data Here'!"&HLOOKUP($B11,'Enter Data Here'!$5:$6,2,0)&"$11")),$B11,IF(AND(F$5>=INDIRECT("'Enter Data Here'!"&HLOOKUP($B11,'Enter Data Here'!$5:$6,2,0)&"$13"),F$5<=INDIRECT("'Enter Data Here'!"&HLOOKUP($B11,'Enter Data Here'!$5:$6,2,0)&"$14")),$B11,IF(AND(F$5>=INDIRECT("'Enter Data Here'!"&HLOOKUP($B11,'Enter Data Here'!$5:$6,2,0)&"$16"),F$5<=INDIRECT("'Enter Data Here'!"&HLOOKUP($B11,'Enter Data Here'!$5:$6,2,0)&"$17")),$B11,IF(AND(F$5>=INDIRECT("'Enter Data Here'!"&HLOOKUP($B11,'Enter Data Here'!$5:$6,2,0)&"$19"),F$5<=INDIRECT("'Enter Data Here'!"&HLOOKUP($B11,'Enter Data Here'!$5:$6,2,0)&"$20")),$B11,"")))))} | G11: {=IF(AND(G$5>=INDIRECT("'Enter Data Here'!"&HLOOKUP($B11,'Enter Data Here'!$5:$6,2,0)&"$7"),G$5<=INDIRECT("'Enter Data Here'!"&HLOOKUP($B11,'Enter Data Here'!$5:$6,2,0)&"$8")),$B11,IF(AND(G$5>=INDIRECT("'Enter Data Here'!"&HLOOKUP($B11,'Enter Data Here'!$5:$6,2,0)&"$10"),G$5<=INDIRECT("'Enter Data Here'!"&HLOOKUP($B11,'Enter Data Here'!$5:$6,2,0)&"$11")),$B11,IF(AND(G$5>=INDIRECT("'Enter Data Here'!"&HLOOKUP($B11,'Enter Data Here'!$5:$6,2,0)&"$13"),G$5<=INDIRECT("'Enter Data Here'!"&HLOOKUP($B11,'Enter Data Here'!$5:$6,2,0)&"$14")),$B11,IF(AND(G$5>=INDIRECT("'Enter Data Here'!"&HLOOKUP($B11,'Enter Data Here'!$5:$6,2,0)&"$16"),G$5<=INDIRECT("'Enter Data Here'!"&HLOOKUP($B11,'Enter Data Here'!$5:$6,2,0)&"$17")),$B11,IF(AND(G$5>=INDIRECT("'Enter Data Here'!"&HLOOKUP($B11,'Enter Data Here'!$5:$6,2,0)&"$19"),G$5<=INDIRECT("'Enter Data Here'!"&HLOOKUP($B11,'Enter Data Here'!$5:$6,2,0)&"$20")),$B11,"")))))} | H11: {=IF(AND(H$5>=INDIRECT("'Enter Data Here'!"&HLOOKUP($B11,'Enter Data Here'!$5:$6,2,0)&"$7"),H$5<=INDIRECT("'Enter Data Here'!"&HLOOKUP($B11,'Enter Data Here'!$5:$6,2,0)&"$8")),$B11,IF(AND(H$5>=INDIRECT("'Enter Data Here'!"&HLOOKUP($B11,'Enter Data Here'!$5:$6,2,0)&"$10"),H$5<=INDIRECT("'Enter Data Here'!"&HLOOKUP($B11,'Enter Data Here'!$5:$6,2,0)&"$11")),$B11,IF(AND(H$5>=INDIRECT("'Enter Data Here'!"&HLOOKUP($B11,'Enter Data Here'!$5:$6,2,0)&"$13"),H$5<=INDIRECT("'Enter Data Here'!"&HLOOKUP($B11,'Enter Data Here'!$5:$6,2,0)&"$14")),$B11,IF(AND(H$5>=INDIRECT("'Enter Data Here'!"&HLOOKUP($B11,'Enter Data Here'!$5:$6,2,0)&"$16"),H$5<=INDIRECT("'Enter Data Here'!"&HLOOKUP($B11,'Enter Data Here'!$5:$6,2,0)&"$17")),$B11,IF(AND(H$5>=INDIRECT("'Enter Data Here'!"&HLOOKUP($B11,'Enter Data Here'!$5:$6,2,0)&"$19"),H$5<=INDIRECT("'Enter Data Here'!"&HLOOKUP($B11,'Enter Data Here'!$5:$6,2,0)&"$20")),$B11,"")))))} | I11: {=IF(AND(I$5>=INDIRECT("'Enter Data Here'!"&HLOOKUP($B11,'Enter Data Here'!$5:$6,2,0)&"$7"),I$5<=INDIRECT("'Enter Data Here'!"&HLOOKUP($B11,'Enter Data Here'!$5:$6,2,0)&"$8")),$B11,IF(AND(I$5>=INDIRECT("'Enter Data Here'!"&HLOOKUP($B11,'Enter Data Here'!$5:$6,2,0)&"$10"),I$5<=INDIRECT("'Enter Data Here'!"&HLOOKUP($B11,'Enter Data Here'!$5:$6,2,0)&"$11")),$B11,IF(AND(I$5>=INDIRECT("'Enter Data Here'!"&HLOOKUP($B11,'Enter Data Here'!$5:$6,2,0)&"$13"),I$5<=INDIRECT("'Enter Data Here'!"&HLOOKUP($B11,'Enter Data Here'!$5:$6,2,0)&"$14")),$B11,IF(AND(I$5>=INDIRECT("'Enter Data Here'!"&HLOOKUP($B11,'Enter Data Here'!$5:$6,2,0)&"$16"),I$5<=INDIRECT("'Enter Data Here'!"&HLOOKUP($B11,'Enter Data Here'!$5:$6,2,0)&"$17")),$B11,IF(AND(I$5>=INDIRECT("'Enter Data Here'!"&HLOOKUP($B11,'Enter Data Here'!$5:$6,2,0)&"$19"),I$5<=INDIRECT("'Enter Data Here'!"&HLOOKUP($B11,'Enter Data Here'!$5:$6,2,0)&"$20")),$B11,"")))))} | J11: {=IF(AND(J$5>=INDIRECT("'Enter Data Here'!"&HLOOKUP($B11,'Enter Data Here'!$5:$6,2,0)&"$7"),J$5<=INDIRECT("'Enter Data Here'!"&HLOOKUP($B11,'Enter Data Here'!$5:$6,2,0)&"$8")),$B11,IF(AND(J$5>=INDIRECT("'Enter Data Here'!"&HLOOKUP($B11,'Enter Data Here'!$5:$6,2,0)&"$10"),J$5<=INDIRECT("'Enter Data Here'!"&HLOOKUP($B11,'Enter Data Here'!$5:$6,2,0)&"$11")),$B11,IF(AND(J$5>=INDIRECT("'Enter Data Here'!"&HLOOKUP($B11,'Enter Data Here'!$5:$6,2,0)&"$13"),J$5<=INDIRECT("'Enter Data Here'!"&HLOOKUP($B11,'Enter Data Here'!$5:$6,2,0)&"$14")),$B11,IF(AND(J$5>=INDIRECT("'Enter Data Here'!"&HLOOKUP($B11,'Enter Data Here'!$5:$6,2,0)&"$16"),J$5<=INDIRECT("'Enter Data Here'!"&HLOOKUP($B11,'Enter Data Here'!$5:$6,2,0)&"$17")),$B11,IF(AND(J$5>=INDIRECT("'Enter Data Here'!"&HLOOKUP($B11,'Enter Data Here'!$5:$6,2,0)&"$19"),J$5<=INDIRECT("'Enter Data Here'!"&HLOOKUP($B11,'Enter Data Here'!$5:$6,2,0)&"$20")),$B11,"")))))} | K11: {=IF(AND(K$5>=INDIRECT("'Enter Data Here'!"&HLOOKUP($B11,'Enter Data Here'!$5:$6,2,0)&"$7"),K$5<=INDIRECT("'Enter Data Here'!"&HLOOKUP($B11,'Enter Data Here'!$5:$6,2,0)&"$8")),$B11,IF(AND(K$5>=INDIRECT("'Enter Data Here'!"&HLOOKUP($B11,'Enter Data Here'!$5:$6,2,0)&"$10"),K$5<=INDIRECT("'Enter Data Here'!"&HLOOKUP($B11,'Enter Data Here'!$5:$6,2,0)&"$11")),$B11,IF(AND(K$5>=INDIRECT("'Enter Data Here'!"&HLOOKUP($B11,'Enter Data Here'!$5:$6,2,0)&"$13"),K$5<=INDIRECT("'Enter Data Here'!"&HLOOKUP($B11,'Enter Data Here'!$5:$6,2,0)&"$14")),$B11,IF(AND(K$5>=INDIRECT("'Enter Data Here'!"&HLOOKUP($B11,'Enter Data Here'!$5:$6,2,0)&"$16"),K$5<=INDIRECT("'Enter Data Here'!"&HLOOKUP($B11,'Enter Data Here'!$5:$6,2,0)&"$17")),$B11,IF(AND(K$5>=INDIRECT("'Enter Data Here'!"&HLOOKUP($B11,'Enter Data Here'!$5:$6,2,0)&"$19"),K$5<=INDIRECT("'Enter Data Here'!"&HLOOKUP($B11,'Enter Data Here'!$5:$6,2,0)&"$20")),$B11,"")))))} -> Moataz Al Sakka | L11: {=IF(AND(L$5>=INDIRECT("'Enter Data Here'!"&HLOOKUP($B11,'Enter Data Here'!$5:$6,2,0)&"$7"),L$5<=INDIRECT("'Enter Data Here'!"&HLOOKUP($B11,'Enter Data Here'!$5:$6,2,0)&"$8")),$B11,IF(AND(L$5>=INDIRECT("'Enter Data Here'!"&HLOOKUP($B11,'Enter Data Here'!$5:$6,2,0)&"$10"),L$5<=INDIRECT("'Enter Data Here'!"&HLOOKUP($B11,'Enter Data Here'!$5:$6,2,0)&"$11")),$B11,IF(AND(L$5>=INDIRECT("'Enter Data Here'!"&HLOOKUP($B11,'Enter Data Here'!$5:$6,2,0)&"$13"),L$5<=INDIRECT("'Enter Data Here'!"&HLOOKUP($B11,'Enter Data Here'!$5:$6,2,0)&"$14")),$B11,IF(AND(L$5>=INDIRECT("'Enter Data Here'!"&HLOOKUP($B11,'Enter Data Here'!$5:$6,2,0)&"$16"),L$5<=INDIRECT("'Enter Data Here'!"&HLOOKUP($B11,'Enter Data Here'!$5:$6,2,0)&"$17")),$B11,IF(AND(L$5>=INDIRECT("'Enter Data Here'!"&HLOOKUP($B11,'Enter Data Here'!$5:$6,2,0)&"$19"),L$5<=INDIRECT("'Enter Data Here'!"&HLOOKUP($B11,'Enter Data Here'!$5:$6,2,0)&"$20")),$B11,"")))))} -> Moataz Al Sakka | M11: {=IF(AND(M$5>=INDIRECT("'Enter Data Here'!"&HLOOKUP($B11,'Enter Data Here'!$5:$6,2,0)&"$7"),M$5<=INDIRECT("'Enter Data Here'!"&HLOOKUP($B11,'Enter Data Here'!$5:$6,2,0)&"$8")),$B11,IF(AND(M$5>=INDIRECT("'Enter Data Here'!"&HLOOKUP($B11,'Enter Data Here'!$5:$6,2,0)&"$10"),M$5<=INDIRECT("'Enter Data Here'!"&HLOOKUP($B11,'Enter Data Here'!$5:$6,2,0)&"$11")),$B11,IF(AND(M$5>=INDIRECT("'Enter Data Here'!"&HLOOKUP($B11,'Enter Data Here'!$5:$6,2,0)&"$13"),M$5<=INDIRECT("'Enter Data Here'!"&HLOOKUP($B11,'Enter Data Here'!$5:$6,2,0)&"$14")),$B11,IF(AND(M$5>=INDIRECT("'Enter Data Here'!"&HLOOKUP($B11,'Enter Data Here'!$5:$6,2,0)&"$16"),M$5<=INDIRECT("'Enter Data Here'!"&HLOOKUP($B11,'Enter Data Here'!$5:$6,2,0)&"$17")),$B11,IF(AND(M$5>=INDIRECT("'Enter Data Here'!"&HLOOKUP($B11,'Enter Data Here'!$5:$6,2,0)&"$19"),M$5<=INDIRECT("'Enter Data Here'!"&HLOOKUP($B11,'Enter Data Here'!$5:$6,2,0)&"$20")),$B11,"")))))} -> Moataz Al Sakka | ... AJ11: {=IF(AND(AJ$5>=INDIRECT("'Enter Data Here'!"&HLOOKUP($B11,'Enter Data Here'!$5:$6,2,0)&"$7"),AJ$5<=INDIRECT("'Enter Data Here'!"&HLOOKUP($B11,'Enter Data Here'!$5:$6,2,0)&"$8")),$B11,IF(AND(AJ$5>=INDIRECT("'Enter Data Here'!"&HLOOKUP($B11,'Enter Data Here'!$5:$6,2,0)&"$10"),AJ$5<=INDIRECT("'Enter Data Here'!"&HLOOKUP($B11,'Enter Data Here'!$5:$6,2,0)&"$11")),$B11,IF(AND(AJ$5>=INDIRECT("'Enter Data Here'!"&HLOOKUP($B11,'Enter Data Here'!$5:$6,2,0)&"$13"),AJ$5<=INDIRECT("'Enter Data Here'!"&HLOOKUP($B11,'Enter Data Here'!$5:$6,2,0)&"$14")),$B11,IF(AND(AJ$5>=INDIRECT("'Enter Data Here'!"&HLOOKUP($B11,'Enter Data Here'!$5:$6,2,0)&"$16"),AJ$5<=INDIRECT("'Enter Data Here'!"&HLOOKUP($B11,'Enter Data Here'!$5:$6,2,0)&"$17")),$B11,IF(AND(AJ$5>=INDIRECT("'Enter Data Here'!"&HLOOKUP($B11,'Enter Data Here'!$5:$6,2,0)&"$19"),AJ$5<=INDIRECT("'Enter Data Here'!"&HLOOKUP($B11,'Enter Data Here'!$5:$6,2,0)&"$20")),$B11,"")))))}
B12: ='Be4 you start'!E25 -> Yara | F12: {=IF(AND(F$5>=INDIRECT("'Enter Data Here'!"&HLOOKUP($B12,'Enter Data Here'!$5:$6,2,0)&"$7"),F$5<=INDIRECT("'Enter Data Here'!"&HLOOKUP($B12,'Enter Data Here'!$5:$6,2,0)&"$8")),$B12,IF(AND(F$5>=INDIRECT("'Enter Data Here'!"&HLOOKUP($B12,'Enter Data Here'!$5:$6,2,0)&"$10"),F$5<=INDIRECT("'Enter Data Here'!"&HLOOKUP($B12,'Enter Data Here'!$5:$6,2,0)&"$11")),$B12,IF(AND(F$5>=INDIRECT("'Enter Data Here'!"&HLOOKUP($B12,'Enter Data Here'!$5:$6,2,0)&"$13"),F$5<=INDIRECT("'Enter Data Here'!"&HLOOKUP($B12,'Enter Data Here'!$5:$6,2,0)&"$14")),$B12,IF(AND(F$5>=INDIRECT("'Enter Data Here'!"&HLOOKUP($B12,'Enter Data Here'!$5:$6,2,0)&"$16"),F$5<=INDIRECT("'Enter Data Here'!"&HLOOKUP($B12,'Enter Data Here'!$5:$6,2,0)&"$17")),$B12,IF(AND(F$5>=INDIRECT("'Enter Data Here'!"&HLOOKUP($B12,'Enter Data Here'!$5:$6,2,0)&"$19"),F$5<=INDIRECT("'Enter Data Here'!"&HLOOKUP($B12,'Enter Data Here'!$5:$6,2,0)&"$20")),$B12,"")))))} | G12: {=IF(AND(G$5>=INDIRECT("'Enter Data Here'!"&HLOOKUP($B12,'Enter Data Here'!$5:$6,2,0)&"$7"),G$5<=INDIRECT("'Enter Data Here'!"&HLOOKUP($B12,'Enter Data Here'!$5:$6,2,0)&"$8")),$B12,IF(AND(G$5>=INDIRECT("'Enter Data Here'!"&HLOOKUP($B12,'Enter Data Here'!$5:$6,2,0)&"$10"),G$5<=INDIRECT("'Enter Data Here'!"&HLOOKUP($B12,'Enter Data Here'!$5:$6,2,0)&"$11")),$B12,IF(AND(G$5>=INDIRECT("'Enter Data Here'!"&HLOOKUP($B12,'Enter Data Here'!$5:$6,2,0)&"$13"),G$5<=INDIRECT("'Enter Data Here'!"&HLOOKUP($B12,'Enter Data Here'!$5:$6,2,0)&"$14")),$B12,IF(AND(G$5>=INDIRECT("'Enter Data Here'!"&HLOOKUP($B12,'Enter Data Here'!$5:$6,2,0)&"$16"),G$5<=INDIRECT("'Enter Data Here'!"&HLOOKUP($B12,'Enter Data Here'!$5:$6,2,0)&"$17")),$B12,IF(AND(G$5>=INDIRECT("'Enter Data Here'!"&HLOOKUP($B12,'Enter Data Here'!$5:$6,2,0)&"$19"),G$5<=INDIRECT("'Enter Data Here'!"&HLOOKUP($B12,'Enter Data Here'!$5:$6,2,0)&"$20")),$B12,"")))))} | H12: {=IF(AND(H$5>=INDIRECT("'Enter Data Here'!"&HLOOKUP($B12,'Enter Data Here'!$5:$6,2,0)&"$7"),H$5<=INDIRECT("'Enter Data Here'!"&HLOOKUP($B12,'Enter Data Here'!$5:$6,2,0)&"$8")),$B12,IF(AND(H$5>=INDIRECT("'Enter Data Here'!"&HLOOKUP($B12,'Enter Data Here'!$5:$6,2,0)&"$10"),H$5<=INDIRECT("'Enter Data Here'!"&HLOOKUP($B12,'Enter Data Here'!$5:$6,2,0)&"$11")),$B12,IF(AND(H$5>=INDIRECT("'Enter Data Here'!"&HLOOKUP($B12,'Enter Data Here'!$5:$6,2,0)&"$13"),H$5<=INDIRECT("'Enter Data Here'!"&HLOOKUP($B12,'Enter Data Here'!$5:$6,2,0)&"$14")),$B12,IF(AND(H$5>=INDIRECT("'Enter Data Here'!"&HLOOKUP($B12,'Enter Data Here'!$5:$6,2,0)&"$16"),H$5<=INDIRECT("'Enter Data Here'!"&HLOOKUP($B12,'Enter Data Here'!$5:$6,2,0)&"$17")),$B12,IF(AND(H$5>=INDIRECT("'Enter Data Here'!"&HLOOKUP($B12,'Enter Data Here'!$5:$6,2,0)&"$19"),H$5<=INDIRECT("'Enter Data Here'!"&HLOOKUP($B12,'Enter Data Here'!$5:$6,2,0)&"$20")),$B12,"")))))} | I12: {=IF(AND(I$5>=INDIRECT("'Enter Data Here'!"&HLOOKUP($B12,'Enter Data Here'!$5:$6,2,0)&"$7"),I$5<=INDIRECT("'Enter Data Here'!"&HLOOKUP($B12,'Enter Data Here'!$5:$6,2,0)&"$8")),$B12,IF(AND(I$5>=INDIRECT("'Enter Data Here'!"&HLOOKUP($B12,'Enter Data Here'!$5:$6,2,0)&"$10"),I$5<=INDIRECT("'Enter Data Here'!"&HLOOKUP($B12,'Enter Data Here'!$5:$6,2,0)&"$11")),$B12,IF(AND(I$5>=INDIRECT("'Enter Data Here'!"&HLOOKUP($B12,'Enter Data Here'!$5:$6,2,0)&"$13"),I$5<=INDIRECT("'Enter Data Here'!"&HLOOKUP($B12,'Enter Data Here'!$5:$6,2,0)&"$14")),$B12,IF(AND(I$5>=INDIRECT("'Enter Data Here'!"&HLOOKUP($B12,'Enter Data Here'!$5:$6,2,0)&"$16"),I$5<=INDIRECT("'Enter Data Here'!"&HLOOKUP($B12,'Enter Data Here'!$5:$6,2,0)&"$17")),$B12,IF(AND(I$5>=INDIRECT("'Enter Data Here'!"&HLOOKUP($B12,'Enter Data Here'!$5:$6,2,0)&"$19"),I$5<=INDIRECT("'Enter Data Here'!"&HLOOKUP($B12,'Enter Data Here'!$5:$6,2,0)&"$20")),$B12,"")))))} | J12: {=IF(AND(J$5>=INDIRECT("'Enter Data Here'!"&HLOOKUP($B12,'Enter Data Here'!$5:$6,2,0)&"$7"),J$5<=INDIRECT("'Enter Data Here'!"&HLOOKUP($B12,'Enter Data Here'!$5:$6,2,0)&"$8")),$B12,IF(AND(J$5>=INDIRECT("'Enter Data Here'!"&HLOOKUP($B12,'Enter Data Here'!$5:$6,2,0)&"$10"),J$5<=INDIRECT("'Enter Data Here'!"&HLOOKUP($B12,'Enter Data Here'!$5:$6,2,0)&"$11")),$B12,IF(AND(J$5>=INDIRECT("'Enter Data Here'!"&HLOOKUP($B12,'Enter Data Here'!$5:$6,2,0)&"$13"),J$5<=INDIRECT("'Enter Data Here'!"&HLOOKUP($B12,'Enter Data Here'!$5:$6,2,0)&"$14")),$B12,IF(AND(J$5>=INDIRECT("'Enter Data Here'!"&HLOOKUP($B12,'Enter Data Here'!$5:$6,2,0)&"$16"),J$5<=INDIRECT("'Enter Data Here'!"&HLOOKUP($B12,'Enter Data Here'!$5:$6,2,0)&"$17")),$B12,IF(AND(J$5>=INDIRECT("'Enter Data Here'!"&HLOOKUP($B12,'Enter Data Here'!$5:$6,2,0)&"$19"),J$5<=INDIRECT("'Enter Data Here'!"&HLOOKUP($B12,'Enter Data Here'!$5:$6,2,0)&"$20")),$B12,"")))))} | K12: {=IF(AND(K$5>=INDIRECT("'Enter Data Here'!"&HLOOKUP($B12,'Enter Data Here'!$5:$6,2,0)&"$7"),K$5<=INDIRECT("'Enter Data Here'!"&HLOOKUP($B12,'Enter Data Here'!$5:$6,2,0)&"$8")),$B12,IF(AND(K$5>=INDIRECT("'Enter Data Here'!"&HLOOKUP($B12,'Enter Data Here'!$5:$6,2,0)&"$10"),K$5<=INDIRECT("'Enter Data Here'!"&HLOOKUP($B12,'Enter Data Here'!$5:$6,2,0)&"$11")),$B12,IF(AND(K$5>=INDIRECT("'Enter Data Here'!"&HLOOKUP($B12,'Enter Data Here'!$5:$6,2,0)&"$13"),K$5<=INDIRECT("'Enter Data Here'!"&HLOOKUP($B12,'Enter Data Here'!$5:$6,2,0)&"$14")),$B12,IF(AND(K$5>=INDIRECT("'Enter Data Here'!"&HLOOKUP($B12,'Enter Data Here'!$5:$6,2,0)&"$16"),K$5<=INDIRECT("'Enter Data Here'!"&HLOOKUP($B12,'Enter Data Here'!$5:$6,2,0)&"$17")),$B12,IF(AND(K$5>=INDIRECT("'Enter Data Here'!"&HLOOKUP($B12,'Enter Data Here'!$5:$6,2,0)&"$19"),K$5<=INDIRECT("'Enter Data Here'!"&HLOOKUP($B12,'Enter Data Here'!$5:$6,2,0)&"$20")),$B12,"")))))} | L12: {=IF(AND(L$5>=INDIRECT("'Enter Data Here'!"&HLOOKUP($B12,'Enter Data Here'!$5:$6,2,0)&"$7"),L$5<=INDIRECT("'Enter Data Here'!"&HLOOKUP($B12,'Enter Data Here'!$5:$6,2,0)&"$8")),$B12,IF(AND(L$5>=INDIRECT("'Enter Data Here'!"&HLOOKUP($B12,'Enter Data Here'!$5:$6,2,0)&"$10"),L$5<=INDIRECT("'Enter Data Here'!"&HLOOKUP($B12,'Enter Data Here'!$5:$6,2,0)&"$11")),$B12,IF(AND(L$5>=INDIRECT("'Enter Data Here'!"&HLOOKUP($B12,'Enter Data Here'!$5:$6,2,0)&"$13"),L$5<=INDIRECT("'Enter Data Here'!"&HLOOKUP($B12,'Enter Data Here'!$5:$6,2,0)&"$14")),$B12,IF(AND(L$5>=INDIRECT("'Enter Data Here'!"&HLOOKUP($B12,'Enter Data Here'!$5:$6,2,0)&"$16"),L$5<=INDIRECT("'Enter Data Here'!"&HLOOKUP($B12,'Enter Data Here'!$5:$6,2,0)&"$17")),$B12,IF(AND(L$5>=INDIRECT("'Enter Data Here'!"&HLOOKUP($B12,'Enter Data Here'!$5:$6,2,0)&"$19"),L$5<=INDIRECT("'Enter Data Here'!"&HLOOKUP($B12,'Enter Data Here'!$5:$6,2,0)&"$20")),$B12,"")))))} | M12: {=IF(AND(M$5>=INDIRECT("'Enter Data Here'!"&HLOOKUP($B12,'Enter Data Here'!$5:$6,2,0)&"$7"),M$5<=INDIRECT("'Enter Data Here'!"&HLOOKUP($B12,'Enter Data Here'!$5:$6,2,0)&"$8")),$B12,IF(AND(M$5>=INDIRECT("'Enter Data Here'!"&HLOOKUP($B12,'Enter Data Here'!$5:$6,2,0)&"$10"),M$5<=INDIRECT("'Enter Data Here'!"&HLOOKUP($B12,'Enter Data Here'!$5:$6,2,0)&"$11")),$B12,IF(AND(M$5>=INDIRECT("'Enter Data Here'!"&HLOOKUP($B12,'Enter Data Here'!$5:$6,2,0)&"$13"),M$5<=INDIRECT("'Enter Data Here'!"&HLOOKUP($B12,'Enter Data Here'!$5:$6,2,0)&"$14")),$B12,IF(AND(M$5>=INDIRECT("'Enter Data Here'!"&HLOOKUP($B12,'Enter Data Here'!$5:$6,2,0)&"$16"),M$5<=INDIRECT("'Enter Data Here'!"&HLOOKUP($B12,'Enter Data Here'!$5:$6,2,0)&"$17")),$B12,IF(AND(M$5>=INDIRECT("'Enter Data Here'!"&HLOOKUP($B12,'Enter Data Here'!$5:$6,2,0)&"$19"),M$5<=INDIRECT("'Enter Data Here'!"&HLOOKUP($B12,'Enter Data Here'!$5:$6,2,0)&"$20")),$B12,"")))))} | ... AJ12: {=IF(AND(AJ$5>=INDIRECT("'Enter Data Here'!"&HLOOKUP($B12,'Enter Data Here'!$5:$6,2,0)&"$7"),AJ$5<=INDIRECT("'Enter Data Here'!"&HLOOKUP($B12,'Enter Data Here'!$5:$6,2,0)&"$8")),$B12,IF(AND(AJ$5>=INDIRECT("'Enter Data Here'!"&HLOOKUP($B12,'Enter Data Here'!$5:$6,2,0)&"$10"),AJ$5<=INDIRECT("'Enter Data Here'!"&HLOOKUP($B12,'Enter Data Here'!$5:$6,2,0)&"$11")),$B12,IF(AND(AJ$5>=INDIRECT("'Enter Data Here'!"&HLOOKUP($B12,'Enter Data Here'!$5:$6,2,0)&"$13"),AJ$5<=INDIRECT("'Enter Data Here'!"&HLOOKUP($B12,'Enter Data Here'!$5:$6,2,0)&"$14")),$B12,IF(AND(AJ$5>=INDIRECT("'Enter Data Here'!"&HLOOKUP($B12,'Enter Data Here'!$5:$6,2,0)&"$16"),AJ$5<=INDIRECT("'Enter Data Here'!"&HLOOKUP($B12,'Enter Data Here'!$5:$6,2,0)&"$17")),$B12,IF(AND(AJ$5>=INDIRECT("'Enter Data Here'!"&HLOOKUP($B12,'Enter Data Here'!$5:$6,2,0)&"$19"),AJ$5<=INDIRECT("'Enter Data Here'!"&HLOOKUP($B12,'Enter Data Here'!$5:$6,2,0)&"$20")),$B12,"")))))}
B13: ='Be4 you start'!E26 -> Jaida | F13: {=IF(AND(F$5>=INDIRECT("'Enter Data Here'!"&HLOOKUP($B13,'Enter Data Here'!$5:$6,2,0)&"$7"),F$5<=INDIRECT("'Enter Data Here'!"&HLOOKUP($B13,'Enter Data Here'!$5:$6,2,0)&"$8")),$B13,IF(AND(F$5>=INDIRECT("'Enter Data Here'!"&HLOOKUP($B13,'Enter Data Here'!$5:$6,2,0)&"$10"),F$5<=INDIRECT("'Enter Data Here'!"&HLOOKUP($B13,'Enter Data Here'!$5:$6,2,0)&"$11")),$B13,IF(AND(F$5>=INDIRECT("'Enter Data Here'!"&HLOOKUP($B13,'Enter Data Here'!$5:$6,2,0)&"$13"),F$5<=INDIRECT("'Enter Data Here'!"&HLOOKUP($B13,'Enter Data Here'!$5:$6,2,0)&"$14")),$B13,IF(AND(F$5>=INDIRECT("'Enter Data Here'!"&HLOOKUP($B13,'Enter Data Here'!$5:$6,2,0)&"$16"),F$5<=INDIRECT("'Enter Data Here'!"&HLOOKUP($B13,'Enter Data Here'!$5:$6,2,0)&"$17")),$B13,IF(AND(F$5>=INDIRECT("'Enter Data Here'!"&HLOOKUP($B13,'Enter Data Here'!$5:$6,2,0)&"$19"),F$5<=INDIRECT("'Enter Data Here'!"&HLOOKUP($B13,'Enter Data Here'!$5:$6,2,0)&"$20")),$B13,"")))))} | G13: {=IF(AND(G$5>=INDIRECT("'Enter Data Here'!"&HLOOKUP($B13,'Enter Data Here'!$5:$6,2,0)&"$7"),G$5<=INDIRECT("'Enter Data Here'!"&HLOOKUP($B13,'Enter Data Here'!$5:$6,2,0)&"$8")),$B13,IF(AND(G$5>=INDIRECT("'Enter Data Here'!"&HLOOKUP($B13,'Enter Data Here'!$5:$6,2,0)&"$10"),G$5<=INDIRECT("'Enter Data Here'!"&HLOOKUP($B13,'Enter Data Here'!$5:$6,2,0)&"$11")),$B13,IF(AND(G$5>=INDIRECT("'Enter Data Here'!"&HLOOKUP($B13,'Enter Data Here'!$5:$6,2,0)&"$13"),G$5<=INDIRECT("'Enter Data Here'!"&HLOOKUP($B13,'Enter Data Here'!$5:$6,2,0)&"$14")),$B13,IF(AND(G$5>=INDIRECT("'Enter Data Here'!"&HLOOKUP($B13,'Enter Data Here'!$5:$6,2,0)&"$16"),G$5<=INDIRECT("'Enter Data Here'!"&HLOOKUP($B13,'Enter Data Here'!$5:$6,2,0)&"$17")),$B13,IF(AND(G$5>=INDIRECT("'Enter Data Here'!"&HLOOKUP($B13,'Enter Data Here'!$5:$6,2,0)&"$19"),G$5<=INDIRECT("'Enter Data Here'!"&HLOOKUP($B13,'Enter Data Here'!$5:$6,2,0)&"$20")),$B13,"")))))} | H13: {=IF(AND(H$5>=INDIRECT("'Enter Data Here'!"&HLOOKUP($B13,'Enter Data Here'!$5:$6,2,0)&"$7"),H$5<=INDIRECT("'Enter Data Here'!"&HLOOKUP($B13,'Enter Data Here'!$5:$6,2,0)&"$8")),$B13,IF(AND(H$5>=INDIRECT("'Enter Data Here'!"&HLOOKUP($B13,'Enter Data Here'!$5:$6,2,0)&"$10"),H$5<=INDIRECT("'Enter Data Here'!"&HLOOKUP($B13,'Enter Data Here'!$5:$6,2,0)&"$11")),$B13,IF(AND(H$5>=INDIRECT("'Enter Data Here'!"&HLOOKUP($B13,'Enter Data Here'!$5:$6,2,0)&"$13"),H$5<=INDIRECT("'Enter Data Here'!"&HLOOKUP($B13,'Enter Data Here'!$5:$6,2,0)&"$14")),$B13,IF(AND(H$5>=INDIRECT("'Enter Data Here'!"&HLOOKUP($B13,'Enter Data Here'!$5:$6,2,0)&"$16"),H$5<=INDIRECT("'Enter Data Here'!"&HLOOKUP($B13,'Enter Data Here'!$5:$6,2,0)&"$17")),$B13,IF(AND(H$5>=INDIRECT("'Enter Data Here'!"&HLOOKUP($B13,'Enter Data Here'!$5:$6,2,0)&"$19"),H$5<=INDIRECT("'Enter Data Here'!"&HLOOKUP($B13,'Enter Data Here'!$5:$6,2,0)&"$20")),$B13,"")))))} | I13: {=IF(AND(I$5>=INDIRECT("'Enter Data Here'!"&HLOOKUP($B13,'Enter Data Here'!$5:$6,2,0)&"$7"),I$5<=INDIRECT("'Enter Data Here'!"&HLOOKUP($B13,'Enter Data Here'!$5:$6,2,0)&"$8")),$B13,IF(AND(I$5>=INDIRECT("'Enter Data Here'!"&HLOOKUP($B13,'Enter Data Here'!$5:$6,2,0)&"$10"),I$5<=INDIRECT("'Enter Data Here'!"&HLOOKUP($B13,'Enter Data Here'!$5:$6,2,0)&"$11")),$B13,IF(AND(I$5>=INDIRECT("'Enter Data Here'!"&HLOOKUP($B13,'Enter Data Here'!$5:$6,2,0)&"$13"),I$5<=INDIRECT("'Enter Data Here'!"&HLOOKUP($B13,'Enter Data Here'!$5:$6,2,0)&"$14")),$B13,IF(AND(I$5>=INDIRECT("'Enter Data Here'!"&HLOOKUP($B13,'Enter Data Here'!$5:$6,2,0)&"$16"),I$5<=INDIRECT("'Enter Data Here'!"&HLOOKUP($B13,'Enter Data Here'!$5:$6,2,0)&"$17")),$B13,IF(AND(I$5>=INDIRECT("'Enter Data Here'!"&HLOOKUP($B13,'Enter Data Here'!$5:$6,2,0)&"$19"),I$5<=INDIRECT("'Enter Data Here'!"&HLOOKUP($B13,'Enter Data Here'!$5:$6,2,0)&"$20")),$B13,"")))))} | J13: {=IF(AND(J$5>=INDIRECT("'Enter Data Here'!"&HLOOKUP($B13,'Enter Data Here'!$5:$6,2,0)&"$7"),J$5<=INDIRECT("'Enter Data Here'!"&HLOOKUP($B13,'Enter Data Here'!$5:$6,2,0)&"$8")),$B13,IF(AND(J$5>=INDIRECT("'Enter Data Here'!"&HLOOKUP($B13,'Enter Data Here'!$5:$6,2,0)&"$10"),J$5<=INDIRECT("'Enter Data Here'!"&HLOOKUP($B13,'Enter Data Here'!$5:$6,2,0)&"$11")),$B13,IF(AND(J$5>=INDIRECT("'Enter Data Here'!"&HLOOKUP($B13,'Enter Data Here'!$5:$6,2,0)&"$13"),J$5<=INDIRECT("'Enter Data Here'!"&HLOOKUP($B13,'Enter Data Here'!$5:$6,2,0)&"$14")),$B13,IF(AND(J$5>=INDIRECT("'Enter Data Here'!"&HLOOKUP($B13,'Enter Data Here'!$5:$6,2,0)&"$16"),J$5<=INDIRECT("'Enter Data Here'!"&HLOOKUP($B13,'Enter Data Here'!$5:$6,2,0)&"$17")),$B13,IF(AND(J$5>=INDIRECT("'Enter Data Here'!"&HLOOKUP($B13,'Enter Data Here'!$5:$6,2,0)&"$19"),J$5<=INDIRECT("'Enter Data Here'!"&HLOOKUP($B13,'Enter Data Here'!$5:$6,2,0)&"$20")),$B13,"")))))} | K13: {=IF(AND(K$5>=INDIRECT("'Enter Data Here'!"&HLOOKUP($B13,'Enter Data Here'!$5:$6,2,0)&"$7"),K$5<=INDIRECT("'Enter Data Here'!"&HLOOKUP($B13,'Enter Data Here'!$5:$6,2,0)&"$8")),$B13,IF(AND(K$5>=INDIRECT("'Enter Data Here'!"&HLOOKUP($B13,'Enter Data Here'!$5:$6,2,0)&"$10"),K$5<=INDIRECT("'Enter Data Here'!"&HLOOKUP($B13,'Enter Data Here'!$5:$6,2,0)&"$11")),$B13,IF(AND(K$5>=INDIRECT("'Enter Data Here'!"&HLOOKUP($B13,'Enter Data Here'!$5:$6,2,0)&"$13"),K$5<=INDIRECT("'Enter Data Here'!"&HLOOKUP($B13,'Enter Data Here'!$5:$6,2,0)&"$14")),$B13,IF(AND(K$5>=INDIRECT("'Enter Data Here'!"&HLOOKUP($B13,'Enter Data Here'!$5:$6,2,0)&"$16"),K$5<=INDIRECT("'Enter Data Here'!"&HLOOKUP($B13,'Enter Data Here'!$5:$6,2,0)&"$17")),$B13,IF(AND(K$5>=INDIRECT("'Enter Data Here'!"&HLOOKUP($B13,'Enter Data Here'!$5:$6,2,0)&"$19"),K$5<=INDIRECT("'Enter Data Here'!"&HLOOKUP($B13,'Enter Data Here'!$5:$6,2,0)&"$20")),$B13,"")))))} | L13: {=IF(AND(L$5>=INDIRECT("'Enter Data Here'!"&HLOOKUP($B13,'Enter Data Here'!$5:$6,2,0)&"$7"),L$5<=INDIRECT("'Enter Data Here'!"&HLOOKUP($B13,'Enter Data Here'!$5:$6,2,0)&"$8")),$B13,IF(AND(L$5>=INDIRECT("'Enter Data Here'!"&HLOOKUP($B13,'Enter Data Here'!$5:$6,2,0)&"$10"),L$5<=INDIRECT("'Enter Data Here'!"&HLOOKUP($B13,'Enter Data Here'!$5:$6,2,0)&"$11")),$B13,IF(AND(L$5>=INDIRECT("'Enter Data Here'!"&HLOOKUP($B13,'Enter Data Here'!$5:$6,2,0)&"$13"),L$5<=INDIRECT("'Enter Data Here'!"&HLOOKUP($B13,'Enter Data Here'!$5:$6,2,0)&"$14")),$B13,IF(AND(L$5>=INDIRECT("'Enter Data Here'!"&HLOOKUP($B13,'Enter Data Here'!$5:$6,2,0)&"$16"),L$5<=INDIRECT("'Enter Data Here'!"&HLOOKUP($B13,'Enter Data Here'!$5:$6,2,0)&"$17")),$B13,IF(AND(L$5>=INDIRECT("'Enter Data Here'!"&HLOOKUP($B13,'Enter Data Here'!$5:$6,2,0)&"$19"),L$5<=INDIRECT("'Enter Data Here'!"&HLOOKUP($B13,'Enter Data Here'!$5:$6,2,0)&"$20")),$B13,"")))))} | M13: {=IF(AND(M$5>=INDIRECT("'Enter Data Here'!"&HLOOKUP($B13,'Enter Data Here'!$5:$6,2,0)&"$7"),M$5<=INDIRECT("'Enter Data Here'!"&HLOOKUP($B13,'Enter Data Here'!$5:$6,2,0)&"$8")),$B13,IF(AND(M$5>=INDIRECT("'Enter Data Here'!"&HLOOKUP($B13,'Enter Data Here'!$5:$6,2,0)&"$10"),M$5<=INDIRECT("'Enter Data Here'!"&HLOOKUP($B13,'Enter Data Here'!$5:$6,2,0)&"$11")),$B13,IF(AND(M$5>=INDIRECT("'Enter Data Here'!"&HLOOKUP($B13,'Enter Data Here'!$5:$6,2,0)&"$13"),M$5<=INDIRECT("'Enter Data Here'!"&HLOOKUP($B13,'Enter Data Here'!$5:$6,2,0)&"$14")),$B13,IF(AND(M$5>=INDIRECT("'Enter Data Here'!"&HLOOKUP($B13,'Enter Data Here'!$5:$6,2,0)&"$16"),M$5<=INDIRECT("'Enter Data Here'!"&HLOOKUP($B13,'Enter Data Here'!$5:$6,2,0)&"$17")),$B13,IF(AND(M$5>=INDIRECT("'Enter Data Here'!"&HLOOKUP($B13,'Enter Data Here'!$5:$6,2,0)&"$19"),M$5<=INDIRECT("'Enter Data Here'!"&HLOOKUP($B13,'Enter Data Here'!$5:$6,2,0)&"$20")),$B13,"")))))} | ... AJ13: {=IF(AND(AJ$5>=INDIRECT("'Enter Data Here'!"&HLOOKUP($B13,'Enter Data Here'!$5:$6,2,0)&"$7"),AJ$5<=INDIRECT("'Enter Data Here'!"&HLOOKUP($B13,'Enter Data Here'!$5:$6,2,0)&"$8")),$B13,IF(AND(AJ$5>=INDIRECT("'Enter Data Here'!"&HLOOKUP($B13,'Enter Data Here'!$5:$6,2,0)&"$10"),AJ$5<=INDIRECT("'Enter Data Here'!"&HLOOKUP($B13,'Enter Data Here'!$5:$6,2,0)&"$11")),$B13,IF(AND(AJ$5>=INDIRECT("'Enter Data Here'!"&HLOOKUP($B13,'Enter Data Here'!$5:$6,2,0)&"$13"),AJ$5<=INDIRECT("'Enter Data Here'!"&HLOOKUP($B13,'Enter Data Here'!$5:$6,2,0)&"$14")),$B13,IF(AND(AJ$5>=INDIRECT("'Enter Data Here'!"&HLOOKUP($B13,'Enter Data Here'!$5:$6,2,0)&"$16"),AJ$5<=INDIRECT("'Enter Data Here'!"&HLOOKUP($B13,'Enter Data Here'!$5:$6,2,0)&"$17")),$B13,IF(AND(AJ$5>=INDIRECT("'Enter Data Here'!"&HLOOKUP($B13,'Enter Data Here'!$5:$6,2,0)&"$19"),AJ$5<=INDIRECT("'Enter Data Here'!"&HLOOKUP($B13,'Enter Data Here'!$5:$6,2,0)&"$20")),$B13,"")))))}
B14: ='Be4 you start'!E27 -> Denise | F14: {=IF(AND(F$5>=INDIRECT("'Enter Data Here'!"&HLOOKUP($B14,'Enter Data Here'!$5:$6,2,0)&"$7"),F$5<=INDIRECT("'Enter Data Here'!"&HLOOKUP($B14,'Enter Data Here'!$5:$6,2,0)&"$8")),$B14,IF(AND(F$5>=INDIRECT("'Enter Data Here'!"&HLOOKUP($B14,'Enter Data Here'!$5:$6,2,0)&"$10"),F$5<=INDIRECT("'Enter Data Here'!"&HLOOKUP($B14,'Enter Data Here'!$5:$6,2,0)&"$11")),$B14,IF(AND(F$5>=INDIRECT("'Enter Data Here'!"&HLOOKUP($B14,'Enter Data Here'!$5:$6,2,0)&"$13"),F$5<=INDIRECT("'Enter Data Here'!"&HLOOKUP($B14,'Enter Data Here'!$5:$6,2,0)&"$14")),$B14,IF(AND(F$5>=INDIRECT("'Enter Data Here'!"&HLOOKUP($B14,'Enter Data Here'!$5:$6,2,0)&"$16"),F$5<=INDIRECT("'Enter Data Here'!"&HLOOKUP($B14,'Enter Data Here'!$5:$6,2,0)&"$17")),$B14,IF(AND(F$5>=INDIRECT("'Enter Data Here'!"&HLOOKUP($B14,'Enter Data Here'!$5:$6,2,0)&"$19"),F$5<=INDIRECT("'Enter Data Here'!"&HLOOKUP($B14,'Enter Data Here'!$5:$6,2,0)&"$20")),$B14,"")))))} | G14: {=IF(AND(G$5>=INDIRECT("'Enter Data Here'!"&HLOOKUP($B14,'Enter Data Here'!$5:$6,2,0)&"$7"),G$5<=INDIRECT("'Enter Data Here'!"&HLOOKUP($B14,'Enter Data Here'!$5:$6,2,0)&"$8")),$B14,IF(AND(G$5>=INDIRECT("'Enter Data Here'!"&HLOOKUP($B14,'Enter Data Here'!$5:$6,2,0)&"$10"),G$5<=INDIRECT("'Enter Data Here'!"&HLOOKUP($B14,'Enter Data Here'!$5:$6,2,0)&"$11")),$B14,IF(AND(G$5>=INDIRECT("'Enter Data Here'!"&HLOOKUP($B14,'Enter Data Here'!$5:$6,2,0)&"$13"),G$5<=INDIRECT("'Enter Data Here'!"&HLOOKUP($B14,'Enter Data Here'!$5:$6,2,0)&"$14")),$B14,IF(AND(G$5>=INDIRECT("'Enter Data Here'!"&HLOOKUP($B14,'Enter Data Here'!$5:$6,2,0)&"$16"),G$5<=INDIRECT("'Enter Data Here'!"&HLOOKUP($B14,'Enter Data Here'!$5:$6,2,0)&"$17")),$B14,IF(AND(G$5>=INDIRECT("'Enter Data Here'!"&HLOOKUP($B14,'Enter Data Here'!$5:$6,2,0)&"$19"),G$5<=INDIRECT("'Enter Data Here'!"&HLOOKUP($B14,'Enter Data Here'!$5:$6,2,0)&"$20")),$B14,"")))))} | H14: {=IF(AND(H$5>=INDIRECT("'Enter Data Here'!"&HLOOKUP($B14,'Enter Data Here'!$5:$6,2,0)&"$7"),H$5<=INDIRECT("'Enter Data Here'!"&HLOOKUP($B14,'Enter Data Here'!$5:$6,2,0)&"$8")),$B14,IF(AND(H$5>=INDIRECT("'Enter Data Here'!"&HLOOKUP($B14,'Enter Data Here'!$5:$6,2,0)&"$10"),H$5<=INDIRECT("'Enter Data Here'!"&HLOOKUP($B14,'Enter Data Here'!$5:$6,2,0)&"$11")),$B14,IF(AND(H$5>=INDIRECT("'Enter Data Here'!"&HLOOKUP($B14,'Enter Data Here'!$5:$6,2,0)&"$13"),H$5<=INDIRECT("'Enter Data Here'!"&HLOOKUP($B14,'Enter Data Here'!$5:$6,2,0)&"$14")),$B14,IF(AND(H$5>=INDIRECT("'Enter Data Here'!"&HLOOKUP($B14,'Enter Data Here'!$5:$6,2,0)&"$16"),H$5<=INDIRECT("'Enter Data Here'!"&HLOOKUP($B14,'Enter Data Here'!$5:$6,2,0)&"$17")),$B14,IF(AND(H$5>=INDIRECT("'Enter Data Here'!"&HLOOKUP($B14,'Enter Data Here'!$5:$6,2,0)&"$19"),H$5<=INDIRECT("'Enter Data Here'!"&HLOOKUP($B14,'Enter Data Here'!$5:$6,2,0)&"$20")),$B14,"")))))} | I14: {=IF(AND(I$5>=INDIRECT("'Enter Data Here'!"&HLOOKUP($B14,'Enter Data Here'!$5:$6,2,0)&"$7"),I$5<=INDIRECT("'Enter Data Here'!"&HLOOKUP($B14,'Enter Data Here'!$5:$6,2,0)&"$8")),$B14,IF(AND(I$5>=INDIRECT("'Enter Data Here'!"&HLOOKUP($B14,'Enter Data Here'!$5:$6,2,0)&"$10"),I$5<=INDIRECT("'Enter Data Here'!"&HLOOKUP($B14,'Enter Data Here'!$5:$6,2,0)&"$11")),$B14,IF(AND(I$5>=INDIRECT("'Enter Data Here'!"&HLOOKUP($B14,'Enter Data Here'!$5:$6,2,0)&"$13"),I$5<=INDIRECT("'Enter Data Here'!"&HLOOKUP($B14,'Enter Data Here'!$5:$6,2,0)&"$14")),$B14,IF(AND(I$5>=INDIRECT("'Enter Data Here'!"&HLOOKUP($B14,'Enter Data Here'!$5:$6,2,0)&"$16"),I$5<=INDIRECT("'Enter Data Here'!"&HLOOKUP($B14,'Enter Data Here'!$5:$6,2,0)&"$17")),$B14,IF(AND(I$5>=INDIRECT("'Enter Data Here'!"&HLOOKUP($B14,'Enter Data Here'!$5:$6,2,0)&"$19"),I$5<=INDIRECT("'Enter Data Here'!"&HLOOKUP($B14,'Enter Data Here'!$5:$6,2,0)&"$20")),$B14,"")))))} | J14: {=IF(AND(J$5>=INDIRECT("'Enter Data Here'!"&HLOOKUP($B14,'Enter Data Here'!$5:$6,2,0)&"$7"),J$5<=INDIRECT("'Enter Data Here'!"&HLOOKUP($B14,'Enter Data Here'!$5:$6,2,0)&"$8")),$B14,IF(AND(J$5>=INDIRECT("'Enter Data Here'!"&HLOOKUP($B14,'Enter Data Here'!$5:$6,2,0)&"$10"),J$5<=INDIRECT("'Enter Data Here'!"&HLOOKUP($B14,'Enter Data Here'!$5:$6,2,0)&"$11")),$B14,IF(AND(J$5>=INDIRECT("'Enter Data Here'!"&HLOOKUP($B14,'Enter Data Here'!$5:$6,2,0)&"$13"),J$5<=INDIRECT("'Enter Data Here'!"&HLOOKUP($B14,'Enter Data Here'!$5:$6,2,0)&"$14")),$B14,IF(AND(J$5>=INDIRECT("'Enter Data Here'!"&HLOOKUP($B14,'Enter Data Here'!$5:$6,2,0)&"$16"),J$5<=INDIRECT("'Enter Data Here'!"&HLOOKUP($B14,'Enter Data Here'!$5:$6,2,0)&"$17")),$B14,IF(AND(J$5>=INDIRECT("'Enter Data Here'!"&HLOOKUP($B14,'Enter Data Here'!$5:$6,2,0)&"$19"),J$5<=INDIRECT("'Enter Data Here'!"&HLOOKUP($B14,'Enter Data Here'!$5:$6,2,0)&"$20")),$B14,"")))))} | K14: {=IF(AND(K$5>=INDIRECT("'Enter Data Here'!"&HLOOKUP($B14,'Enter Data Here'!$5:$6,2,0)&"$7"),K$5<=INDIRECT("'Enter Data Here'!"&HLOOKUP($B14,'Enter Data Here'!$5:$6,2,0)&"$8")),$B14,IF(AND(K$5>=INDIRECT("'Enter Data Here'!"&HLOOKUP($B14,'Enter Data Here'!$5:$6,2,0)&"$10"),K$5<=INDIRECT("'Enter Data Here'!"&HLOOKUP($B14,'Enter Data Here'!$5:$6,2,0)&"$11")),$B14,IF(AND(K$5>=INDIRECT("'Enter Data Here'!"&HLOOKUP($B14,'Enter Data Here'!$5:$6,2,0)&"$13"),K$5<=INDIRECT("'Enter Data Here'!"&HLOOKUP($B14,'Enter Data Here'!$5:$6,2,0)&"$14")),$B14,IF(AND(K$5>=INDIRECT("'Enter Data Here'!"&HLOOKUP($B14,'Enter Data Here'!$5:$6,2,0)&"$16"),K$5<=INDIRECT("'Enter Data Here'!"&HLOOKUP($B14,'Enter Data Here'!$5:$6,2,0)&"$17")),$B14,IF(AND(K$5>=INDIRECT("'Enter Data Here'!"&HLOOKUP($B14,'Enter Data Here'!$5:$6,2,0)&"$19"),K$5<=INDIRECT("'Enter Data Here'!"&HLOOKUP($B14,'Enter Data Here'!$5:$6,2,0)&"$20")),$B14,"")))))} | L14: {=IF(AND(L$5>=INDIRECT("'Enter Data Here'!"&HLOOKUP($B14,'Enter Data Here'!$5:$6,2,0)&"$7"),L$5<=INDIRECT("'Enter Data Here'!"&HLOOKUP($B14,'Enter Data Here'!$5:$6,2,0)&"$8")),$B14,IF(AND(L$5>=INDIRECT("'Enter Data Here'!"&HLOOKUP($B14,'Enter Data Here'!$5:$6,2,0)&"$10"),L$5<=INDIRECT("'Enter Data Here'!"&HLOOKUP($B14,'Enter Data Here'!$5:$6,2,0)&"$11")),$B14,IF(AND(L$5>=INDIRECT("'Enter Data Here'!"&HLOOKUP($B14,'Enter Data Here'!$5:$6,2,0)&"$13"),L$5<=INDIRECT("'Enter Data Here'!"&HLOOKUP($B14,'Enter Data Here'!$5:$6,2,0)&"$14")),$B14,IF(AND(L$5>=INDIRECT("'Enter Data Here'!"&HLOOKUP($B14,'Enter Data Here'!$5:$6,2,0)&"$16"),L$5<=INDIRECT("'Enter Data Here'!"&HLOOKUP($B14,'Enter Data Here'!$5:$6,2,0)&"$17")),$B14,IF(AND(L$5>=INDIRECT("'Enter Data Here'!"&HLOOKUP($B14,'Enter Data Here'!$5:$6,2,0)&"$19"),L$5<=INDIRECT("'Enter Data Here'!"&HLOOKUP($B14,'Enter Data Here'!$5:$6,2,0)&"$20")),$B14,"")))))} | M14: {=IF(AND(M$5>=INDIRECT("'Enter Data Here'!"&HLOOKUP($B14,'Enter Data Here'!$5:$6,2,0)&"$7"),M$5<=INDIRECT("'Enter Data Here'!"&HLOOKUP($B14,'Enter Data Here'!$5:$6,2,0)&"$8")),$B14,IF(AND(M$5>=INDIRECT("'Enter Data Here'!"&HLOOKUP($B14,'Enter Data Here'!$5:$6,2,0)&"$10"),M$5<=INDIRECT("'Enter Data Here'!"&HLOOKUP($B14,'Enter Data Here'!$5:$6,2,0)&"$11")),$B14,IF(AND(M$5>=INDIRECT("'Enter Data Here'!"&HLOOKUP($B14,'Enter Data Here'!$5:$6,2,0)&"$13"),M$5<=INDIRECT("'Enter Data Here'!"&HLOOKUP($B14,'Enter Data Here'!$5:$6,2,0)&"$14")),$B14,IF(AND(M$5>=INDIRECT("'Enter Data Here'!"&HLOOKUP($B14,'Enter Data Here'!$5:$6,2,0)&"$16"),M$5<=INDIRECT("'Enter Data Here'!"&HLOOKUP($B14,'Enter Data Here'!$5:$6,2,0)&"$17")),$B14,IF(AND(M$5>=INDIRECT("'Enter Data Here'!"&HLOOKUP($B14,'Enter Data Here'!$5:$6,2,0)&"$19"),M$5<=INDIRECT("'Enter Data Here'!"&HLOOKUP($B14,'Enter Data Here'!$5:$6,2,0)&"$20")),$B14,"")))))} | ... AJ14: {=IF(AND(AJ$5>=INDIRECT("'Enter Data Here'!"&HLOOKUP($B14,'Enter Data Here'!$5:$6,2,0)&"$7"),AJ$5<=INDIRECT("'Enter Data Here'!"&HLOOKUP($B14,'Enter Data Here'!$5:$6,2,0)&"$8")),$B14,IF(AND(AJ$5>=INDIRECT("'Enter Data Here'!"&HLOOKUP($B14,'Enter Data Here'!$5:$6,2,0)&"$10"),AJ$5<=INDIRECT("'Enter Data Here'!"&HLOOKUP($B14,'Enter Data Here'!$5:$6,2,0)&"$11")),$B14,IF(AND(AJ$5>=INDIRECT("'Enter Data Here'!"&HLOOKUP($B14,'Enter Data Here'!$5:$6,2,0)&"$13"),AJ$5<=INDIRECT("'Enter Data Here'!"&HLOOKUP($B14,'Enter Data Here'!$5:$6,2,0)&"$14")),$B14,IF(AND(AJ$5>=INDIRECT("'Enter Data Here'!"&HLOOKUP($B14,'Enter Data Here'!$5:$6,2,0)&"$16"),AJ$5<=INDIRECT("'Enter Data Here'!"&HLOOKUP($B14,'Enter Data Here'!$5:$6,2,0)&"$17")),$B14,IF(AND(AJ$5>=INDIRECT("'Enter Data Here'!"&HLOOKUP($B14,'Enter Data Here'!$5:$6,2,0)&"$19"),AJ$5<=INDIRECT("'Enter Data Here'!"&HLOOKUP($B14,'Enter Data Here'!$5:$6,2,0)&"$20")),$B14,"")))))}
B15: ='Be4 you start'!E28 -> Wisam | F15: {=IF(AND(F$5>=INDIRECT("'Enter Data Here'!"&HLOOKUP($B15,'Enter Data Here'!$5:$6,2,0)&"$7"),F$5<=INDIRECT("'Enter Data Here'!"&HLOOKUP($B15,'Enter Data Here'!$5:$6,2,0)&"$8")),$B15,IF(AND(F$5>=INDIRECT("'Enter Data Here'!"&HLOOKUP($B15,'Enter Data Here'!$5:$6,2,0)&"$10"),F$5<=INDIRECT("'Enter Data Here'!"&HLOOKUP($B15,'Enter Data Here'!$5:$6,2,0)&"$11")),$B15,IF(AND(F$5>=INDIRECT("'Enter Data Here'!"&HLOOKUP($B15,'Enter Data Here'!$5:$6,2,0)&"$13"),F$5<=INDIRECT("'Enter Data Here'!"&HLOOKUP($B15,'Enter Data Here'!$5:$6,2,0)&"$14")),$B15,IF(AND(F$5>=INDIRECT("'Enter Data Here'!"&HLOOKUP($B15,'Enter Data Here'!$5:$6,2,0)&"$16"),F$5<=INDIRECT("'Enter Data Here'!"&HLOOKUP($B15,'Enter Data Here'!$5:$6,2,0)&"$17")),$B15,IF(AND(F$5>=INDIRECT("'Enter Data Here'!"&HLOOKUP($B15,'Enter Data Here'!$5:$6,2,0)&"$19"),F$5<=INDIRECT("'Enter Data Here'!"&HLOOKUP($B15,'Enter Data Here'!$5:$6,2,0)&"$20")),$B15,"")))))} | G15: {=IF(AND(G$5>=INDIRECT("'Enter Data Here'!"&HLOOKUP($B15,'Enter Data Here'!$5:$6,2,0)&"$7"),G$5<=INDIRECT("'Enter Data Here'!"&HLOOKUP($B15,'Enter Data Here'!$5:$6,2,0)&"$8")),$B15,IF(AND(G$5>=INDIRECT("'Enter Data Here'!"&HLOOKUP($B15,'Enter Data Here'!$5:$6,2,0)&"$10"),G$5<=INDIRECT("'Enter Data Here'!"&HLOOKUP($B15,'Enter Data Here'!$5:$6,2,0)&"$11")),$B15,IF(AND(G$5>=INDIRECT("'Enter Data Here'!"&HLOOKUP($B15,'Enter Data Here'!$5:$6,2,0)&"$13"),G$5<=INDIRECT("'Enter Data Here'!"&HLOOKUP($B15,'Enter Data Here'!$5:$6,2,0)&"$14")),$B15,IF(AND(G$5>=INDIRECT("'Enter Data Here'!"&HLOOKUP($B15,'Enter Data Here'!$5:$6,2,0)&"$16"),G$5<=INDIRECT("'Enter Data Here'!"&HLOOKUP($B15,'Enter Data Here'!$5:$6,2,0)&"$17")),$B15,IF(AND(G$5>=INDIRECT("'Enter Data Here'!"&HLOOKUP($B15,'Enter Data Here'!$5:$6,2,0)&"$19"),G$5<=INDIRECT("'Enter Data Here'!"&HLOOKUP($B15,'Enter Data Here'!$5:$6,2,0)&"$20")),$B15,"")))))} | H15: {=IF(AND(H$5>=INDIRECT("'Enter Data Here'!"&HLOOKUP($B15,'Enter Data Here'!$5:$6,2,0)&"$7"),H$5<=INDIRECT("'Enter Data Here'!"&HLOOKUP($B15,'Enter Data Here'!$5:$6,2,0)&"$8")),$B15,IF(AND(H$5>=INDIRECT("'Enter Data Here'!"&HLOOKUP($B15,'Enter Data Here'!$5:$6,2,0)&"$10"),H$5<=INDIRECT("'Enter Data Here'!"&HLOOKUP($B15,'Enter Data Here'!$5:$6,2,0)&"$11")),$B15,IF(AND(H$5>=INDIRECT("'Enter Data Here'!"&HLOOKUP($B15,'Enter Data Here'!$5:$6,2,0)&"$13"),H$5<=INDIRECT("'Enter Data Here'!"&HLOOKUP($B15,'Enter Data Here'!$5:$6,2,0)&"$14")),$B15,IF(AND(H$5>=INDIRECT("'Enter Data Here'!"&HLOOKUP($B15,'Enter Data Here'!$5:$6,2,0)&"$16"),H$5<=INDIRECT("'Enter Data Here'!"&HLOOKUP($B15,'Enter Data Here'!$5:$6,2,0)&"$17")),$B15,IF(AND(H$5>=INDIRECT("'Enter Data Here'!"&HLOOKUP($B15,'Enter Data Here'!$5:$6,2,0)&"$19"),H$5<=INDIRECT("'Enter Data Here'!"&HLOOKUP($B15,'Enter Data Here'!$5:$6,2,0)&"$20")),$B15,"")))))} | I15: {=IF(AND(I$5>=INDIRECT("'Enter Data Here'!"&HLOOKUP($B15,'Enter Data Here'!$5:$6,2,0)&"$7"),I$5<=INDIRECT("'Enter Data Here'!"&HLOOKUP($B15,'Enter Data Here'!$5:$6,2,0)&"$8")),$B15,IF(AND(I$5>=INDIRECT("'Enter Data Here'!"&HLOOKUP($B15,'Enter Data Here'!$5:$6,2,0)&"$10"),I$5<=INDIRECT("'Enter Data Here'!"&HLOOKUP($B15,'Enter Data Here'!$5:$6,2,0)&"$11")),$B15,IF(AND(I$5>=INDIRECT("'Enter Data Here'!"&HLOOKUP($B15,'Enter Data Here'!$5:$6,2,0)&"$13"),I$5<=INDIRECT("'Enter Data Here'!"&HLOOKUP($B15,'Enter Data Here'!$5:$6,2,0)&"$14")),$B15,IF(AND(I$5>=INDIRECT("'Enter Data Here'!"&HLOOKUP($B15,'Enter Data Here'!$5:$6,2,0)&"$16"),I$5<=INDIRECT("'Enter Data Here'!"&HLOOKUP($B15,'Enter Data Here'!$5:$6,2,0)&"$17")),$B15,IF(AND(I$5>=INDIRECT("'Enter Data Here'!"&HLOOKUP($B15,'Enter Data Here'!$5:$6,2,0)&"$19"),I$5<=INDIRECT("'Enter Data Here'!"&HLOOKUP($B15,'Enter Data Here'!$5:$6,2,0)&"$20")),$B15,"")))))} | J15: {=IF(AND(J$5>=INDIRECT("'Enter Data Here'!"&HLOOKUP($B15,'Enter Data Here'!$5:$6,2,0)&"$7"),J$5<=INDIRECT("'Enter Data Here'!"&HLOOKUP($B15,'Enter Data Here'!$5:$6,2,0)&"$8")),$B15,IF(AND(J$5>=INDIRECT("'Enter Data Here'!"&HLOOKUP($B15,'Enter Data Here'!$5:$6,2,0)&"$10"),J$5<=INDIRECT("'Enter Data Here'!"&HLOOKUP($B15,'Enter Data Here'!$5:$6,2,0)&"$11")),$B15,IF(AND(J$5>=INDIRECT("'Enter Data Here'!"&HLOOKUP($B15,'Enter Data Here'!$5:$6,2,0)&"$13"),J$5<=INDIRECT("'Enter Data Here'!"&HLOOKUP($B15,'Enter Data Here'!$5:$6,2,0)&"$14")),$B15,IF(AND(J$5>=INDIRECT("'Enter Data Here'!"&HLOOKUP($B15,'Enter Data Here'!$5:$6,2,0)&"$16"),J$5<=INDIRECT("'Enter Data Here'!"&HLOOKUP($B15,'Enter Data Here'!$5:$6,2,0)&"$17")),$B15,IF(AND(J$5>=INDIRECT("'Enter Data Here'!"&HLOOKUP($B15,'Enter Data Here'!$5:$6,2,0)&"$19"),J$5<=INDIRECT("'Enter Data Here'!"&HLOOKUP($B15,'Enter Data Here'!$5:$6,2,0)&"$20")),$B15,"")))))} | K15: {=IF(AND(K$5>=INDIRECT("'Enter Data Here'!"&HLOOKUP($B15,'Enter Data Here'!$5:$6,2,0)&"$7"),K$5<=INDIRECT("'Enter Data Here'!"&HLOOKUP($B15,'Enter Data Here'!$5:$6,2,0)&"$8")),$B15,IF(AND(K$5>=INDIRECT("'Enter Data Here'!"&HLOOKUP($B15,'Enter Data Here'!$5:$6,2,0)&"$10"),K$5<=INDIRECT("'Enter Data Here'!"&HLOOKUP($B15,'Enter Data Here'!$5:$6,2,0)&"$11")),$B15,IF(AND(K$5>=INDIRECT("'Enter Data Here'!"&HLOOKUP($B15,'Enter Data Here'!$5:$6,2,0)&"$13"),K$5<=INDIRECT("'Enter Data Here'!"&HLOOKUP($B15,'Enter Data Here'!$5:$6,2,0)&"$14")),$B15,IF(AND(K$5>=INDIRECT("'Enter Data Here'!"&HLOOKUP($B15,'Enter Data Here'!$5:$6,2,0)&"$16"),K$5<=INDIRECT("'Enter Data Here'!"&HLOOKUP($B15,'Enter Data Here'!$5:$6,2,0)&"$17")),$B15,IF(AND(K$5>=INDIRECT("'Enter Data Here'!"&HLOOKUP($B15,'Enter Data Here'!$5:$6,2,0)&"$19"),K$5<=INDIRECT("'Enter Data Here'!"&HLOOKUP($B15,'Enter Data Here'!$5:$6,2,0)&"$20")),$B15,"")))))} | L15: {=IF(AND(L$5>=INDIRECT("'Enter Data Here'!"&HLOOKUP($B15,'Enter Data Here'!$5:$6,2,0)&"$7"),L$5<=INDIRECT("'Enter Data Here'!"&HLOOKUP($B15,'Enter Data Here'!$5:$6,2,0)&"$8")),$B15,IF(AND(L$5>=INDIRECT("'Enter Data Here'!"&HLOOKUP($B15,'Enter Data Here'!$5:$6,2,0)&"$10"),L$5<=INDIRECT("'Enter Data Here'!"&HLOOKUP($B15,'Enter Data Here'!$5:$6,2,0)&"$11")),$B15,IF(AND(L$5>=INDIRECT("'Enter Data Here'!"&HLOOKUP($B15,'Enter Data Here'!$5:$6,2,0)&"$13"),L$5<=INDIRECT("'Enter Data Here'!"&HLOOKUP($B15,'Enter Data Here'!$5:$6,2,0)&"$14")),$B15,IF(AND(L$5>=INDIRECT("'Enter Data Here'!"&HLOOKUP($B15,'Enter Data Here'!$5:$6,2,0)&"$16"),L$5<=INDIRECT("'Enter Data Here'!"&HLOOKUP($B15,'Enter Data Here'!$5:$6,2,0)&"$17")),$B15,IF(AND(L$5>=INDIRECT("'Enter Data Here'!"&HLOOKUP($B15,'Enter Data Here'!$5:$6,2,0)&"$19"),L$5<=INDIRECT("'Enter Data Here'!"&HLOOKUP($B15,'Enter Data Here'!$5:$6,2,0)&"$20")),$B15,"")))))} | M15: {=IF(AND(M$5>=INDIRECT("'Enter Data Here'!"&HLOOKUP($B15,'Enter Data Here'!$5:$6,2,0)&"$7"),M$5<=INDIRECT("'Enter Data Here'!"&HLOOKUP($B15,'Enter Data Here'!$5:$6,2,0)&"$8")),$B15,IF(AND(M$5>=INDIRECT("'Enter Data Here'!"&HLOOKUP($B15,'Enter Data Here'!$5:$6,2,0)&"$10"),M$5<=INDIRECT("'Enter Data Here'!"&HLOOKUP($B15,'Enter Data Here'!$5:$6,2,0)&"$11")),$B15,IF(AND(M$5>=INDIRECT("'Enter Data Here'!"&HLOOKUP($B15,'Enter Data Here'!$5:$6,2,0)&"$13"),M$5<=INDIRECT("'Enter Data Here'!"&HLOOKUP($B15,'Enter Data Here'!$5:$6,2,0)&"$14")),$B15,IF(AND(M$5>=INDIRECT("'Enter Data Here'!"&HLOOKUP($B15,'Enter Data Here'!$5:$6,2,0)&"$16"),M$5<=INDIRECT("'Enter Data Here'!"&HLOOKUP($B15,'Enter Data Here'!$5:$6,2,0)&"$17")),$B15,IF(AND(M$5>=INDIRECT("'Enter Data Here'!"&HLOOKUP($B15,'Enter Data Here'!$5:$6,2,0)&"$19"),M$5<=INDIRECT("'Enter Data Here'!"&HLOOKUP($B15,'Enter Data Here'!$5:$6,2,0)&"$20")),$B15,"")))))} | ... AJ15: {=IF(AND(AJ$5>=INDIRECT("'Enter Data Here'!"&HLOOKUP($B15,'Enter Data Here'!$5:$6,2,0)&"$7"),AJ$5<=INDIRECT("'Enter Data Here'!"&HLOOKUP($B15,'Enter Data Here'!$5:$6,2,0)&"$8")),$B15,IF(AND(AJ$5>=INDIRECT("'Enter Data Here'!"&HLOOKUP($B15,'Enter Data Here'!$5:$6,2,0)&"$10"),AJ$5<=INDIRECT("'Enter Data Here'!"&HLOOKUP($B15,'Enter Data Here'!$5:$6,2,0)&"$11")),$B15,IF(AND(AJ$5>=INDIRECT("'Enter Data Here'!"&HLOOKUP($B15,'Enter Data Here'!$5:$6,2,0)&"$13"),AJ$5<=INDIRECT("'Enter Data Here'!"&HLOOKUP($B15,'Enter Data Here'!$5:$6,2,0)&"$14")),$B15,IF(AND(AJ$5>=INDIRECT("'Enter Data Here'!"&HLOOKUP($B15,'Enter Data Here'!$5:$6,2,0)&"$16"),AJ$5<=INDIRECT("'Enter Data Here'!"&HLOOKUP($B15,'Enter Data Here'!$5:$6,2,0)&"$17")),$B15,IF(AND(AJ$5>=INDIRECT("'Enter Data Here'!"&HLOOKUP($B15,'Enter Data Here'!$5:$6,2,0)&"$19"),AJ$5<=INDIRECT("'Enter Data Here'!"&HLOOKUP($B15,'Enter Data Here'!$5:$6,2,0)&"$20")),$B15,"")))))}
B16: ='Be4 you start'!E29 -> Tahani | F16: {=IF(AND(F$5>=INDIRECT("'Enter Data Here'!"&HLOOKUP($B16,'Enter Data Here'!$5:$6,2,0)&"$7"),F$5<=INDIRECT("'Enter Data Here'!"&HLOOKUP($B16,'Enter Data Here'!$5:$6,2,0)&"$8")),$B16,IF(AND(F$5>=INDIRECT("'Enter Data Here'!"&HLOOKUP($B16,'Enter Data Here'!$5:$6,2,0)&"$10"),F$5<=INDIRECT("'Enter Data Here'!"&HLOOKUP($B16,'Enter Data Here'!$5:$6,2,0)&"$11")),$B16,IF(AND(F$5>=INDIRECT("'Enter Data Here'!"&HLOOKUP($B16,'Enter Data Here'!$5:$6,2,0)&"$13"),F$5<=INDIRECT("'Enter Data Here'!"&HLOOKUP($B16,'Enter Data Here'!$5:$6,2,0)&"$14")),$B16,IF(AND(F$5>=INDIRECT("'Enter Data Here'!"&HLOOKUP($B16,'Enter Data Here'!$5:$6,2,0)&"$16"),F$5<=INDIRECT("'Enter Data Here'!"&HLOOKUP($B16,'Enter Data Here'!$5:$6,2,0)&"$17")),$B16,IF(AND(F$5>=INDIRECT("'Enter Data Here'!"&HLOOKUP($B16,'Enter Data Here'!$5:$6,2,0)&"$19"),F$5<=INDIRECT("'Enter Data Here'!"&HLOOKUP($B16,'Enter Data Here'!$5:$6,2,0)&"$20")),$B16,"")))))} | G16: {=IF(AND(G$5>=INDIRECT("'Enter Data Here'!"&HLOOKUP($B16,'Enter Data Here'!$5:$6,2,0)&"$7"),G$5<=INDIRECT("'Enter Data Here'!"&HLOOKUP($B16,'Enter Data Here'!$5:$6,2,0)&"$8")),$B16,IF(AND(G$5>=INDIRECT("'Enter Data Here'!"&HLOOKUP($B16,'Enter Data Here'!$5:$6,2,0)&"$10"),G$5<=INDIRECT("'Enter Data Here'!"&HLOOKUP($B16,'Enter Data Here'!$5:$6,2,0)&"$11")),$B16,IF(AND(G$5>=INDIRECT("'Enter Data Here'!"&HLOOKUP($B16,'Enter Data Here'!$5:$6,2,0)&"$13"),G$5<=INDIRECT("'Enter Data Here'!"&HLOOKUP($B16,'Enter Data Here'!$5:$6,2,0)&"$14")),$B16,IF(AND(G$5>=INDIRECT("'Enter Data Here'!"&HLOOKUP($B16,'Enter Data Here'!$5:$6,2,0)&"$16"),G$5<=INDIRECT("'Enter Data Here'!"&HLOOKUP($B16,'Enter Data Here'!$5:$6,2,0)&"$17")),$B16,IF(AND(G$5>=INDIRECT("'Enter Data Here'!"&HLOOKUP($B16,'Enter Data Here'!$5:$6,2,0)&"$19"),G$5<=INDIRECT("'Enter Data Here'!"&HLOOKUP($B16,'Enter Data Here'!$5:$6,2,0)&"$20")),$B16,"")))))} | H16: {=IF(AND(H$5>=INDIRECT("'Enter Data Here'!"&HLOOKUP($B16,'Enter Data Here'!$5:$6,2,0)&"$7"),H$5<=INDIRECT("'Enter Data Here'!"&HLOOKUP($B16,'Enter Data Here'!$5:$6,2,0)&"$8")),$B16,IF(AND(H$5>=INDIRECT("'Enter Data Here'!"&HLOOKUP($B16,'Enter Data Here'!$5:$6,2,0)&"$10"),H$5<=INDIRECT("'Enter Data Here'!"&HLOOKUP($B16,'Enter Data Here'!$5:$6,2,0)&"$11")),$B16,IF(AND(H$5>=INDIRECT("'Enter Data Here'!"&HLOOKUP($B16,'Enter Data Here'!$5:$6,2,0)&"$13"),H$5<=INDIRECT("'Enter Data Here'!"&HLOOKUP($B16,'Enter Data Here'!$5:$6,2,0)&"$14")),$B16,IF(AND(H$5>=INDIRECT("'Enter Data Here'!"&HLOOKUP($B16,'Enter Data Here'!$5:$6,2,0)&"$16"),H$5<=INDIRECT("'Enter Data Here'!"&HLOOKUP($B16,'Enter Data Here'!$5:$6,2,0)&"$17")),$B16,IF(AND(H$5>=INDIRECT("'Enter Data Here'!"&HLOOKUP($B16,'Enter Data Here'!$5:$6,2,0)&"$19"),H$5<=INDIRECT("'Enter Data Here'!"&HLOOKUP($B16,'Enter Data Here'!$5:$6,2,0)&"$20")),$B16,"")))))} | I16: {=IF(AND(I$5>=INDIRECT("'Enter Data Here'!"&HLOOKUP($B16,'Enter Data Here'!$5:$6,2,0)&"$7"),I$5<=INDIRECT("'Enter Data Here'!"&HLOOKUP($B16,'Enter Data Here'!$5:$6,2,0)&"$8")),$B16,IF(AND(I$5>=INDIRECT("'Enter Data Here'!"&HLOOKUP($B16,'Enter Data Here'!$5:$6,2,0)&"$10"),I$5<=INDIRECT("'Enter Data Here'!"&HLOOKUP($B16,'Enter Data Here'!$5:$6,2,0)&"$11")),$B16,IF(AND(I$5>=INDIRECT("'Enter Data Here'!"&HLOOKUP($B16,'Enter Data Here'!$5:$6,2,0)&"$13"),I$5<=INDIRECT("'Enter Data Here'!"&HLOOKUP($B16,'Enter Data Here'!$5:$6,2,0)&"$14")),$B16,IF(AND(I$5>=INDIRECT("'Enter Data Here'!"&HLOOKUP($B16,'Enter Data Here'!$5:$6,2,0)&"$16"),I$5<=INDIRECT("'Enter Data Here'!"&HLOOKUP($B16,'Enter Data Here'!$5:$6,2,0)&"$17")),$B16,IF(AND(I$5>=INDIRECT("'Enter Data Here'!"&HLOOKUP($B16,'Enter Data Here'!$5:$6,2,0)&"$19"),I$5<=INDIRECT("'Enter Data Here'!"&HLOOKUP($B16,'Enter Data Here'!$5:$6,2,0)&"$20")),$B16,"")))))} | J16: {=IF(AND(J$5>=INDIRECT("'Enter Data Here'!"&HLOOKUP($B16,'Enter Data Here'!$5:$6,2,0)&"$7"),J$5<=INDIRECT("'Enter Data Here'!"&HLOOKUP($B16,'Enter Data Here'!$5:$6,2,0)&"$8")),$B16,IF(AND(J$5>=INDIRECT("'Enter Data Here'!"&HLOOKUP($B16,'Enter Data Here'!$5:$6,2,0)&"$10"),J$5<=INDIRECT("'Enter Data Here'!"&HLOOKUP($B16,'Enter Data Here'!$5:$6,2,0)&"$11")),$B16,IF(AND(J$5>=INDIRECT("'Enter Data Here'!"&HLOOKUP($B16,'Enter Data Here'!$5:$6,2,0)&"$13"),J$5<=INDIRECT("'Enter Data Here'!"&HLOOKUP($B16,'Enter Data Here'!$5:$6,2,0)&"$14")),$B16,IF(AND(J$5>=INDIRECT("'Enter Data Here'!"&HLOOKUP($B16,'Enter Data Here'!$5:$6,2,0)&"$16"),J$5<=INDIRECT("'Enter Data Here'!"&HLOOKUP($B16,'Enter Data Here'!$5:$6,2,0)&"$17")),$B16,IF(AND(J$5>=INDIRECT("'Enter Data Here'!"&HLOOKUP($B16,'Enter Data Here'!$5:$6,2,0)&"$19"),J$5<=INDIRECT("'Enter Data Here'!"&HLOOKUP($B16,'Enter Data Here'!$5:$6,2,0)&"$20")),$B16,"")))))} | K16: {=IF(AND(K$5>=INDIRECT("'Enter Data Here'!"&HLOOKUP($B16,'Enter Data Here'!$5:$6,2,0)&"$7"),K$5<=INDIRECT("'Enter Data Here'!"&HLOOKUP($B16,'Enter Data Here'!$5:$6,2,0)&"$8")),$B16,IF(AND(K$5>=INDIRECT("'Enter Data Here'!"&HLOOKUP($B16,'Enter Data Here'!$5:$6,2,0)&"$10"),K$5<=INDIRECT("'Enter Data Here'!"&HLOOKUP($B16,'Enter Data Here'!$5:$6,2,0)&"$11")),$B16,IF(AND(K$5>=INDIRECT("'Enter Data Here'!"&HLOOKUP($B16,'Enter Data Here'!$5:$6,2,0)&"$13"),K$5<=INDIRECT("'Enter Data Here'!"&HLOOKUP($B16,'Enter Data Here'!$5:$6,2,0)&"$14")),$B16,IF(AND(K$5>=INDIRECT("'Enter Data Here'!"&HLOOKUP($B16,'Enter Data Here'!$5:$6,2,0)&"$16"),K$5<=INDIRECT("'Enter Data Here'!"&HLOOKUP($B16,'Enter Data Here'!$5:$6,2,0)&"$17")),$B16,IF(AND(K$5>=INDIRECT("'Enter Data Here'!"&HLOOKUP($B16,'Enter Data Here'!$5:$6,2,0)&"$19"),K$5<=INDIRECT("'Enter Data Here'!"&HLOOKUP($B16,'Enter Data Here'!$5:$6,2,0)&"$20")),$B16,"")))))} | L16: {=IF(AND(L$5>=INDIRECT("'Enter Data Here'!"&HLOOKUP($B16,'Enter Data Here'!$5:$6,2,0)&"$7"),L$5<=INDIRECT("'Enter Data Here'!"&HLOOKUP($B16,'Enter Data Here'!$5:$6,2,0)&"$8")),$B16,IF(AND(L$5>=INDIRECT("'Enter Data Here'!"&HLOOKUP($B16,'Enter Data Here'!$5:$6,2,0)&"$10"),L$5<=INDIRECT("'Enter Data Here'!"&HLOOKUP($B16,'Enter Data Here'!$5:$6,2,0)&"$11")),$B16,IF(AND(L$5>=INDIRECT("'Enter Data Here'!"&HLOOKUP($B16,'Enter Data Here'!$5:$6,2,0)&"$13"),L$5<=INDIRECT("'Enter Data Here'!"&HLOOKUP($B16,'Enter Data Here'!$5:$6,2,0)&"$14")),$B16,IF(AND(L$5>=INDIRECT("'Enter Data Here'!"&HLOOKUP($B16,'Enter Data Here'!$5:$6,2,0)&"$16"),L$5<=INDIRECT("'Enter Data Here'!"&HLOOKUP($B16,'Enter Data Here'!$5:$6,2,0)&"$17")),$B16,IF(AND(L$5>=INDIRECT("'Enter Data Here'!"&HLOOKUP($B16,'Enter Data Here'!$5:$6,2,0)&"$19"),L$5<=INDIRECT("'Enter Data Here'!"&HLOOKUP($B16,'Enter Data Here'!$5:$6,2,0)&"$20")),$B16,"")))))} | M16: {=IF(AND(M$5>=INDIRECT("'Enter Data Here'!"&HLOOKUP($B16,'Enter Data Here'!$5:$6,2,0)&"$7"),M$5<=INDIRECT("'Enter Data Here'!"&HLOOKUP($B16,'Enter Data Here'!$5:$6,2,0)&"$8")),$B16,IF(AND(M$5>=INDIRECT("'Enter Data Here'!"&HLOOKUP($B16,'Enter Data Here'!$5:$6,2,0)&"$10"),M$5<=INDIRECT("'Enter Data Here'!"&HLOOKUP($B16,'Enter Data Here'!$5:$6,2,0)&"$11")),$B16,IF(AND(M$5>=INDIRECT("'Enter Data Here'!"&HLOOKUP($B16,'Enter Data Here'!$5:$6,2,0)&"$13"),M$5<=INDIRECT("'Enter Data Here'!"&HLOOKUP($B16,'Enter Data Here'!$5:$6,2,0)&"$14")),$B16,IF(AND(M$5>=INDIRECT("'Enter Data Here'!"&HLOOKUP($B16,'Enter Data Here'!$5:$6,2,0)&"$16"),M$5<=INDIRECT("'Enter Data Here'!"&HLOOKUP($B16,'Enter Data Here'!$5:$6,2,0)&"$17")),$B16,IF(AND(M$5>=INDIRECT("'Enter Data Here'!"&HLOOKUP($B16,'Enter Data Here'!$5:$6,2,0)&"$19"),M$5<=INDIRECT("'Enter Data Here'!"&HLOOKUP($B16,'Enter Data Here'!$5:$6,2,0)&"$20")),$B16,"")))))} | ... AJ16: {=IF(AND(AJ$5>=INDIRECT("'Enter Data Here'!"&HLOOKUP($B16,'Enter Data Here'!$5:$6,2,0)&"$7"),AJ$5<=INDIRECT("'Enter Data Here'!"&HLOOKUP($B16,'Enter Data Here'!$5:$6,2,0)&"$8")),$B16,IF(AND(AJ$5>=INDIRECT("'Enter Data Here'!"&HLOOKUP($B16,'Enter Data Here'!$5:$6,2,0)&"$10"),AJ$5<=INDIRECT("'Enter Data Here'!"&HLOOKUP($B16,'Enter Data Here'!$5:$6,2,0)&"$11")),$B16,IF(AND(AJ$5>=INDIRECT("'Enter Data Here'!"&HLOOKUP($B16,'Enter Data Here'!$5:$6,2,0)&"$13"),AJ$5<=INDIRECT("'Enter Data Here'!"&HLOOKUP($B16,'Enter Data Here'!$5:$6,2,0)&"$14")),$B16,IF(AND(AJ$5>=INDIRECT("'Enter Data Here'!"&HLOOKUP($B16,'Enter Data Here'!$5:$6,2,0)&"$16"),AJ$5<=INDIRECT("'Enter Data Here'!"&HLOOKUP($B16,'Enter Data Here'!$5:$6,2,0)&"$17")),$B16,IF(AND(AJ$5>=INDIRECT("'Enter Data Here'!"&HLOOKUP($B16,'Enter Data Here'!$5:$6,2,0)&"$19"),AJ$5<=INDIRECT("'Enter Data Here'!"&HLOOKUP($B16,'Enter Data Here'!$5:$6,2,0)&"$20")),$B16,"")))))}
B17: ='Be4 you start'!E30 -> ياسمين | F17: {=IF(AND(F$5>=INDIRECT("'Enter Data Here'!"&HLOOKUP($B17,'Enter Data Here'!$5:$6,2,0)&"$7"),F$5<=INDIRECT("'Enter Data Here'!"&HLOOKUP($B17,'Enter Data Here'!$5:$6,2,0)&"$8")),$B17,IF(AND(F$5>=INDIRECT("'Enter Data Here'!"&HLOOKUP($B17,'Enter Data Here'!$5:$6,2,0)&"$10"),F$5<=INDIRECT("'Enter Data Here'!"&HLOOKUP($B17,'Enter Data Here'!$5:$6,2,0)&"$11")),$B17,IF(AND(F$5>=INDIRECT("'Enter Data Here'!"&HLOOKUP($B17,'Enter Data Here'!$5:$6,2,0)&"$13"),F$5<=INDIRECT("'Enter Data Here'!"&HLOOKUP($B17,'Enter Data Here'!$5:$6,2,0)&"$14")),$B17,IF(AND(F$5>=INDIRECT("'Enter Data Here'!"&HLOOKUP($B17,'Enter Data Here'!$5:$6,2,0)&"$16"),F$5<=INDIRECT("'Enter Data Here'!"&HLOOKUP($B17,'Enter Data Here'!$5:$6,2,0)&"$17")),$B17,IF(AND(F$5>=INDIRECT("'Enter Data Here'!"&HLOOKUP($B17,'Enter Data Here'!$5:$6,2,0)&"$19"),F$5<=INDIRECT("'Enter Data Here'!"&HLOOKUP($B17,'Enter Data Here'!$5:$6,2,0)&"$20")),$B17,"")))))} | G17: {=IF(AND(G$5>=INDIRECT("'Enter Data Here'!"&HLOOKUP($B17,'Enter Data Here'!$5:$6,2,0)&"$7"),G$5<=INDIRECT("'Enter Data Here'!"&HLOOKUP($B17,'Enter Data Here'!$5:$6,2,0)&"$8")),$B17,IF(AND(G$5>=INDIRECT("'Enter Data Here'!"&HLOOKUP($B17,'Enter Data Here'!$5:$6,2,0)&"$10"),G$5<=INDIRECT("'Enter Data Here'!"&HLOOKUP($B17,'Enter Data Here'!$5:$6,2,0)&"$11")),$B17,IF(AND(G$5>=INDIRECT("'Enter Data Here'!"&HLOOKUP($B17,'Enter Data Here'!$5:$6,2,0)&"$13"),G$5<=INDIRECT("'Enter Data Here'!"&HLOOKUP($B17,'Enter Data Here'!$5:$6,2,0)&"$14")),$B17,IF(AND(G$5>=INDIRECT("'Enter Data Here'!"&HLOOKUP($B17,'Enter Data Here'!$5:$6,2,0)&"$16"),G$5<=INDIRECT("'Enter Data Here'!"&HLOOKUP($B17,'Enter Data Here'!$5:$6,2,0)&"$17")),$B17,IF(AND(G$5>=INDIRECT("'Enter Data Here'!"&HLOOKUP($B17,'Enter Data Here'!$5:$6,2,0)&"$19"),G$5<=INDIRECT("'Enter Data Here'!"&HLOOKUP($B17,'Enter Data Here'!$5:$6,2,0)&"$20")),$B17,"")))))} | H17: {=IF(AND(H$5>=INDIRECT("'Enter Data Here'!"&HLOOKUP($B17,'Enter Data Here'!$5:$6,2,0)&"$7"),H$5<=INDIRECT("'Enter Data Here'!"&HLOOKUP($B17,'Enter Data Here'!$5:$6,2,0)&"$8")),$B17,IF(AND(H$5>=INDIRECT("'Enter Data Here'!"&HLOOKUP($B17,'Enter Data Here'!$5:$6,2,0)&"$10"),H$5<=INDIRECT("'Enter Data Here'!"&HLOOKUP($B17,'Enter Data Here'!$5:$6,2,0)&"$11")),$B17,IF(AND(H$5>=INDIRECT("'Enter Data Here'!"&HLOOKUP($B17,'Enter Data Here'!$5:$6,2,0)&"$13"),H$5<=INDIRECT("'Enter Data Here'!"&HLOOKUP($B17,'Enter Data Here'!$5:$6,2,0)&"$14")),$B17,IF(AND(H$5>=INDIRECT("'Enter Data Here'!"&HLOOKUP($B17,'Enter Data Here'!$5:$6,2,0)&"$16"),H$5<=INDIRECT("'Enter Data Here'!"&HLOOKUP($B17,'Enter Data Here'!$5:$6,2,0)&"$17")),$B17,IF(AND(H$5>=INDIRECT("'Enter Data Here'!"&HLOOKUP($B17,'Enter Data Here'!$5:$6,2,0)&"$19"),H$5<=INDIRECT("'Enter Data Here'!"&HLOOKUP($B17,'Enter Data Here'!$5:$6,2,0)&"$20")),$B17,"")))))} | I17: {=IF(AND(I$5>=INDIRECT("'Enter Data Here'!"&HLOOKUP($B17,'Enter Data Here'!$5:$6,2,0)&"$7"),I$5<=INDIRECT("'Enter Data Here'!"&HLOOKUP($B17,'Enter Data Here'!$5:$6,2,0)&"$8")),$B17,IF(AND(I$5>=INDIRECT("'Enter Data Here'!"&HLOOKUP($B17,'Enter Data Here'!$5:$6,2,0)&"$10"),I$5<=INDIRECT("'Enter Data Here'!"&HLOOKUP($B17,'Enter Data Here'!$5:$6,2,0)&"$11")),$B17,IF(AND(I$5>=INDIRECT("'Enter Data Here'!"&HLOOKUP($B17,'Enter Data Here'!$5:$6,2,0)&"$13"),I$5<=INDIRECT("'Enter Data Here'!"&HLOOKUP($B17,'Enter Data Here'!$5:$6,2,0)&"$14")),$B17,IF(AND(I$5>=INDIRECT("'Enter Data Here'!"&HLOOKUP($B17,'Enter Data Here'!$5:$6,2,0)&"$16"),I$5<=INDIRECT("'Enter Data Here'!"&HLOOKUP($B17,'Enter Data Here'!$5:$6,2,0)&"$17")),$B17,IF(AND(I$5>=INDIRECT("'Enter Data Here'!"&HLOOKUP($B17,'Enter Data Here'!$5:$6,2,0)&"$19"),I$5<=INDIRECT("'Enter Data Here'!"&HLOOKUP($B17,'Enter Data Here'!$5:$6,2,0)&"$20")),$B17,"")))))} | J17: {=IF(AND(J$5>=INDIRECT("'Enter Data Here'!"&HLOOKUP($B17,'Enter Data Here'!$5:$6,2,0)&"$7"),J$5<=INDIRECT("'Enter Data Here'!"&HLOOKUP($B17,'Enter Data Here'!$5:$6,2,0)&"$8")),$B17,IF(AND(J$5>=INDIRECT("'Enter Data Here'!"&HLOOKUP($B17,'Enter Data Here'!$5:$6,2,0)&"$10"),J$5<=INDIRECT("'Enter Data Here'!"&HLOOKUP($B17,'Enter Data Here'!$5:$6,2,0)&"$11")),$B17,IF(AND(J$5>=INDIRECT("'Enter Data Here'!"&HLOOKUP($B17,'Enter Data Here'!$5:$6,2,0)&"$13"),J$5<=INDIRECT("'Enter Data Here'!"&HLOOKUP($B17,'Enter Data Here'!$5:$6,2,0)&"$14")),$B17,IF(AND(J$5>=INDIRECT("'Enter Data Here'!"&HLOOKUP($B17,'Enter Data Here'!$5:$6,2,0)&"$16"),J$5<=INDIRECT("'Enter Data Here'!"&HLOOKUP($B17,'Enter Data Here'!$5:$6,2,0)&"$17")),$B17,IF(AND(J$5>=INDIRECT("'Enter Data Here'!"&HLOOKUP($B17,'Enter Data Here'!$5:$6,2,0)&"$19"),J$5<=INDIRECT("'Enter Data Here'!"&HLOOKUP($B17,'Enter Data Here'!$5:$6,2,0)&"$20")),$B17,"")))))} | K17: {=IF(AND(K$5>=INDIRECT("'Enter Data Here'!"&HLOOKUP($B17,'Enter Data Here'!$5:$6,2,0)&"$7"),K$5<=INDIRECT("'Enter Data Here'!"&HLOOKUP($B17,'Enter Data Here'!$5:$6,2,0)&"$8")),$B17,IF(AND(K$5>=INDIRECT("'Enter Data Here'!"&HLOOKUP($B17,'Enter Data Here'!$5:$6,2,0)&"$10"),K$5<=INDIRECT("'Enter Data Here'!"&HLOOKUP($B17,'Enter Data Here'!$5:$6,2,0)&"$11")),$B17,IF(AND(K$5>=INDIRECT("'Enter Data Here'!"&HLOOKUP($B17,'Enter Data Here'!$5:$6,2,0)&"$13"),K$5<=INDIRECT("'Enter Data Here'!"&HLOOKUP($B17,'Enter Data Here'!$5:$6,2,0)&"$14")),$B17,IF(AND(K$5>=INDIRECT("'Enter Data Here'!"&HLOOKUP($B17,'Enter Data Here'!$5:$6,2,0)&"$16"),K$5<=INDIRECT("'Enter Data Here'!"&HLOOKUP($B17,'Enter Data Here'!$5:$6,2,0)&"$17")),$B17,IF(AND(K$5>=INDIRECT("'Enter Data Here'!"&HLOOKUP($B17,'Enter Data Here'!$5:$6,2,0)&"$19"),K$5<=INDIRECT("'Enter Data Here'!"&HLOOKUP($B17,'Enter Data Here'!$5:$6,2,0)&"$20")),$B17,"")))))} | L17: {=IF(AND(L$5>=INDIRECT("'Enter Data Here'!"&HLOOKUP($B17,'Enter Data Here'!$5:$6,2,0)&"$7"),L$5<=INDIRECT("'Enter Data Here'!"&HLOOKUP($B17,'Enter Data Here'!$5:$6,2,0)&"$8")),$B17,IF(AND(L$5>=INDIRECT("'Enter Data Here'!"&HLOOKUP($B17,'Enter Data Here'!$5:$6,2,0)&"$10"),L$5<=INDIRECT("'Enter Data Here'!"&HLOOKUP($B17,'Enter Data Here'!$5:$6,2,0)&"$11")),$B17,IF(AND(L$5>=INDIRECT("'Enter Data Here'!"&HLOOKUP($B17,'Enter Data Here'!$5:$6,2,0)&"$13"),L$5<=INDIRECT("'Enter Data Here'!"&HLOOKUP($B17,'Enter Data Here'!$5:$6,2,0)&"$14")),$B17,IF(AND(L$5>=INDIRECT("'Enter Data Here'!"&HLOOKUP($B17,'Enter Data Here'!$5:$6,2,0)&"$16"),L$5<=INDIRECT("'Enter Data Here'!"&HLOOKUP($B17,'Enter Data Here'!$5:$6,2,0)&"$17")),$B17,IF(AND(L$5>=INDIRECT("'Enter Data Here'!"&HLOOKUP($B17,'Enter Data Here'!$5:$6,2,0)&"$19"),L$5<=INDIRECT("'Enter Data Here'!"&HLOOKUP($B17,'Enter Data Here'!$5:$6,2,0)&"$20")),$B17,"")))))} | M17: {=IF(AND(M$5>=INDIRECT("'Enter Data Here'!"&HLOOKUP($B17,'Enter Data Here'!$5:$6,2,0)&"$7"),M$5<=INDIRECT("'Enter Data Here'!"&HLOOKUP($B17,'Enter Data Here'!$5:$6,2,0)&"$8")),$B17,IF(AND(M$5>=INDIRECT("'Enter Data Here'!"&HLOOKUP($B17,'Enter Data Here'!$5:$6,2,0)&"$10"),M$5<=INDIRECT("'Enter Data Here'!"&HLOOKUP($B17,'Enter Data Here'!$5:$6,2,0)&"$11")),$B17,IF(AND(M$5>=INDIRECT("'Enter Data Here'!"&HLOOKUP($B17,'Enter Data Here'!$5:$6,2,0)&"$13"),M$5<=INDIRECT("'Enter Data Here'!"&HLOOKUP($B17,'Enter Data Here'!$5:$6,2,0)&"$14")),$B17,IF(AND(M$5>=INDIRECT("'Enter Data Here'!"&HLOOKUP($B17,'Enter Data Here'!$5:$6,2,0)&"$16"),M$5<=INDIRECT("'Enter Data Here'!"&HLOOKUP($B17,'Enter Data Here'!$5:$6,2,0)&"$17")),$B17,IF(AND(M$5>=INDIRECT("'Enter Data Here'!"&HLOOKUP($B17,'Enter Data Here'!$5:$6,2,0)&"$19"),M$5<=INDIRECT("'Enter Data Here'!"&HLOOKUP($B17,'Enter Data Here'!$5:$6,2,0)&"$20")),$B17,"")))))} | ... AJ17: {=IF(AND(AJ$5>=INDIRECT("'Enter Data Here'!"&HLOOKUP($B17,'Enter Data Here'!$5:$6,2,0)&"$7"),AJ$5<=INDIRECT("'Enter Data Here'!"&HLOOKUP($B17,'Enter Data Here'!$5:$6,2,0)&"$8")),$B17,IF(AND(AJ$5>=INDIRECT("'Enter Data Here'!"&HLOOKUP($B17,'Enter Data Here'!$5:$6,2,0)&"$10"),AJ$5<=INDIRECT("'Enter Data Here'!"&HLOOKUP($B17,'Enter Data Here'!$5:$6,2,0)&"$11")),$B17,IF(AND(AJ$5>=INDIRECT("'Enter Data Here'!"&HLOOKUP($B17,'Enter Data Here'!$5:$6,2,0)&"$13"),AJ$5<=INDIRECT("'Enter Data Here'!"&HLOOKUP($B17,'Enter Data Here'!$5:$6,2,0)&"$14")),$B17,IF(AND(AJ$5>=INDIRECT("'Enter Data Here'!"&HLOOKUP($B17,'Enter Data Here'!$5:$6,2,0)&"$16"),AJ$5<=INDIRECT("'Enter Data Here'!"&HLOOKUP($B17,'Enter Data Here'!$5:$6,2,0)&"$17")),$B17,IF(AND(AJ$5>=INDIRECT("'Enter Data Here'!"&HLOOKUP($B17,'Enter Data Here'!$5:$6,2,0)&"$19"),AJ$5<=INDIRECT("'Enter Data Here'!"&HLOOKUP($B17,'Enter Data Here'!$5:$6,2,0)&"$20")),$B17,"")))))}
F18: =WEEKDAY(F20) -> 7 | G18: =WEEKDAY(G20) -> 1 | H18: =WEEKDAY(H20) -> 2 | I18: =WEEKDAY(I20) -> 3 | J18: =WEEKDAY(J20) -> 4 | K18: =WEEKDAY(K20) -> 5 | L18: =WEEKDAY(L20) -> 6 | M18: =WEEKDAY(M20) -> 7 | ... AH18: =WEEKDAY(AH20) -> 7
F19: =COUNTBLANK(F22:F32)-'Be4 you start'!$S$32 -> 2 | G19: =COUNTBLANK(G22:G32)-'Be4 you start'!$S$32 -> 2 | H19: =COUNTBLANK(H22:H32)-'Be4 you start'!$S$32 -> 2 | I19: =COUNTBLANK(I22:I32)-'Be4 you start'!$S$32 -> 2 | J19: =COUNTBLANK(J22:J32)-'Be4 you start'!$S$32 -> 2 | K19: =COUNTBLANK(K22:K32)-'Be4 you start'!$S$32 -> 2 | L19: =COUNTBLANK(L22:L32)-'Be4 you start'!$S$32 -> 2 | M19: =COUNTBLANK(M22:M32)-'Be4 you start'!$S$32 -> 2 | ... AH19: =COUNTBLANK(AH22:AH32)-'Be4 you start'!$S$32 -> 4
D20: February | E20: 2 | F20: =DATE($B$1,$E$20,F21) -> 45689 | G20: =DATE($B$1,$E$20,G21) -> 45690 | H20: =DATE($B$1,$E$20,H21) -> 45691 | I20: =DATE($B$1,$E$20,I21) -> 45692 | J20: =DATE($B$1,$E$20,J21) -> 45693 | K20: =DATE($B$1,$E$20,K21) -> 45694 | L20: =DATE($B$1,$E$20,L21) -> 45695 | M20: =DATE($B$1,$E$20,M21) -> 45696 | ... AH20: =DATE($B$1,$E$20,AH21) -> 45717 | AI20: ='Be4 you start'!E15
F21: 1 | G21: 2 | H21: 3 | I21: 4 | J21: 5 | K21: 6 | L21: 7 | M21: 8 | N21: 9 | O21: 10 | P21: 11 | Q21: 12 | R21: 13 | S21: 14 | T21: 15 | U21: 16 | V21: 17 | W21: 18 | X21: 19 | Y21: 20 | Z21: 21 | AA21: 22 | AB21: 23 | AC21: 24 | AD21: 25 | AE21: 26 | AF21: 27 | AG21: 28 | AH21: 29
B22: ='Be4 you start'!E20 -> Mustafa Habra | F22: {=IF(AND(F$20>=INDIRECT("'Enter Data Here'!"&HLOOKUP($B22,'Enter Data Here'!$5:$6,2,0)&"$7"),F$20<=INDIRECT("'Enter Data Here'!"&HLOOKUP($B22,'Enter Data Here'!$5:$6,2,0)&"$8")),$B22,IF(AND(F$20>=INDIRECT("'Enter Data Here'!"&HLOOKUP($B22,'Enter Data Here'!$5:$6,2,0)&"$10"),F$20<=INDIRECT("'Enter Data Here'!"&HLOOKUP($B22,'Enter Data Here'!$5:$6,2,0)&"$11")),$B22,IF(AND(F$20>=INDIRECT("'Enter Data Here'!"&HLOOKUP($B22,'Enter Data Here'!$5:$6,2,0)&"$13"),F$20<=INDIRECT("'Enter Data Here'!"&HLOOKUP($B22,'Enter Data Here'!$5:$6,2,0)&"$14")),$B22,IF(AND(F$20>=INDIRECT("'Enter Data Here'!"&HLOOKUP($B22,'Enter Data Here'!$5:$6,2,0)&"$16"),F$20<=INDIRECT("'Enter Data Here'!"&HLOOKUP($B22,'Enter Data Here'!$5:$6,2,0)&"$17")),$B22,IF(AND(F$20>=INDIRECT("'Enter Data Here'!"&HLOOKUP($B22,'Enter Data Here'!$5:$6,2,0)&"$19"),F$20<=INDIRECT("'Enter Data Here'!"&HLOOKUP($B22,'Enter Data Here'!$5:$6,2,0)&"$20")),$B22,"")))))} | G22: {=IF(AND(G$20>=INDIRECT("'Enter Data Here'!"&HLOOKUP($B22,'Enter Data Here'!$5:$6,2,0)&"$7"),G$20<=INDIRECT("'Enter Data Here'!"&HLOOKUP($B22,'Enter Data Here'!$5:$6,2,0)&"$8")),$B22,IF(AND(G$20>=INDIRECT("'Enter Data Here'!"&HLOOKUP($B22,'Enter Data Here'!$5:$6,2,0)&"$10"),G$20<=INDIRECT("'Enter Data Here'!"&HLOOKUP($B22,'Enter Data Here'!$5:$6,2,0)&"$11")),$B22,IF(AND(G$20>=INDIRECT("'Enter Data Here'!"&HLOOKUP($B22,'Enter Data Here'!$5:$6,2,0)&"$13"),G$20<=INDIRECT("'Enter Data Here'!"&HLOOKUP($B22,'Enter Data Here'!$5:$6,2,0)&"$14")),$B22,IF(AND(G$20>=INDIRECT("'Enter Data Here'!"&HLOOKUP($B22,'Enter Data Here'!$5:$6,2,0)&"$16"),G$20<=INDIRECT("'Enter Data Here'!"&HLOOKUP($B22,'Enter Data Here'!$5:$6,2,0)&"$17")),$B22,IF(AND(G$20>=INDIRECT("'Enter Data Here'!"&HLOOKUP($B22,'Enter Data Here'!$5:$6,2,0)&"$19"),G$20<=INDIRECT("'Enter Data Here'!"&HLOOKUP($B22,'Enter Data Here'!$5:$6,2,0)&"$20")),$B22,"")))))} | H22: {=IF(AND(H$20>=INDIRECT("'Enter Data Here'!"&HLOOKUP($B22,'Enter Data Here'!$5:$6,2,0)&"$7"),H$20<=INDIRECT("'Enter Data Here'!"&HLOOKUP($B22,'Enter Data Here'!$5:$6,2,0)&"$8")),$B22,IF(AND(H$20>=INDIRECT("'Enter Data Here'!"&HLOOKUP($B22,'Enter Data Here'!$5:$6,2,0)&"$10"),H$20<=INDIRECT("'Enter Data Here'!"&HLOOKUP($B22,'Enter Data Here'!$5:$6,2,0)&"$11")),$B22,IF(AND(H$20>=INDIRECT("'Enter Data Here'!"&HLOOKUP($B22,'Enter Data Here'!$5:$6,2,0)&"$13"),H$20<=INDIRECT("'Enter Data Here'!"&HLOOKUP($B22,'Enter Data Here'!$5:$6,2,0)&"$14")),$B22,IF(AND(H$20>=INDIRECT("'Enter Data Here'!"&HLOOKUP($B22,'Enter Data Here'!$5:$6,2,0)&"$16"),H$20<=INDIRECT("'Enter Data Here'!"&HLOOKUP($B22,'Enter Data Here'!$5:$6,2,0)&"$17")),$B22,IF(AND(H$20>=INDIRECT("'Enter Data Here'!"&HLOOKUP($B22,'Enter Data Here'!$5:$6,2,0)&"$19"),H$20<=INDIRECT("'Enter Data Here'!"&HLOOKUP($B22,'Enter Data Here'!$5:$6,2,0)&"$20")),$B22,"")))))} | I22: {=IF(AND(I$20>=INDIRECT("'Enter Data Here'!"&HLOOKUP($B22,'Enter Data Here'!$5:$6,2,0)&"$7"),I$20<=INDIRECT("'Enter Data Here'!"&HLOOKUP($B22,'Enter Data Here'!$5:$6,2,0)&"$8")),$B22,IF(AND(I$20>=INDIRECT("'Enter Data Here'!"&HLOOKUP($B22,'Enter Data Here'!$5:$6,2,0)&"$10"),I$20<=INDIRECT("'Enter Data Here'!"&HLOOKUP($B22,'Enter Data Here'!$5:$6,2,0)&"$11")),$B22,IF(AND(I$20>=INDIRECT("'Enter Data Here'!"&HLOOKUP($B22,'Enter Data Here'!$5:$6,2,0)&"$13"),I$20<=INDIRECT("'Enter Data Here'!"&HLOOKUP($B22,'Enter Data Here'!$5:$6,2,0)&"$14")),$B22,IF(AND(I$20>=INDIRECT("'Enter Data Here'!"&HLOOKUP($B22,'Enter Data Here'!$5:$6,2,0)&"$16"),I$20<=INDIRECT("'Enter Data Here'!"&HLOOKUP($B22,'Enter Data Here'!$5:$6,2,0)&"$17")),$B22,IF(AND(I$20>=INDIRECT("'Enter Data Here'!"&HLOOKUP($B22,'Enter Data Here'!$5:$6,2,0)&"$19"),I$20<=INDIRECT("'Enter Data Here'!"&HLOOKUP($B22,'Enter Data Here'!$5:$6,2,0)&"$20")),$B22,"")))))} | J22: {=IF(AND(J$20>=INDIRECT("'Enter Data Here'!"&HLOOKUP($B22,'Enter Data Here'!$5:$6,2,0)&"$7"),J$20<=INDIRECT("'Enter Data Here'!"&HLOOKUP($B22,'Enter Data Here'!$5:$6,2,0)&"$8")),$B22,IF(AND(J$20>=INDIRECT("'Enter Data Here'!"&HLOOKUP($B22,'Enter Data Here'!$5:$6,2,0)&"$10"),J$20<=INDIRECT("'Enter Data Here'!"&HLOOKUP($B22,'Enter Data Here'!$5:$6,2,0)&"$11")),$B22,IF(AND(J$20>=INDIRECT("'Enter Data Here'!"&HLOOKUP($B22,'Enter Data Here'!$5:$6,2,0)&"$13"),J$20<=INDIRECT("'Enter Data Here'!"&HLOOKUP($B22,'Enter Data Here'!$5:$6,2,0)&"$14")),$B22,IF(AND(J$20>=INDIRECT("'Enter Data Here'!"&HLOOKUP($B22,'Enter Data Here'!$5:$6,2,0)&"$16"),J$20<=INDIRECT("'Enter Data Here'!"&HLOOKUP($B22,'Enter Data Here'!$5:$6,2,0)&"$17")),$B22,IF(AND(J$20>=INDIRECT("'Enter Data Here'!"&HLOOKUP($B22,'Enter Data Here'!$5:$6,2,0)&"$19"),J$20<=INDIRECT("'Enter Data Here'!"&HLOOKUP($B22,'Enter Data Here'!$5:$6,2,0)&"$20")),$B22,"")))))} | K22: {=IF(AND(K$20>=INDIRECT("'Enter Data Here'!"&HLOOKUP($B22,'Enter Data Here'!$5:$6,2,0)&"$7"),K$20<=INDIRECT("'Enter Data Here'!"&HLOOKUP($B22,'Enter Data Here'!$5:$6,2,0)&"$8")),$B22,IF(AND(K$20>=INDIRECT("'Enter Data Here'!"&HLOOKUP($B22,'Enter Data Here'!$5:$6,2,0)&"$10"),K$20<=INDIRECT("'Enter Data Here'!"&HLOOKUP($B22,'Enter Data Here'!$5:$6,2,0)&"$11")),$B22,IF(AND(K$20>=INDIRECT("'Enter Data Here'!"&HLOOKUP($B22,'Enter Data Here'!$5:$6,2,0)&"$13"),K$20<=INDIRECT("'Enter Data Here'!"&HLOOKUP($B22,'Enter Data Here'!$5:$6,2,0)&"$14")),$B22,IF(AND(K$20>=INDIRECT("'Enter Data Here'!"&HLOOKUP($B22,'Enter Data Here'!$5:$6,2,0)&"$16"),K$20<=INDIRECT("'Enter Data Here'!"&HLOOKUP($B22,'Enter Data Here'!$5:$6,2,0)&"$17")),$B22,IF(AND(K$20>=INDIRECT("'Enter Data Here'!"&HLOOKUP($B22,'Enter Data Here'!$5:$6,2,0)&"$19"),K$20<=INDIRECT("'Enter Data Here'!"&HLOOKUP($B22,'Enter Data Here'!$5:$6,2,0)&"$20")),$B22,"")))))} | L22: {=IF(AND(L$20>=INDIRECT("'Enter Data Here'!"&HLOOKUP($B22,'Enter Data Here'!$5:$6,2,0)&"$7"),L$20<=INDIRECT("'Enter Data Here'!"&HLOOKUP($B22,'Enter Data Here'!$5:$6,2,0)&"$8")),$B22,IF(AND(L$20>=INDIRECT("'Enter Data Here'!"&HLOOKUP($B22,'Enter Data Here'!$5:$6,2,0)&"$10"),L$20<=INDIRECT("'Enter Data Here'!"&HLOOKUP($B22,'Enter Data Here'!$5:$6,2,0)&"$11")),$B22,IF(AND(L$20>=INDIRECT("'Enter Data Here'!"&HLOOKUP($B22,'Enter Data Here'!$5:$6,2,0)&"$13"),L$20<=INDIRECT("'Enter Data Here'!"&HLOOKUP($B22,'Enter Data Here'!$5:$6,2,0)&"$14")),$B22,IF(AND(L$20>=INDIRECT("'Enter Data Here'!"&HLOOKUP($B22,'Enter Data Here'!$5:$6,2,0)&"$16"),L$20<=INDIRECT("'Enter Data Here'!"&HLOOKUP($B22,'Enter Data Here'!$5:$6,2,0)&"$17")),$B22,IF(AND(L$20>=INDIRECT("'Enter Data Here'!"&HLOOKUP($B22,'Enter Data Here'!$5:$6,2,0)&"$19"),L$20<=INDIRECT("'Enter Data Here'!"&HLOOKUP($B22,'Enter Data Here'!$5:$6,2,0)&"$20")),$B22,"")))))} | M22: {=IF(AND(M$20>=INDIRECT("'Enter Data Here'!"&HLOOKUP($B22,'Enter Data Here'!$5:$6,2,0)&"$7"),M$20<=INDIRECT("'Enter Data Here'!"&HLOOKUP($B22,'Enter Data Here'!$5:$6,2,0)&"$8")),$B22,IF(AND(M$20>=INDIRECT("'Enter Data Here'!"&HLOOKUP($B22,'Enter Data Here'!$5:$6,2,0)&"$10"),M$20<=INDIRECT("'Enter Data Here'!"&HLOOKUP($B22,'Enter Data Here'!$5:$6,2,0)&"$11")),$B22,IF(AND(M$20>=INDIRECT("'Enter Data Here'!"&HLOOKUP($B22,'Enter Data Here'!$5:$6,2,0)&"$13"),M$20<=INDIRECT("'Enter Data Here'!"&HLOOKUP($B22,'Enter Data Here'!$5:$6,2,0)&"$14")),$B22,IF(AND(M$20>=INDIRECT("'Enter Data Here'!"&HLOOKUP($B22,'Enter Data Here'!$5:$6,2,0)&"$16"),M$20<=INDIRECT("'Enter Data Here'!"&HLOOKUP($B22,'Enter Data Here'!$5:$6,2,0)&"$17")),$B22,IF(AND(M$20>=INDIRECT("'Enter Data Here'!"&HLOOKUP($B22,'Enter Data Here'!$5:$6,2,0)&"$19"),M$20<=INDIRECT("'Enter Data Here'!"&HLOOKUP($B22,'Enter Data Here'!$5:$6,2,0)&"$20")),$B22,"")))))} | ... AH22: {=IF(AND(AH$20>=INDIRECT("'Enter Data Here'!"&HLOOKUP($B22,'Enter Data Here'!$5:$6,2,0)&"$7"),AH$20<=INDIRECT("'Enter Data Here'!"&HLOOKUP($B22,'Enter Data Here'!$5:$6,2,0)&"$8")),$B22,IF(AND(AH$20>=INDIRECT("'Enter Data Here'!"&HLOOKUP($B22,'Enter Data Here'!$5:$6,2,0)&"$10"),AH$20<=INDIRECT("'Enter Data Here'!"&HLOOKUP($B22,'Enter Data Here'!$5:$6,2,0)&"$11")),$B22,IF(AND(AH$20>=INDIRECT("'Enter Data Here'!"&HLOOKUP($B22,'Enter Data Here'!$5:$6,2,0)&"$13"),AH$20<=INDIRECT("'Enter Data Here'!"&HLOOKUP($B22,'Enter Data Here'!$5:$6,2,0)&"$14")),$B22,IF(AND(AH$20>=INDIRECT("'Enter Data Here'!"&HLOOKUP($B22,'Enter Data Here'!$5:$6,2,0)&"$16"),AH$20<=INDIRECT("'Enter Data Here'!"&HLOOKUP($B22,'Enter Data Here'!$5:$6,2,0)&"$17")),$B22,IF(AND(AH$20>=INDIRECT("'Enter Data Here'!"&HLOOKUP($B22,'Enter Data Here'!$5:$6,2,0)&"$19"),AH$20<=INDIRECT("'Enter Data Here'!"&HLOOKUP($B22,'Enter Data Here'!$5:$6,2,0)&"$20")),$B22,"")))))}
B23: ='Be4 you start'!E21 -> Waseem Zeitouni | F23: {=IF(AND(F$20>=INDIRECT("'Enter Data Here'!"&HLOOKUP($B23,'Enter Data Here'!$5:$6,2,0)&"$7"),F$20<=INDIRECT("'Enter Data Here'!"&HLOOKUP($B23,'Enter Data Here'!$5:$6,2,0)&"$8")),$B23,IF(AND(F$20>=INDIRECT("'Enter Data Here'!"&HLOOKUP($B23,'Enter Data Here'!$5:$6,2,0)&"$10"),F$20<=INDIRECT("'Enter Data Here'!"&HLOOKUP($B23,'Enter Data Here'!$5:$6,2,0)&"$11")),$B23,IF(AND(F$20>=INDIRECT("'Enter Data Here'!"&HLOOKUP($B23,'Enter Data Here'!$5:$6,2,0)&"$13"),F$20<=INDIRECT("'Enter Data Here'!"&HLOOKUP($B23,'Enter Data Here'!$5:$6,2,0)&"$14")),$B23,IF(AND(F$20>=INDIRECT("'Enter Data Here'!"&HLOOKUP($B23,'Enter Data Here'!$5:$6,2,0)&"$16"),F$20<=INDIRECT("'Enter Data Here'!"&HLOOKUP($B23,'Enter Data Here'!$5:$6,2,0)&"$17")),$B23,IF(AND(F$20>=INDIRECT("'Enter Data Here'!"&HLOOKUP($B23,'Enter Data Here'!$5:$6,2,0)&"$19"),F$20<=INDIRECT("'Enter Data Here'!"&HLOOKUP($B23,'Enter Data Here'!$5:$6,2,0)&"$20")),$B23,"")))))} -> Waseem Zeitouni | G23: {=IF(AND(G$20>=INDIRECT("'Enter Data Here'!"&HLOOKUP($B23,'Enter Data Here'!$5:$6,2,0)&"$7"),G$20<=INDIRECT("'Enter Data Here'!"&HLOOKUP($B23,'Enter Data Here'!$5:$6,2,0)&"$8")),$B23,IF(AND(G$20>=INDIRECT("'Enter Data Here'!"&HLOOKUP($B23,'Enter Data Here'!$5:$6,2,0)&"$10"),G$20<=INDIRECT("'Enter Data Here'!"&HLOOKUP($B23,'Enter Data Here'!$5:$6,2,0)&"$11")),$B23,IF(AND(G$20>=INDIRECT("'Enter Data Here'!"&HLOOKUP($B23,'Enter Data Here'!$5:$6,2,0)&"$13"),G$20<=INDIRECT("'Enter Data Here'!"&HLOOKUP($B23,'Enter Data Here'!$5:$6,2,0)&"$14")),$B23,IF(AND(G$20>=INDIRECT("'Enter Data Here'!"&HLOOKUP($B23,'Enter Data Here'!$5:$6,2,0)&"$16"),G$20<=INDIRECT("'Enter Data Here'!"&HLOOKUP($B23,'Enter Data Here'!$5:$6,2,0)&"$17")),$B23,IF(AND(G$20>=INDIRECT("'Enter Data Here'!"&HLOOKUP($B23,'Enter Data Here'!$5:$6,2,0)&"$19"),G$20<=INDIRECT("'Enter Data Here'!"&HLOOKUP($B23,'Enter Data Here'!$5:$6,2,0)&"$20")),$B23,"")))))} -> Waseem Zeitouni | H23: {=IF(AND(H$20>=INDIRECT("'Enter Data Here'!"&HLOOKUP($B23,'Enter Data Here'!$5:$6,2,0)&"$7"),H$20<=INDIRECT("'Enter Data Here'!"&HLOOKUP($B23,'Enter Data Here'!$5:$6,2,0)&"$8")),$B23,IF(AND(H$20>=INDIRECT("'Enter Data Here'!"&HLOOKUP($B23,'Enter Data Here'!$5:$6,2,0)&"$10"),H$20<=INDIRECT("'Enter Data Here'!"&HLOOKUP($B23,'Enter Data Here'!$5:$6,2,0)&"$11")),$B23,IF(AND(H$20>=INDIRECT("'Enter Data Here'!"&HLOOKUP($B23,'Enter Data Here'!$5:$6,2,0)&"$13"),H$20<=INDIRECT("'Enter Data Here'!"&HLOOKUP($B23,'Enter Data Here'!$5:$6,2,0)&"$14")),$B23,IF(AND(H$20>=INDIRECT("'Enter Data Here'!"&HLOOKUP($B23,'Enter Data Here'!$5:$6,2,0)&"$16"),H$20<=INDIRECT("'Enter Data Here'!"&HLOOKUP($B23,'Enter Data Here'!$5:$6,2,0)&"$17")),$B23,IF(AND(H$20>=INDIRECT("'Enter Data Here'!"&HLOOKUP($B23,'Enter Data Here'!$5:$6,2,0)&"$19"),H$20<=INDIRECT("'Enter Data Here'!"&HLOOKUP($B23,'Enter Data Here'!$5:$6,2,0)&"$20")),$B23,"")))))} -> Waseem Zeitouni | I23: {=IF(AND(I$20>=INDIRECT("'Enter Data Here'!"&HLOOKUP($B23,'Enter Data Here'!$5:$6,2,0)&"$7"),I$20<=INDIRECT("'Enter Data Here'!"&HLOOKUP($B23,'Enter Data Here'!$5:$6,2,0)&"$8")),$B23,IF(AND(I$20>=INDIRECT("'Enter Data Here'!"&HLOOKUP($B23,'Enter Data Here'!$5:$6,2,0)&"$10"),I$20<=INDIRECT("'Enter Data Here'!"&HLOOKUP($B23,'Enter Data Here'!$5:$6,2,0)&"$11")),$B23,IF(AND(I$20>=INDIRECT("'Enter Data Here'!"&HLOOKUP($B23,'Enter Data Here'!$5:$6,2,0)&"$13"),I$20<=INDIRECT("'Enter Data Here'!"&HLOOKUP($B23,'Enter Data Here'!$5:$6,2,0)&"$14")),$B23,IF(AND(I$20>=INDIRECT("'Enter Data Here'!"&HLOOKUP($B23,'Enter Data Here'!$5:$6,2,0)&"$16"),I$20<=INDIRECT("'Enter Data Here'!"&HLOOKUP($B23,'Enter Data Here'!$5:$6,2,0)&"$17")),$B23,IF(AND(I$20>=INDIRECT("'Enter Data Here'!"&HLOOKUP($B23,'Enter Data Here'!$5:$6,2,0)&"$19"),I$20<=INDIRECT("'Enter Data Here'!"&HLOOKUP($B23,'Enter Data Here'!$5:$6,2,0)&"$20")),$B23,"")))))} -> Waseem Zeitouni | J23: {=IF(AND(J$20>=INDIRECT("'Enter Data Here'!"&HLOOKUP($B23,'Enter Data Here'!$5:$6,2,0)&"$7"),J$20<=INDIRECT("'Enter Data Here'!"&HLOOKUP($B23,'Enter Data Here'!$5:$6,2,0)&"$8")),$B23,IF(AND(J$20>=INDIRECT("'Enter Data Here'!"&HLOOKUP($B23,'Enter Data Here'!$5:$6,2,0)&"$10"),J$20<=INDIRECT("'Enter Data Here'!"&HLOOKUP($B23,'Enter Data Here'!$5:$6,2,0)&"$11")),$B23,IF(AND(J$20>=INDIRECT("'Enter Data Here'!"&HLOOKUP($B23,'Enter Data Here'!$5:$6,2,0)&"$13"),J$20<=INDIRECT("'Enter Data Here'!"&HLOOKUP($B23,'Enter Data Here'!$5:$6,2,0)&"$14")),$B23,IF(AND(J$20>=INDIRECT("'Enter Data Here'!"&HLOOKUP($B23,'Enter Data Here'!$5:$6,2,0)&"$16"),J$20<=INDIRECT("'Enter Data Here'!"&HLOOKUP($B23,'Enter Data Here'!$5:$6,2,0)&"$17")),$B23,IF(AND(J$20>=INDIRECT("'Enter Data Here'!"&HLOOKUP($B23,'Enter Data Here'!$5:$6,2,0)&"$19"),J$20<=INDIRECT("'Enter Data Here'!"&HLOOKUP($B23,'Enter Data Here'!$5:$6,2,0)&"$20")),$B23,"")))))} -> Waseem Zeitouni | K23: {=IF(AND(K$20>=INDIRECT("'Enter Data Here'!"&HLOOKUP($B23,'Enter Data Here'!$5:$6,2,0)&"$7"),K$20<=INDIRECT("'Enter Data Here'!"&HLOOKUP($B23,'Enter Data Here'!$5:$6,2,0)&"$8")),$B23,IF(AND(K$20>=INDIRECT("'Enter Data Here'!"&HLOOKUP($B23,'Enter Data Here'!$5:$6,2,0)&"$10"),K$20<=INDIRECT("'Enter Data Here'!"&HLOOKUP($B23,'Enter Data Here'!$5:$6,2,0)&"$11")),$B23,IF(AND(K$20>=INDIRECT("'Enter Data Here'!"&HLOOKUP($B23,'Enter Data Here'!$5:$6,2,0)&"$13"),K$20<=INDIRECT("'Enter Data Here'!"&HLOOKUP($B23,'Enter Data Here'!$5:$6,2,0)&"$14")),$B23,IF(AND(K$20>=INDIRECT("'Enter Data Here'!"&HLOOKUP($B23,'Enter Data Here'!$5:$6,2,0)&"$16"),K$20<=INDIRECT("'Enter Data Here'!"&HLOOKUP($B23,'Enter Data Here'!$5:$6,2,0)&"$17")),$B23,IF(AND(K$20>=INDIRECT("'Enter Data Here'!"&HLOOKUP($B23,'Enter Data Here'!$5:$6,2,0)&"$19"),K$20<=INDIRECT("'Enter Data Here'!"&HLOOKUP($B23,'Enter Data Here'!$5:$6,2,0)&"$20")),$B23,"")))))} -> Waseem Zeitouni | L23: {=IF(AND(L$20>=INDIRECT("'Enter Data Here'!"&HLOOKUP($B23,'Enter Data Here'!$5:$6,2,0)&"$7"),L$20<=INDIRECT("'Enter Data Here'!"&HLOOKUP($B23,'Enter Data Here'!$5:$6,2,0)&"$8")),$B23,IF(AND(L$20>=INDIRECT("'Enter Data Here'!"&HLOOKUP($B23,'Enter Data Here'!$5:$6,2,0)&"$10"),L$20<=INDIRECT("'Enter Data Here'!"&HLOOKUP($B23,'Enter Data Here'!$5:$6,2,0)&"$11")),$B23,IF(AND(L$20>=INDIRECT("'Enter Data Here'!"&HLOOKUP($B23,'Enter Data Here'!$5:$6,2,0)&"$13"),L$20<=INDIRECT("'Enter Data Here'!"&HLOOKUP($B23,'Enter Data Here'!$5:$6,2,0)&"$14")),$B23,IF(AND(L$20>=INDIRECT("'Enter Data Here'!"&HLOOKUP($B23,'Enter Data Here'!$5:$6,2,0)&"$16"),L$20<=INDIRECT("'Enter Data Here'!"&HLOOKUP($B23,'Enter Data Here'!$5:$6,2,0)&"$17")),$B23,IF(AND(L$20>=INDIRECT("'Enter Data Here'!"&HLOOKUP($B23,'Enter Data Here'!$5:$6,2,0)&"$19"),L$20<=INDIRECT("'Enter Data Here'!"&HLOOKUP($B23,'Enter Data Here'!$5:$6,2,0)&"$20")),$B23,"")))))} -> Waseem Zeitouni | M23: {=IF(AND(M$20>=INDIRECT("'Enter Data Here'!"&HLOOKUP($B23,'Enter Data Here'!$5:$6,2,0)&"$7"),M$20<=INDIRECT("'Enter Data Here'!"&HLOOKUP($B23,'Enter Data Here'!$5:$6,2,0)&"$8")),$B23,IF(AND(M$20>=INDIRECT("'Enter Data Here'!"&HLOOKUP($B23,'Enter Data Here'!$5:$6,2,0)&"$10"),M$20<=INDIRECT("'Enter Data Here'!"&HLOOKUP($B23,'Enter Data Here'!$5:$6,2,0)&"$11")),$B23,IF(AND(M$20>=INDIRECT("'Enter Data Here'!"&HLOOKUP($B23,'Enter Data Here'!$5:$6,2,0)&"$13"),M$20<=INDIRECT("'Enter Data Here'!"&HLOOKUP($B23,'Enter Data Here'!$5:$6,2,0)&"$14")),$B23,IF(AND(M$20>=INDIRECT("'Enter Data Here'!"&HLOOKUP($B23,'Enter Data Here'!$5:$6,2,0)&"$16"),M$20<=INDIRECT("'Enter Data Here'!"&HLOOKUP($B23,'Enter Data Here'!$5:$6,2,0)&"$17")),$B23,IF(AND(M$20>=INDIRECT("'Enter Data Here'!"&HLOOKUP($B23,'Enter Data Here'!$5:$6,2,0)&"$19"),M$20<=INDIRECT("'Enter Data Here'!"&HLOOKUP($B23,'Enter Data Here'!$5:$6,2,0)&"$20")),$B23,"")))))} -> Waseem Zeitouni | ... AH23: {=IF(AND(AH$20>=INDIRECT("'Enter Data Here'!"&HLOOKUP($B23,'Enter Data Here'!$5:$6,2,0)&"$7"),AH$20<=INDIRECT("'Enter Data Here'!"&HLOOKUP($B23,'Enter Data Here'!$5:$6,2,0)&"$8")),$B23,IF(AND(AH$20>=INDIRECT("'Enter Data Here'!"&HLOOKUP($B23,'Enter Data Here'!$5:$6,2,0)&"$10"),AH$20<=INDIRECT("'Enter Data Here'!"&HLOOKUP($B23,'Enter Data Here'!$5:$6,2,0)&"$11")),$B23,IF(AND(AH$20>=INDIRECT("'Enter Data Here'!"&HLOOKUP($B23,'Enter Data Here'!$5:$6,2,0)&"$13"),AH$20<=INDIRECT("'Enter Data Here'!"&HLOOKUP($B23,'Enter Data Here'!$5:$6,2,0)&"$14")),$B23,IF(AND(AH$20>=INDIRECT("'Enter Data Here'!"&HLOOKUP($B23,'Enter Data Here'!$5:$6,2,0)&"$16"),AH$20<=INDIRECT("'Enter Data Here'!"&HLOOKUP($B23,'Enter Data Here'!$5:$6,2,0)&"$17")),$B23,IF(AND(AH$20>=INDIRECT("'Enter Data Here'!"&HLOOKUP($B23,'Enter Data Here'!$5:$6,2,0)&"$19"),AH$20<=INDIRECT("'Enter Data Here'!"&HLOOKUP($B23,'Enter Data Here'!$5:$6,2,0)&"$20")),$B23,"")))))}
B24: ='Be4 you start'!E22 -> Lubna R | F24: {=IF(AND(F$20>=INDIRECT("'Enter Data Here'!"&HLOOKUP($B24,'Enter Data Here'!$5:$6,2,0)&"$7"),F$20<=INDIRECT("'Enter Data Here'!"&HLOOKUP($B24,'Enter Data Here'!$5:$6,2,0)&"$8")),$B24,IF(AND(F$20>=INDIRECT("'Enter Data Here'!"&HLOOKUP($B24,'Enter Data Here'!$5:$6,2,0)&"$10"),F$20<=INDIRECT("'Enter Data Here'!"&HLOOKUP($B24,'Enter Data Here'!$5:$6,2,0)&"$11")),$B24,IF(AND(F$20>=INDIRECT("'Enter Data Here'!"&HLOOKUP($B24,'Enter Data Here'!$5:$6,2,0)&"$13"),F$20<=INDIRECT("'Enter Data Here'!"&HLOOKUP($B24,'Enter Data Here'!$5:$6,2,0)&"$14")),$B24,IF(AND(F$20>=INDIRECT("'Enter Data Here'!"&HLOOKUP($B24,'Enter Data Here'!$5:$6,2,0)&"$16"),F$20<=INDIRECT("'Enter Data Here'!"&HLOOKUP($B24,'Enter Data Here'!$5:$6,2,0)&"$17")),$B24,IF(AND(F$20>=INDIRECT("'Enter Data Here'!"&HLOOKUP($B24,'Enter Data Here'!$5:$6,2,0)&"$19"),F$20<=INDIRECT("'Enter Data Here'!"&HLOOKUP($B24,'Enter Data Here'!$5:$6,2,0)&"$20")),$B24,"")))))} | G24: {=IF(AND(G$20>=INDIRECT("'Enter Data Here'!"&HLOOKUP($B24,'Enter Data Here'!$5:$6,2,0)&"$7"),G$20<=INDIRECT("'Enter Data Here'!"&HLOOKUP($B24,'Enter Data Here'!$5:$6,2,0)&"$8")),$B24,IF(AND(G$20>=INDIRECT("'Enter Data Here'!"&HLOOKUP($B24,'Enter Data Here'!$5:$6,2,0)&"$10"),G$20<=INDIRECT("'Enter Data Here'!"&HLOOKUP($B24,'Enter Data Here'!$5:$6,2,0)&"$11")),$B24,IF(AND(G$20>=INDIRECT("'Enter Data Here'!"&HLOOKUP($B24,'Enter Data Here'!$5:$6,2,0)&"$13"),G$20<=INDIRECT("'Enter Data Here'!"&HLOOKUP($B24,'Enter Data Here'!$5:$6,2,0)&"$14")),$B24,IF(AND(G$20>=INDIRECT("'Enter Data Here'!"&HLOOKUP($B24,'Enter Data Here'!$5:$6,2,0)&"$16"),G$20<=INDIRECT("'Enter Data Here'!"&HLOOKUP($B24,'Enter Data Here'!$5:$6,2,0)&"$17")),$B24,IF(AND(G$20>=INDIRECT("'Enter Data Here'!"&HLOOKUP($B24,'Enter Data Here'!$5:$6,2,0)&"$19"),G$20<=INDIRECT("'Enter Data Here'!"&HLOOKUP($B24,'Enter Data Here'!$5:$6,2,0)&"$20")),$B24,"")))))} | H24: {=IF(AND(H$20>=INDIRECT("'Enter Data Here'!"&HLOOKUP($B24,'Enter Data Here'!$5:$6,2,0)&"$7"),H$20<=INDIRECT("'Enter Data Here'!"&HLOOKUP($B24,'Enter Data Here'!$5:$6,2,0)&"$8")),$B24,IF(AND(H$20>=INDIRECT("'Enter Data Here'!"&HLOOKUP($B24,'Enter Data Here'!$5:$6,2,0)&"$10"),H$20<=INDIRECT("'Enter Data Here'!"&HLOOKUP($B24,'Enter Data Here'!$5:$6,2,0)&"$11")),$B24,IF(AND(H$20>=INDIRECT("'Enter Data Here'!"&HLOOKUP($B24,'Enter Data Here'!$5:$6,2,0)&"$13"),H$20<=INDIRECT("'Enter Data Here'!"&HLOOKUP($B24,'Enter Data Here'!$5:$6,2,0)&"$14")),$B24,IF(AND(H$20>=INDIRECT("'Enter Data Here'!"&HLOOKUP($B24,'Enter Data Here'!$5:$6,2,0)&"$16"),H$20<=INDIRECT("'Enter Data Here'!"&HLOOKUP($B24,'Enter Data Here'!$5:$6,2,0)&"$17")),$B24,IF(AND(H$20>=INDIRECT("'Enter Data Here'!"&HLOOKUP($B24,'Enter Data Here'!$5:$6,2,0)&"$19"),H$20<=INDIRECT("'Enter Data Here'!"&HLOOKUP($B24,'Enter Data Here'!$5:$6,2,0)&"$20")),$B24,"")))))} | I24: {=IF(AND(I$20>=INDIRECT("'Enter Data Here'!"&HLOOKUP($B24,'Enter Data Here'!$5:$6,2,0)&"$7"),I$20<=INDIRECT("'Enter Data Here'!"&HLOOKUP($B24,'Enter Data Here'!$5:$6,2,0)&"$8")),$B24,IF(AND(I$20>=INDIRECT("'Enter Data Here'!"&HLOOKUP($B24,'Enter Data Here'!$5:$6,2,0)&"$10"),I$20<=INDIRECT("'Enter Data Here'!"&HLOOKUP($B24,'Enter Data Here'!$5:$6,2,0)&"$11")),$B24,IF(AND(I$20>=INDIRECT("'Enter Data Here'!"&HLOOKUP($B24,'Enter Data Here'!$5:$6,2,0)&"$13"),I$20<=INDIRECT("'Enter Data Here'!"&HLOOKUP($B24,'Enter Data Here'!$5:$6,2,0)&"$14")),$B24,IF(AND(I$20>=INDIRECT("'Enter Data Here'!"&HLOOKUP($B24,'Enter Data Here'!$5:$6,2,0)&"$16"),I$20<=INDIRECT("'Enter Data Here'!"&HLOOKUP($B24,'Enter Data Here'!$5:$6,2,0)&"$17")),$B24,IF(AND(I$20>=INDIRECT("'Enter Data Here'!"&HLOOKUP($B24,'Enter Data Here'!$5:$6,2,0)&"$19"),I$20<=INDIRECT("'Enter Data Here'!"&HLOOKUP($B24,'Enter Data Here'!$5:$6,2,0)&"$20")),$B24,"")))))} | J24: {=IF(AND(J$20>=INDIRECT("'Enter Data Here'!"&HLOOKUP($B24,'Enter Data Here'!$5:$6,2,0)&"$7"),J$20<=INDIRECT("'Enter Data Here'!"&HLOOKUP($B24,'Enter Data Here'!$5:$6,2,0)&"$8")),$B24,IF(AND(J$20>=INDIRECT("'Enter Data Here'!"&HLOOKUP($B24,'Enter Data Here'!$5:$6,2,0)&"$10"),J$20<=INDIRECT("'Enter Data Here'!"&HLOOKUP($B24,'Enter Data Here'!$5:$6,2,0)&"$11")),$B24,IF(AND(J$20>=INDIRECT("'Enter Data Here'!"&HLOOKUP($B24,'Enter Data Here'!$5:$6,2,0)&"$13"),J$20<=INDIRECT("'Enter Data Here'!"&HLOOKUP($B24,'Enter Data Here'!$5:$6,2,0)&"$14")),$B24,IF(AND(J$20>=INDIRECT("'Enter Data Here'!"&HLOOKUP($B24,'Enter Data Here'!$5:$6,2,0)&"$16"),J$20<=INDIRECT("'Enter Data Here'!"&HLOOKUP($B24,'Enter Data Here'!$5:$6,2,0)&"$17")),$B24,IF(AND(J$20>=INDIRECT("'Enter Data Here'!"&HLOOKUP($B24,'Enter Data Here'!$5:$6,2,0)&"$19"),J$20<=INDIRECT("'Enter Data Here'!"&HLOOKUP($B24,'Enter Data Here'!$5:$6,2,0)&"$20")),$B24,"")))))} | K24: {=IF(AND(K$20>=INDIRECT("'Enter Data Here'!"&HLOOKUP($B24,'Enter Data Here'!$5:$6,2,0)&"$7"),K$20<=INDIRECT("'Enter Data Here'!"&HLOOKUP($B24,'Enter Data Here'!$5:$6,2,0)&"$8")),$B24,IF(AND(K$20>=INDIRECT("'Enter Data Here'!"&HLOOKUP($B24,'Enter Data Here'!$5:$6,2,0)&"$10"),K$20<=INDIRECT("'Enter Data Here'!"&HLOOKUP($B24,'Enter Data Here'!$5:$6,2,0)&"$11")),$B24,IF(AND(K$20>=INDIRECT("'Enter Data Here'!"&HLOOKUP($B24,'Enter Data Here'!$5:$6,2,0)&"$13"),K$20<=INDIRECT("'Enter Data Here'!"&HLOOKUP($B24,'Enter Data Here'!$5:$6,2,0)&"$14")),$B24,IF(AND(K$20>=INDIRECT("'Enter Data Here'!"&HLOOKUP($B24,'Enter Data Here'!$5:$6,2,0)&"$16"),K$20<=INDIRECT("'Enter Data Here'!"&HLOOKUP($B24,'Enter Data Here'!$5:$6,2,0)&"$17")),$B24,IF(AND(K$20>=INDIRECT("'Enter Data Here'!"&HLOOKUP($B24,'Enter Data Here'!$5:$6,2,0)&"$19"),K$20<=INDIRECT("'Enter Data Here'!"&HLOOKUP($B24,'Enter Data Here'!$5:$6,2,0)&"$20")),$B24,"")))))} | L24: {=IF(AND(L$20>=INDIRECT("'Enter Data Here'!"&HLOOKUP($B24,'Enter Data Here'!$5:$6,2,0)&"$7"),L$20<=INDIRECT("'Enter Data Here'!"&HLOOKUP($B24,'Enter Data Here'!$5:$6,2,0)&"$8")),$B24,IF(AND(L$20>=INDIRECT("'Enter Data Here'!"&HLOOKUP($B24,'Enter Data Here'!$5:$6,2,0)&"$10"),L$20<=INDIRECT("'Enter Data Here'!"&HLOOKUP($B24,'Enter Data Here'!$5:$6,2,0)&"$11")),$B24,IF(AND(L$20>=INDIRECT("'Enter Data Here'!"&HLOOKUP($B24,'Enter Data Here'!$5:$6,2,0)&"$13"),L$20<=INDIRECT("'Enter Data Here'!"&HLOOKUP($B24,'Enter Data Here'!$5:$6,2,0)&"$14")),$B24,IF(AND(L$20>=INDIRECT("'Enter Data Here'!"&HLOOKUP($B24,'Enter Data Here'!$5:$6,2,0)&"$16"),L$20<=INDIRECT("'Enter Data Here'!"&HLOOKUP($B24,'Enter Data Here'!$5:$6,2,0)&"$17")),$B24,IF(AND(L$20>=INDIRECT("'Enter Data Here'!"&HLOOKUP($B24,'Enter Data Here'!$5:$6,2,0)&"$19"),L$20<=INDIRECT("'Enter Data Here'!"&HLOOKUP($B24,'Enter Data Here'!$5:$6,2,0)&"$20")),$B24,"")))))} | M24: {=IF(AND(M$20>=INDIRECT("'Enter Data Here'!"&HLOOKUP($B24,'Enter Data Here'!$5:$6,2,0)&"$7"),M$20<=INDIRECT("'Enter Data Here'!"&HLOOKUP($B24,'Enter Data Here'!$5:$6,2,0)&"$8")),$B24,IF(AND(M$20>=INDIRECT("'Enter Data Here'!"&HLOOKUP($B24,'Enter Data Here'!$5:$6,2,0)&"$10"),M$20<=INDIRECT("'Enter Data Here'!"&HLOOKUP($B24,'Enter Data Here'!$5:$6,2,0)&"$11")),$B24,IF(AND(M$20>=INDIRECT("'Enter Data Here'!"&HLOOKUP($B24,'Enter Data Here'!$5:$6,2,0)&"$13"),M$20<=INDIRECT("'Enter Data Here'!"&HLOOKUP($B24,'Enter Data Here'!$5:$6,2,0)&"$14")),$B24,IF(AND(M$20>=INDIRECT("'Enter Data Here'!"&HLOOKUP($B24,'Enter Data Here'!$5:$6,2,0)&"$16"),M$20<=INDIRECT("'Enter Data Here'!"&HLOOKUP($B24,'Enter Data Here'!$5:$6,2,0)&"$17")),$B24,IF(AND(M$20>=INDIRECT("'Enter Data Here'!"&HLOOKUP($B24,'Enter Data Here'!$5:$6,2,0)&"$19"),M$20<=INDIRECT("'Enter Data Here'!"&HLOOKUP($B24,'Enter Data Here'!$5:$6,2,0)&"$20")),$B24,"")))))} | ... AH24: {=IF(AND(AH$20>=INDIRECT("'Enter Data Here'!"&HLOOKUP($B24,'Enter Data Here'!$5:$6,2,0)&"$7"),AH$20<=INDIRECT("'Enter Data Here'!"&HLOOKUP($B24,'Enter Data Here'!$5:$6,2,0)&"$8")),$B24,IF(AND(AH$20>=INDIRECT("'Enter Data Here'!"&HLOOKUP($B24,'Enter Data Here'!$5:$6,2,0)&"$10"),AH$20<=INDIRECT("'Enter Data Here'!"&HLOOKUP($B24,'Enter Data Here'!$5:$6,2,0)&"$11")),$B24,IF(AND(AH$20>=INDIRECT("'Enter Data Here'!"&HLOOKUP($B24,'Enter Data Here'!$5:$6,2,0)&"$13"),AH$20<=INDIRECT("'Enter Data Here'!"&HLOOKUP($B24,'Enter Data Here'!$5:$6,2,0)&"$14")),$B24,IF(AND(AH$20>=INDIRECT("'Enter Data Here'!"&HLOOKUP($B24,'Enter Data Here'!$5:$6,2,0)&"$16"),AH$20<=INDIRECT("'Enter Data Here'!"&HLOOKUP($B24,'Enter Data Here'!$5:$6,2,0)&"$17")),$B24,IF(AND(AH$20>=INDIRECT("'Enter Data Here'!"&HLOOKUP($B24,'Enter Data Here'!$5:$6,2,0)&"$19"),AH$20<=INDIRECT("'Enter Data Here'!"&HLOOKUP($B24,'Enter Data Here'!$5:$6,2,0)&"$20")),$B24,"")))))}
B25: ='Be4 you start'!E23 -> Lubna Q | F25: {=IF(AND(F$20>=INDIRECT("'Enter Data Here'!"&HLOOKUP($B25,'Enter Data Here'!$5:$6,2,0)&"$7"),F$20<=INDIRECT("'Enter Data Here'!"&HLOOKUP($B25,'Enter Data Here'!$5:$6,2,0)&"$8")),$B25,IF(AND(F$20>=INDIRECT("'Enter Data Here'!"&HLOOKUP($B25,'Enter Data Here'!$5:$6,2,0)&"$10"),F$20<=INDIRECT("'Enter Data Here'!"&HLOOKUP($B25,'Enter Data Here'!$5:$6,2,0)&"$11")),$B25,IF(AND(F$20>=INDIRECT("'Enter Data Here'!"&HLOOKUP($B25,'Enter Data Here'!$5:$6,2,0)&"$13"),F$20<=INDIRECT("'Enter Data Here'!"&HLOOKUP($B25,'Enter Data Here'!$5:$6,2,0)&"$14")),$B25,IF(AND(F$20>=INDIRECT("'Enter Data Here'!"&HLOOKUP($B25,'Enter Data Here'!$5:$6,2,0)&"$16"),F$20<=INDIRECT("'Enter Data Here'!"&HLOOKUP($B25,'Enter Data Here'!$5:$6,2,0)&"$17")),$B25,IF(AND(F$20>=INDIRECT("'Enter Data Here'!"&HLOOKUP($B25,'Enter Data Here'!$5:$6,2,0)&"$19"),F$20<=INDIRECT("'Enter Data Here'!"&HLOOKUP($B25,'Enter Data Here'!$5:$6,2,0)&"$20")),$B25,"")))))} -> Lubna Q | G25: {=IF(AND(G$20>=INDIRECT("'Enter Data Here'!"&HLOOKUP($B25,'Enter Data Here'!$5:$6,2,0)&"$7"),G$20<=INDIRECT("'Enter Data Here'!"&HLOOKUP($B25,'Enter Data Here'!$5:$6,2,0)&"$8")),$B25,IF(AND(G$20>=INDIRECT("'Enter Data Here'!"&HLOOKUP($B25,'Enter Data Here'!$5:$6,2,0)&"$10"),G$20<=INDIRECT("'Enter Data Here'!"&HLOOKUP($B25,'Enter Data Here'!$5:$6,2,0)&"$11")),$B25,IF(AND(G$20>=INDIRECT("'Enter Data Here'!"&HLOOKUP($B25,'Enter Data Here'!$5:$6,2,0)&"$13"),G$20<=INDIRECT("'Enter Data Here'!"&HLOOKUP($B25,'Enter Data Here'!$5:$6,2,0)&"$14")),$B25,IF(AND(G$20>=INDIRECT("'Enter Data Here'!"&HLOOKUP($B25,'Enter Data Here'!$5:$6,2,0)&"$16"),G$20<=INDIRECT("'Enter Data Here'!"&HLOOKUP($B25,'Enter Data Here'!$5:$6,2,0)&"$17")),$B25,IF(AND(G$20>=INDIRECT("'Enter Data Here'!"&HLOOKUP($B25,'Enter Data Here'!$5:$6,2,0)&"$19"),G$20<=INDIRECT("'Enter Data Here'!"&HLOOKUP($B25,'Enter Data Here'!$5:$6,2,0)&"$20")),$B25,"")))))} -> Lubna Q | H25: {=IF(AND(H$20>=INDIRECT("'Enter Data Here'!"&HLOOKUP($B25,'Enter Data Here'!$5:$6,2,0)&"$7"),H$20<=INDIRECT("'Enter Data Here'!"&HLOOKUP($B25,'Enter Data Here'!$5:$6,2,0)&"$8")),$B25,IF(AND(H$20>=INDIRECT("'Enter Data Here'!"&HLOOKUP($B25,'Enter Data Here'!$5:$6,2,0)&"$10"),H$20<=INDIRECT("'Enter Data Here'!"&HLOOKUP($B25,'Enter Data Here'!$5:$6,2,0)&"$11")),$B25,IF(AND(H$20>=INDIRECT("'Enter Data Here'!"&HLOOKUP($B25,'Enter Data Here'!$5:$6,2,0)&"$13"),H$20<=INDIRECT("'Enter Data Here'!"&HLOOKUP($B25,'Enter Data Here'!$5:$6,2,0)&"$14")),$B25,IF(AND(H$20>=INDIRECT("'Enter Data Here'!"&HLOOKUP($B25,'Enter Data Here'!$5:$6,2,0)&"$16"),H$20<=INDIRECT("'Enter Data Here'!"&HLOOKUP($B25,'Enter Data Here'!$5:$6,2,0)&"$17")),$B25,IF(AND(H$20>=INDIRECT("'Enter Data Here'!"&HLOOKUP($B25,'Enter Data Here'!$5:$6,2,0)&"$19"),H$20<=INDIRECT("'Enter Data Here'!"&HLOOKUP($B25,'Enter Data Here'!$5:$6,2,0)&"$20")),$B25,"")))))} -> Lubna Q | I25: {=IF(AND(I$20>=INDIRECT("'Enter Data Here'!"&HLOOKUP($B25,'Enter Data Here'!$5:$6,2,0)&"$7"),I$20<=INDIRECT("'Enter Data Here'!"&HLOOKUP($B25,'Enter Data Here'!$5:$6,2,0)&"$8")),$B25,IF(AND(I$20>=INDIRECT("'Enter Data Here'!"&HLOOKUP($B25,'Enter Data Here'!$5:$6,2,0)&"$10"),I$20<=INDIRECT("'Enter Data Here'!"&HLOOKUP($B25,'Enter Data Here'!$5:$6,2,0)&"$11")),$B25,IF(AND(I$20>=INDIRECT("'Enter Data Here'!"&HLOOKUP($B25,'Enter Data Here'!$5:$6,2,0)&"$13"),I$20<=INDIRECT("'Enter Data Here'!"&HLOOKUP($B25,'Enter Data Here'!$5:$6,2,0)&"$14")),$B25,IF(AND(I$20>=INDIRECT("'Enter Data Here'!"&HLOOKUP($B25,'Enter Data Here'!$5:$6,2,0)&"$16"),I$20<=INDIRECT("'Enter Data Here'!"&HLOOKUP($B25,'Enter Data Here'!$5:$6,2,0)&"$17")),$B25,IF(AND(I$20>=INDIRECT("'Enter Data Here'!"&HLOOKUP($B25,'Enter Data Here'!$5:$6,2,0)&"$19"),I$20<=INDIRECT("'Enter Data Here'!"&HLOOKUP($B25,'Enter Data Here'!$5:$6,2,0)&"$20")),$B25,"")))))} -> Lubna Q | J25: {=IF(AND(J$20>=INDIRECT("'Enter Data Here'!"&HLOOKUP($B25,'Enter Data Here'!$5:$6,2,0)&"$7"),J$20<=INDIRECT("'Enter Data Here'!"&HLOOKUP($B25,'Enter Data Here'!$5:$6,2,0)&"$8")),$B25,IF(AND(J$20>=INDIRECT("'Enter Data Here'!"&HLOOKUP($B25,'Enter Data Here'!$5:$6,2,0)&"$10"),J$20<=INDIRECT("'Enter Data Here'!"&HLOOKUP($B25,'Enter Data Here'!$5:$6,2,0)&"$11")),$B25,IF(AND(J$20>=INDIRECT("'Enter Data Here'!"&HLOOKUP($B25,'Enter Data Here'!$5:$6,2,0)&"$13"),J$20<=INDIRECT("'Enter Data Here'!"&HLOOKUP($B25,'Enter Data Here'!$5:$6,2,0)&"$14")),$B25,IF(AND(J$20>=INDIRECT("'Enter Data Here'!"&HLOOKUP($B25,'Enter Data Here'!$5:$6,2,0)&"$16"),J$20<=INDIRECT("'Enter Data Here'!"&HLOOKUP($B25,'Enter Data Here'!$5:$6,2,0)&"$17")),$B25,IF(AND(J$20>=INDIRECT("'Enter Data Here'!"&HLOOKUP($B25,'Enter Data Here'!$5:$6,2,0)&"$19"),J$20<=INDIRECT("'Enter Data Here'!"&HLOOKUP($B25,'Enter Data Here'!$5:$6,2,0)&"$20")),$B25,"")))))} -> Lubna Q | K25: {=IF(AND(K$20>=INDIRECT("'Enter Data Here'!"&HLOOKUP($B25,'Enter Data Here'!$5:$6,2,0)&"$7"),K$20<=INDIRECT("'Enter Data Here'!"&HLOOKUP($B25,'Enter Data Here'!$5:$6,2,0)&"$8")),$B25,IF(AND(K$20>=INDIRECT("'Enter Data Here'!"&HLOOKUP($B25,'Enter Data Here'!$5:$6,2,0)&"$10"),K$20<=INDIRECT("'Enter Data Here'!"&HLOOKUP($B25,'Enter Data Here'!$5:$6,2,0)&"$11")),$B25,IF(AND(K$20>=INDIRECT("'Enter Data Here'!"&HLOOKUP($B25,'Enter Data Here'!$5:$6,2,0)&"$13"),K$20<=INDIRECT("'Enter Data Here'!"&HLOOKUP($B25,'Enter Data Here'!$5:$6,2,0)&"$14")),$B25,IF(AND(K$20>=INDIRECT("'Enter Data Here'!"&HLOOKUP($B25,'Enter Data Here'!$5:$6,2,0)&"$16"),K$20<=INDIRECT("'Enter Data Here'!"&HLOOKUP($B25,'Enter Data Here'!$5:$6,2,0)&"$17")),$B25,IF(AND(K$20>=INDIRECT("'Enter Data Here'!"&HLOOKUP($B25,'Enter Data Here'!$5:$6,2,0)&"$19"),K$20<=INDIRECT("'Enter Data Here'!"&HLOOKUP($B25,'Enter Data Here'!$5:$6,2,0)&"$20")),$B25,"")))))} -> Lubna Q | L25: {=IF(AND(L$20>=INDIRECT("'Enter Data Here'!"&HLOOKUP($B25,'Enter Data Here'!$5:$6,2,0)&"$7"),L$20<=INDIRECT("'Enter Data Here'!"&HLOOKUP($B25,'Enter Data Here'!$5:$6,2,0)&"$8")),$B25,IF(AND(L$20>=INDIRECT("'Enter Data Here'!"&HLOOKUP($B25,'Enter Data Here'!$5:$6,2,0)&"$10"),L$20<=INDIRECT("'Enter Data Here'!"&HLOOKUP($B25,'Enter Data Here'!$5:$6,2,0)&"$11")),$B25,IF(AND(L$20>=INDIRECT("'Enter Data Here'!"&HLOOKUP($B25,'Enter Data Here'!$5:$6,2,0)&"$13"),L$20<=INDIRECT("'Enter Data Here'!"&HLOOKUP($B25,'Enter Data Here'!$5:$6,2,0)&"$14")),$B25,IF(AND(L$20>=INDIRECT("'Enter Data Here'!"&HLOOKUP($B25,'Enter Data Here'!$5:$6,2,0)&"$16"),L$20<=INDIRECT("'Enter Data Here'!"&HLOOKUP($B25,'Enter Data Here'!$5:$6,2,0)&"$17")),$B25,IF(AND(L$20>=INDIRECT("'Enter Data Here'!"&HLOOKUP($B25,'Enter Data Here'!$5:$6,2,0)&"$19"),L$20<=INDIRECT("'Enter Data Here'!"&HLOOKUP($B25,'Enter Data Here'!$5:$6,2,0)&"$20")),$B25,"")))))} -> Lubna Q | M25: {=IF(AND(M$20>=INDIRECT("'Enter Data Here'!"&HLOOKUP($B25,'Enter Data Here'!$5:$6,2,0)&"$7"),M$20<=INDIRECT("'Enter Data Here'!"&HLOOKUP($B25,'Enter Data Here'!$5:$6,2,0)&"$8")),$B25,IF(AND(M$20>=INDIRECT("'Enter Data Here'!"&HLOOKUP($B25,'Enter Data Here'!$5:$6,2,0)&"$10"),M$20<=INDIRECT("'Enter Data Here'!"&HLOOKUP($B25,'Enter Data Here'!$5:$6,2,0)&"$11")),$B25,IF(AND(M$20>=INDIRECT("'Enter Data Here'!"&HLOOKUP($B25,'Enter Data Here'!$5:$6,2,0)&"$13"),M$20<=INDIRECT("'Enter Data Here'!"&HLOOKUP($B25,'Enter Data Here'!$5:$6,2,0)&"$14")),$B25,IF(AND(M$20>=INDIRECT("'Enter Data Here'!"&HLOOKUP($B25,'Enter Data Here'!$5:$6,2,0)&"$16"),M$20<=INDIRECT("'Enter Data Here'!"&HLOOKUP($B25,'Enter Data Here'!$5:$6,2,0)&"$17")),$B25,IF(AND(M$20>=INDIRECT("'Enter Data Here'!"&HLOOKUP($B25,'Enter Data Here'!$5:$6,2,0)&"$19"),M$20<=INDIRECT("'Enter Data Here'!"&HLOOKUP($B25,'Enter Data Here'!$5:$6,2,0)&"$20")),$B25,"")))))} -> Lubna Q | ... AH25: {=IF(AND(AH$20>=INDIRECT("'Enter Data Here'!"&HLOOKUP($B25,'Enter Data Here'!$5:$6,2,0)&"$7"),AH$20<=INDIRECT("'Enter Data Here'!"&HLOOKUP($B25,'Enter Data Here'!$5:$6,2,0)&"$8")),$B25,IF(AND(AH$20>=INDIRECT("'Enter Data Here'!"&HLOOKUP($B25,'Enter Data Here'!$5:$6,2,0)&"$10"),AH$20<=INDIRECT("'Enter Data Here'!"&HLOOKUP($B25,'Enter Data Here'!$5:$6,2,0)&"$11")),$B25,IF(AND(AH$20>=INDIRECT("'Enter Data Here'!"&HLOOKUP($B25,'Enter Data Here'!$5:$6,2,0)&"$13"),AH$20<=INDIRECT("'Enter Data Here'!"&HLOOKUP($B25,'Enter Data Here'!$5:$6,2,0)&"$14")),$B25,IF(AND(AH$20>=INDIRECT("'Enter Data Here'!"&HLOOKUP($B25,'Enter Data Here'!$5:$6,2,0)&"$16"),AH$20<=INDIRECT("'Enter Data Here'!"&HLOOKUP($B25,'Enter Data Here'!$5:$6,2,0)&"$17")),$B25,IF(AND(AH$20>=INDIRECT("'Enter Data Here'!"&HLOOKUP($B25,'Enter Data Here'!$5:$6,2,0)&"$19"),AH$20<=INDIRECT("'Enter Data Here'!"&HLOOKUP($B25,'Enter Data Here'!$5:$6,2,0)&"$20")),$B25,"")))))}
B26: ='Be4 you start'!E24 -> Moataz Al Sakka | F26: {=IF(AND(F$20>=INDIRECT("'Enter Data Here'!"&HLOOKUP($B26,'Enter Data Here'!$5:$6,2,0)&"$7"),F$20<=INDIRECT("'Enter Data Here'!"&HLOOKUP($B26,'Enter Data Here'!$5:$6,2,0)&"$8")),$B26,IF(AND(F$20>=INDIRECT("'Enter Data Here'!"&HLOOKUP($B26,'Enter Data Here'!$5:$6,2,0)&"$10"),F$20<=INDIRECT("'Enter Data Here'!"&HLOOKUP($B26,'Enter Data Here'!$5:$6,2,0)&"$11")),$B26,IF(AND(F$20>=INDIRECT("'Enter Data Here'!"&HLOOKUP($B26,'Enter Data Here'!$5:$6,2,0)&"$13"),F$20<=INDIRECT("'Enter Data Here'!"&HLOOKUP($B26,'Enter Data Here'!$5:$6,2,0)&"$14")),$B26,IF(AND(F$20>=INDIRECT("'Enter Data Here'!"&HLOOKUP($B26,'Enter Data Here'!$5:$6,2,0)&"$16"),F$20<=INDIRECT("'Enter Data Here'!"&HLOOKUP($B26,'Enter Data Here'!$5:$6,2,0)&"$17")),$B26,IF(AND(F$20>=INDIRECT("'Enter Data Here'!"&HLOOKUP($B26,'Enter Data Here'!$5:$6,2,0)&"$19"),F$20<=INDIRECT("'Enter Data Here'!"&HLOOKUP($B26,'Enter Data Here'!$5:$6,2,0)&"$20")),$B26,"")))))} | G26: {=IF(AND(G$20>=INDIRECT("'Enter Data Here'!"&HLOOKUP($B26,'Enter Data Here'!$5:$6,2,0)&"$7"),G$20<=INDIRECT("'Enter Data Here'!"&HLOOKUP($B26,'Enter Data Here'!$5:$6,2,0)&"$8")),$B26,IF(AND(G$20>=INDIRECT("'Enter Data Here'!"&HLOOKUP($B26,'Enter Data Here'!$5:$6,2,0)&"$10"),G$20<=INDIRECT("'Enter Data Here'!"&HLOOKUP($B26,'Enter Data Here'!$5:$6,2,0)&"$11")),$B26,IF(AND(G$20>=INDIRECT("'Enter Data Here'!"&HLOOKUP($B26,'Enter Data Here'!$5:$6,2,0)&"$13"),G$20<=INDIRECT("'Enter Data Here'!"&HLOOKUP($B26,'Enter Data Here'!$5:$6,2,0)&"$14")),$B26,IF(AND(G$20>=INDIRECT("'Enter Data Here'!"&HLOOKUP($B26,'Enter Data Here'!$5:$6,2,0)&"$16"),G$20<=INDIRECT("'Enter Data Here'!"&HLOOKUP($B26,'Enter Data Here'!$5:$6,2,0)&"$17")),$B26,IF(AND(G$20>=INDIRECT("'Enter Data Here'!"&HLOOKUP($B26,'Enter Data Here'!$5:$6,2,0)&"$19"),G$20<=INDIRECT("'Enter Data Here'!"&HLOOKUP($B26,'Enter Data Here'!$5:$6,2,0)&"$20")),$B26,"")))))} | H26: {=IF(AND(H$20>=INDIRECT("'Enter Data Here'!"&HLOOKUP($B26,'Enter Data Here'!$5:$6,2,0)&"$7"),H$20<=INDIRECT("'Enter Data Here'!"&HLOOKUP($B26,'Enter Data Here'!$5:$6,2,0)&"$8")),$B26,IF(AND(H$20>=INDIRECT("'Enter Data Here'!"&HLOOKUP($B26,'Enter Data Here'!$5:$6,2,0)&"$10"),H$20<=INDIRECT("'Enter Data Here'!"&HLOOKUP($B26,'Enter Data Here'!$5:$6,2,0)&"$11")),$B26,IF(AND(H$20>=INDIRECT("'Enter Data Here'!"&HLOOKUP($B26,'Enter Data Here'!$5:$6,2,0)&"$13"),H$20<=INDIRECT("'Enter Data Here'!"&HLOOKUP($B26,'Enter Data Here'!$5:$6,2,0)&"$14")),$B26,IF(AND(H$20>=INDIRECT("'Enter Data Here'!"&HLOOKUP($B26,'Enter Data Here'!$5:$6,2,0)&"$16"),H$20<=INDIRECT("'Enter Data Here'!"&HLOOKUP($B26,'Enter Data Here'!$5:$6,2,0)&"$17")),$B26,IF(AND(H$20>=INDIRECT("'Enter Data Here'!"&HLOOKUP($B26,'Enter Data Here'!$5:$6,2,0)&"$19"),H$20<=INDIRECT("'Enter Data Here'!"&HLOOKUP($B26,'Enter Data Here'!$5:$6,2,0)&"$20")),$B26,"")))))} | I26: {=IF(AND(I$20>=INDIRECT("'Enter Data Here'!"&HLOOKUP($B26,'Enter Data Here'!$5:$6,2,0)&"$7"),I$20<=INDIRECT("'Enter Data Here'!"&HLOOKUP($B26,'Enter Data Here'!$5:$6,2,0)&"$8")),$B26,IF(AND(I$20>=INDIRECT("'Enter Data Here'!"&HLOOKUP($B26,'Enter Data Here'!$5:$6,2,0)&"$10"),I$20<=INDIRECT("'Enter Data Here'!"&HLOOKUP($B26,'Enter Data Here'!$5:$6,2,0)&"$11")),$B26,IF(AND(I$20>=INDIRECT("'Enter Data Here'!"&HLOOKUP($B26,'Enter Data Here'!$5:$6,2,0)&"$13"),I$20<=INDIRECT("'Enter Data Here'!"&HLOOKUP($B26,'Enter Data Here'!$5:$6,2,0)&"$14")),$B26,IF(AND(I$20>=INDIRECT("'Enter Data Here'!"&HLOOKUP($B26,'Enter Data Here'!$5:$6,2,0)&"$16"),I$20<=INDIRECT("'Enter Data Here'!"&HLOOKUP($B26,'Enter Data Here'!$5:$6,2,0)&"$17")),$B26,IF(AND(I$20>=INDIRECT("'Enter Data Here'!"&HLOOKUP($B26,'Enter Data Here'!$5:$6,2,0)&"$19"),I$20<=INDIRECT("'Enter Data Here'!"&HLOOKUP($B26,'Enter Data Here'!$5:$6,2,0)&"$20")),$B26,"")))))} | J26: {=IF(AND(J$20>=INDIRECT("'Enter Data Here'!"&HLOOKUP($B26,'Enter Data Here'!$5:$6,2,0)&"$7"),J$20<=INDIRECT("'Enter Data Here'!"&HLOOKUP($B26,'Enter Data Here'!$5:$6,2,0)&"$8")),$B26,IF(AND(J$20>=INDIRECT("'Enter Data Here'!"&HLOOKUP($B26,'Enter Data Here'!$5:$6,2,0)&"$10"),J$20<=INDIRECT("'Enter Data Here'!"&HLOOKUP($B26,'Enter Data Here'!$5:$6,2,0)&"$11")),$B26,IF(AND(J$20>=INDIRECT("'Enter Data Here'!"&HLOOKUP($B26,'Enter Data Here'!$5:$6,2,0)&"$13"),J$20<=INDIRECT("'Enter Data Here'!"&HLOOKUP($B26,'Enter Data Here'!$5:$6,2,0)&"$14")),$B26,IF(AND(J$20>=INDIRECT("'Enter Data Here'!"&HLOOKUP($B26,'Enter Data Here'!$5:$6,2,0)&"$16"),J$20<=INDIRECT("'Enter Data Here'!"&HLOOKUP($B26,'Enter Data Here'!$5:$6,2,0)&"$17")),$B26,IF(AND(J$20>=INDIRECT("'Enter Data Here'!"&HLOOKUP($B26,'Enter Data Here'!$5:$6,2,0)&"$19"),J$20<=INDIRECT("'Enter Data Here'!"&HLOOKUP($B26,'Enter Data Here'!$5:$6,2,0)&"$20")),$B26,"")))))} | K26: {=IF(AND(K$20>=INDIRECT("'Enter Data Here'!"&HLOOKUP($B26,'Enter Data Here'!$5:$6,2,0)&"$7"),K$20<=INDIRECT("'Enter Data Here'!"&HLOOKUP($B26,'Enter Data Here'!$5:$6,2,0)&"$8")),$B26,IF(AND(K$20>=INDIRECT("'Enter Data Here'!"&HLOOKUP($B26,'Enter Data Here'!$5:$6,2,0)&"$10"),K$20<=INDIRECT("'Enter Data Here'!"&HLOOKUP($B26,'Enter Data Here'!$5:$6,2,0)&"$11")),$B26,IF(AND(K$20>=INDIRECT("'Enter Data Here'!"&HLOOKUP($B26,'Enter Data Here'!$5:$6,2,0)&"$13"),K$20<=INDIRECT("'Enter Data Here'!"&HLOOKUP($B26,'Enter Data Here'!$5:$6,2,0)&"$14")),$B26,IF(AND(K$20>=INDIRECT("'Enter Data Here'!"&HLOOKUP($B26,'Enter Data Here'!$5:$6,2,0)&"$16"),K$20<=INDIRECT("'Enter Data Here'!"&HLOOKUP($B26,'Enter Data Here'!$5:$6,2,0)&"$17")),$B26,IF(AND(K$20>=INDIRECT("'Enter Data Here'!"&HLOOKUP($B26,'Enter Data Here'!$5:$6,2,0)&"$19"),K$20<=INDIRECT("'Enter Data Here'!"&HLOOKUP($B26,'Enter Data Here'!$5:$6,2,0)&"$20")),$B26,"")))))} | L26: {=IF(AND(L$20>=INDIRECT("'Enter Data Here'!"&HLOOKUP($B26,'Enter Data Here'!$5:$6,2,0)&"$7"),L$20<=INDIRECT("'Enter Data Here'!"&HLOOKUP($B26,'Enter Data Here'!$5:$6,2,0)&"$8")),$B26,IF(AND(L$20>=INDIRECT("'Enter Data Here'!"&HLOOKUP($B26,'Enter Data Here'!$5:$6,2,0)&"$10"),L$20<=INDIRECT("'Enter Data Here'!"&HLOOKUP($B26,'Enter Data Here'!$5:$6,2,0)&"$11")),$B26,IF(AND(L$20>=INDIRECT("'Enter Data Here'!"&HLOOKUP($B26,'Enter Data Here'!$5:$6,2,0)&"$13"),L$20<=INDIRECT("'Enter Data Here'!"&HLOOKUP($B26,'Enter Data Here'!$5:$6,2,0)&"$14")),$B26,IF(AND(L$20>=INDIRECT("'Enter Data Here'!"&HLOOKUP($B26,'Enter Data Here'!$5:$6,2,0)&"$16"),L$20<=INDIRECT("'Enter Data Here'!"&HLOOKUP($B26,'Enter Data Here'!$5:$6,2,0)&"$17")),$B26,IF(AND(L$20>=INDIRECT("'Enter Data Here'!"&HLOOKUP($B26,'Enter Data Here'!$5:$6,2,0)&"$19"),L$20<=INDIRECT("'Enter Data Here'!"&HLOOKUP($B26,'Enter Data Here'!$5:$6,2,0)&"$20")),$B26,"")))))} | M26: {=IF(AND(M$20>=INDIRECT("'Enter Data Here'!"&HLOOKUP($B26,'Enter Data Here'!$5:$6,2,0)&"$7"),M$20<=INDIRECT("'Enter Data Here'!"&HLOOKUP($B26,'Enter Data Here'!$5:$6,2,0)&"$8")),$B26,IF(AND(M$20>=INDIRECT("'Enter Data Here'!"&HLOOKUP($B26,'Enter Data Here'!$5:$6,2,0)&"$10"),M$20<=INDIRECT("'Enter Data Here'!"&HLOOKUP($B26,'Enter Data Here'!$5:$6,2,0)&"$11")),$B26,IF(AND(M$20>=INDIRECT("'Enter Data Here'!"&HLOOKUP($B26,'Enter Data Here'!$5:$6,2,0)&"$13"),M$20<=INDIRECT("'Enter Data Here'!"&HLOOKUP($B26,'Enter Data Here'!$5:$6,2,0)&"$14")),$B26,IF(AND(M$20>=INDIRECT("'Enter Data Here'!"&HLOOKUP($B26,'Enter Data Here'!$5:$6,2,0)&"$16"),M$20<=INDIRECT("'Enter Data Here'!"&HLOOKUP($B26,'Enter Data Here'!$5:$6,2,0)&"$17")),$B26,IF(AND(M$20>=INDIRECT("'Enter Data Here'!"&HLOOKUP($B26,'Enter Data Here'!$5:$6,2,0)&"$19"),M$20<=INDIRECT("'Enter Data Here'!"&HLOOKUP($B26,'Enter Data Here'!$5:$6,2,0)&"$20")),$B26,"")))))} | ... AH26: {=IF(AND(AH$20>=INDIRECT("'Enter Data Here'!"&HLOOKUP($B26,'Enter Data Here'!$5:$6,2,0)&"$7"),AH$20<=INDIRECT("'Enter Data Here'!"&HLOOKUP($B26,'Enter Data Here'!$5:$6,2,0)&"$8")),$B26,IF(AND(AH$20>=INDIRECT("'Enter Data Here'!"&HLOOKUP($B26,'Enter Data Here'!$5:$6,2,0)&"$10"),AH$20<=INDIRECT("'Enter Data Here'!"&HLOOKUP($B26,'Enter Data Here'!$5:$6,2,0)&"$11")),$B26,IF(AND(AH$20>=INDIRECT("'Enter Data Here'!"&HLOOKUP($B26,'Enter Data Here'!$5:$6,2,0)&"$13"),AH$20<=INDIRECT("'Enter Data Here'!"&HLOOKUP($B26,'Enter Data Here'!$5:$6,2,0)&"$14")),$B26,IF(AND(AH$20>=INDIRECT("'Enter Data Here'!"&HLOOKUP($B26,'Enter Data Here'!$5:$6,2,0)&"$16"),AH$20<=INDIRECT("'Enter Data Here'!"&HLOOKUP($B26,'Enter Data Here'!$5:$6,2,0)&"$17")),$B26,IF(AND(AH$20>=INDIRECT("'Enter Data Here'!"&HLOOKUP($B26,'Enter Data Here'!$5:$6,2,0)&"$19"),AH$20<=INDIRECT("'Enter Data Here'!"&HLOOKUP($B26,'Enter Data Here'!$5:$6,2,0)&"$20")),$B26,"")))))}
B27: ='Be4 you start'!E25 -> Yara | F27: {=IF(AND(F$20>=INDIRECT("'Enter Data Here'!"&HLOOKUP($B27,'Enter Data Here'!$5:$6,2,0)&"$7"),F$20<=INDIRECT("'Enter Data Here'!"&HLOOKUP($B27,'Enter Data Here'!$5:$6,2,0)&"$8")),$B27,IF(AND(F$20>=INDIRECT("'Enter Data Here'!"&HLOOKUP($B27,'Enter Data Here'!$5:$6,2,0)&"$10"),F$20<=INDIRECT("'Enter Data Here'!"&HLOOKUP($B27,'Enter Data Here'!$5:$6,2,0)&"$11")),$B27,IF(AND(F$20>=INDIRECT("'Enter Data Here'!"&HLOOKUP($B27,'Enter Data Here'!$5:$6,2,0)&"$13"),F$20<=INDIRECT("'Enter Data Here'!"&HLOOKUP($B27,'Enter Data Here'!$5:$6,2,0)&"$14")),$B27,IF(AND(F$20>=INDIRECT("'Enter Data Here'!"&HLOOKUP($B27,'Enter Data Here'!$5:$6,2,0)&"$16"),F$20<=INDIRECT("'Enter Data Here'!"&HLOOKUP($B27,'Enter Data Here'!$5:$6,2,0)&"$17")),$B27,IF(AND(F$20>=INDIRECT("'Enter Data Here'!"&HLOOKUP($B27,'Enter Data Here'!$5:$6,2,0)&"$19"),F$20<=INDIRECT("'Enter Data Here'!"&HLOOKUP($B27,'Enter Data Here'!$5:$6,2,0)&"$20")),$B27,"")))))} | G27: {=IF(AND(G$20>=INDIRECT("'Enter Data Here'!"&HLOOKUP($B27,'Enter Data Here'!$5:$6,2,0)&"$7"),G$20<=INDIRECT("'Enter Data Here'!"&HLOOKUP($B27,'Enter Data Here'!$5:$6,2,0)&"$8")),$B27,IF(AND(G$20>=INDIRECT("'Enter Data Here'!"&HLOOKUP($B27,'Enter Data Here'!$5:$6,2,0)&"$10"),G$20<=INDIRECT("'Enter Data Here'!"&HLOOKUP($B27,'Enter Data Here'!$5:$6,2,0)&"$11")),$B27,IF(AND(G$20>=INDIRECT("'Enter Data Here'!"&HLOOKUP($B27,'Enter Data Here'!$5:$6,2,0)&"$13"),G$20<=INDIRECT("'Enter Data Here'!"&HLOOKUP($B27,'Enter Data Here'!$5:$6,2,0)&"$14")),$B27,IF(AND(G$20>=INDIRECT("'Enter Data Here'!"&HLOOKUP($B27,'Enter Data Here'!$5:$6,2,0)&"$16"),G$20<=INDIRECT("'Enter Data Here'!"&HLOOKUP($B27,'Enter Data Here'!$5:$6,2,0)&"$17")),$B27,IF(AND(G$20>=INDIRECT("'Enter Data Here'!"&HLOOKUP($B27,'Enter Data Here'!$5:$6,2,0)&"$19"),G$20<=INDIRECT("'Enter Data Here'!"&HLOOKUP($B27,'Enter Data Here'!$5:$6,2,0)&"$20")),$B27,"")))))} | H27: {=IF(AND(H$20>=INDIRECT("'Enter Data Here'!"&HLOOKUP($B27,'Enter Data Here'!$5:$6,2,0)&"$7"),H$20<=INDIRECT("'Enter Data Here'!"&HLOOKUP($B27,'Enter Data Here'!$5:$6,2,0)&"$8")),$B27,IF(AND(H$20>=INDIRECT("'Enter Data Here'!"&HLOOKUP($B27,'Enter Data Here'!$5:$6,2,0)&"$10"),H$20<=INDIRECT("'Enter Data Here'!"&HLOOKUP($B27,'Enter Data Here'!$5:$6,2,0)&"$11")),$B27,IF(AND(H$20>=INDIRECT("'Enter Data Here'!"&HLOOKUP($B27,'Enter Data Here'!$5:$6,2,0)&"$13"),H$20<=INDIRECT("'Enter Data Here'!"&HLOOKUP($B27,'Enter Data Here'!$5:$6,2,0)&"$14")),$B27,IF(AND(H$20>=INDIRECT("'Enter Data Here'!"&HLOOKUP($B27,'Enter Data Here'!$5:$6,2,0)&"$16"),H$20<=INDIRECT("'Enter Data Here'!"&HLOOKUP($B27,'Enter Data Here'!$5:$6,2,0)&"$17")),$B27,IF(AND(H$20>=INDIRECT("'Enter Data Here'!"&HLOOKUP($B27,'Enter Data Here'!$5:$6,2,0)&"$19"),H$20<=INDIRECT("'Enter Data Here'!"&HLOOKUP($B27,'Enter Data Here'!$5:$6,2,0)&"$20")),$B27,"")))))} | I27: {=IF(AND(I$20>=INDIRECT("'Enter Data Here'!"&HLOOKUP($B27,'Enter Data Here'!$5:$6,2,0)&"$7"),I$20<=INDIRECT("'Enter Data Here'!"&HLOOKUP($B27,'Enter Data Here'!$5:$6,2,0)&"$8")),$B27,IF(AND(I$20>=INDIRECT("'Enter Data Here'!"&HLOOKUP($B27,'Enter Data Here'!$5:$6,2,0)&"$10"),I$20<=INDIRECT("'Enter Data Here'!"&HLOOKUP($B27,'Enter Data Here'!$5:$6,2,0)&"$11")),$B27,IF(AND(I$20>=INDIRECT("'Enter Data Here'!"&HLOOKUP($B27,'Enter Data Here'!$5:$6,2,0)&"$13"),I$20<=INDIRECT("'Enter Data Here'!"&HLOOKUP($B27,'Enter Data Here'!$5:$6,2,0)&"$14")),$B27,IF(AND(I$20>=INDIRECT("'Enter Data Here'!"&HLOOKUP($B27,'Enter Data Here'!$5:$6,2,0)&"$16"),I$20<=INDIRECT("'Enter Data Here'!"&HLOOKUP($B27,'Enter Data Here'!$5:$6,2,0)&"$17")),$B27,IF(AND(I$20>=INDIRECT("'Enter Data Here'!"&HLOOKUP($B27,'Enter Data Here'!$5:$6,2,0)&"$19"),I$20<=INDIRECT("'Enter Data Here'!"&HLOOKUP($B27,'Enter Data Here'!$5:$6,2,0)&"$20")),$B27,"")))))} | J27: {=IF(AND(J$20>=INDIRECT("'Enter Data Here'!"&HLOOKUP($B27,'Enter Data Here'!$5:$6,2,0)&"$7"),J$20<=INDIRECT("'Enter Data Here'!"&HLOOKUP($B27,'Enter Data Here'!$5:$6,2,0)&"$8")),$B27,IF(AND(J$20>=INDIRECT("'Enter Data Here'!"&HLOOKUP($B27,'Enter Data Here'!$5:$6,2,0)&"$10"),J$20<=INDIRECT("'Enter Data Here'!"&HLOOKUP($B27,'Enter Data Here'!$5:$6,2,0)&"$11")),$B27,IF(AND(J$20>=INDIRECT("'Enter Data Here'!"&HLOOKUP($B27,'Enter Data Here'!$5:$6,2,0)&"$13"),J$20<=INDIRECT("'Enter Data Here'!"&HLOOKUP($B27,'Enter Data Here'!$5:$6,2,0)&"$14")),$B27,IF(AND(J$20>=INDIRECT("'Enter Data Here'!"&HLOOKUP($B27,'Enter Data Here'!$5:$6,2,0)&"$16"),J$20<=INDIRECT("'Enter Data Here'!"&HLOOKUP($B27,'Enter Data Here'!$5:$6,2,0)&"$17")),$B27,IF(AND(J$20>=INDIRECT("'Enter Data Here'!"&HLOOKUP($B27,'Enter Data Here'!$5:$6,2,0)&"$19"),J$20<=INDIRECT("'Enter Data Here'!"&HLOOKUP($B27,'Enter Data Here'!$5:$6,2,0)&"$20")),$B27,"")))))} | K27: {=IF(AND(K$20>=INDIRECT("'Enter Data Here'!"&HLOOKUP($B27,'Enter Data Here'!$5:$6,2,0)&"$7"),K$20<=INDIRECT("'Enter Data Here'!"&HLOOKUP($B27,'Enter Data Here'!$5:$6,2,0)&"$8")),$B27,IF(AND(K$20>=INDIRECT("'Enter Data Here'!"&HLOOKUP($B27,'Enter Data Here'!$5:$6,2,0)&"$10"),K$20<=INDIRECT("'Enter Data Here'!"&HLOOKUP($B27,'Enter Data Here'!$5:$6,2,0)&"$11")),$B27,IF(AND(K$20>=INDIRECT("'Enter Data Here'!"&HLOOKUP($B27,'Enter Data Here'!$5:$6,2,0)&"$13"),K$20<=INDIRECT("'Enter Data Here'!"&HLOOKUP($B27,'Enter Data Here'!$5:$6,2,0)&"$14")),$B27,IF(AND(K$20>=INDIRECT("'Enter Data Here'!"&HLOOKUP($B27,'Enter Data Here'!$5:$6,2,0)&"$16"),K$20<=INDIRECT("'Enter Data Here'!"&HLOOKUP($B27,'Enter Data Here'!$5:$6,2,0)&"$17")),$B27,IF(AND(K$20>=INDIRECT("'Enter Data Here'!"&HLOOKUP($B27,'Enter Data Here'!$5:$6,2,0)&"$19"),K$20<=INDIRECT("'Enter Data Here'!"&HLOOKUP($B27,'Enter Data Here'!$5:$6,2,0)&"$20")),$B27,"")))))} | L27: {=IF(AND(L$20>=INDIRECT("'Enter Data Here'!"&HLOOKUP($B27,'Enter Data Here'!$5:$6,2,0)&"$7"),L$20<=INDIRECT("'Enter Data Here'!"&HLOOKUP($B27,'Enter Data Here'!$5:$6,2,0)&"$8")),$B27,IF(AND(L$20>=INDIRECT("'Enter Data Here'!"&HLOOKUP($B27,'Enter Data Here'!$5:$6,2,0)&"$10"),L$20<=INDIRECT("'Enter Data Here'!"&HLOOKUP($B27,'Enter Data Here'!$5:$6,2,0)&"$11")),$B27,IF(AND(L$20>=INDIRECT("'Enter Data Here'!"&HLOOKUP($B27,'Enter Data Here'!$5:$6,2,0)&"$13"),L$20<=INDIRECT("'Enter Data Here'!"&HLOOKUP($B27,'Enter Data Here'!$5:$6,2,0)&"$14")),$B27,IF(AND(L$20>=INDIRECT("'Enter Data Here'!"&HLOOKUP($B27,'Enter Data Here'!$5:$6,2,0)&"$16"),L$20<=INDIRECT("'Enter Data Here'!"&HLOOKUP($B27,'Enter Data Here'!$5:$6,2,0)&"$17")),$B27,IF(AND(L$20>=INDIRECT("'Enter Data Here'!"&HLOOKUP($B27,'Enter Data Here'!$5:$6,2,0)&"$19"),L$20<=INDIRECT("'Enter Data Here'!"&HLOOKUP($B27,'Enter Data Here'!$5:$6,2,0)&"$20")),$B27,"")))))} | M27: {=IF(AND(M$20>=INDIRECT("'Enter Data Here'!"&HLOOKUP($B27,'Enter Data Here'!$5:$6,2,0)&"$7"),M$20<=INDIRECT("'Enter Data Here'!"&HLOOKUP($B27,'Enter Data Here'!$5:$6,2,0)&"$8")),$B27,IF(AND(M$20>=INDIRECT("'Enter Data Here'!"&HLOOKUP($B27,'Enter Data Here'!$5:$6,2,0)&"$10"),M$20<=INDIRECT("'Enter Data Here'!"&HLOOKUP($B27,'Enter Data Here'!$5:$6,2,0)&"$11")),$B27,IF(AND(M$20>=INDIRECT("'Enter Data Here'!"&HLOOKUP($B27,'Enter Data Here'!$5:$6,2,0)&"$13"),M$20<=INDIRECT("'Enter Data Here'!"&HLOOKUP($B27,'Enter Data Here'!$5:$6,2,0)&"$14")),$B27,IF(AND(M$20>=INDIRECT("'Enter Data Here'!"&HLOOKUP($B27,'Enter Data Here'!$5:$6,2,0)&"$16"),M$20<=INDIRECT("'Enter Data Here'!"&HLOOKUP($B27,'Enter Data Here'!$5:$6,2,0)&"$17")),$B27,IF(AND(M$20>=INDIRECT("'Enter Data Here'!"&HLOOKUP($B27,'Enter Data Here'!$5:$6,2,0)&"$19"),M$20<=INDIRECT("'Enter Data Here'!"&HLOOKUP($B27,'Enter Data Here'!$5:$6,2,0)&"$20")),$B27,"")))))} | ... AH27: {=IF(AND(AH$20>=INDIRECT("'Enter Data Here'!"&HLOOKUP($B27,'Enter Data Here'!$5:$6,2,0)&"$7"),AH$20<=INDIRECT("'Enter Data Here'!"&HLOOKUP($B27,'Enter Data Here'!$5:$6,2,0)&"$8")),$B27,IF(AND(AH$20>=INDIRECT("'Enter Data Here'!"&HLOOKUP($B27,'Enter Data Here'!$5:$6,2,0)&"$10"),AH$20<=INDIRECT("'Enter Data Here'!"&HLOOKUP($B27,'Enter Data Here'!$5:$6,2,0)&"$11")),$B27,IF(AND(AH$20>=INDIRECT("'Enter Data Here'!"&HLOOKUP($B27,'Enter Data Here'!$5:$6,2,0)&"$13"),AH$20<=INDIRECT("'Enter Data Here'!"&HLOOKUP($B27,'Enter Data Here'!$5:$6,2,0)&"$14")),$B27,IF(AND(AH$20>=INDIRECT("'Enter Data Here'!"&HLOOKUP($B27,'Enter Data Here'!$5:$6,2,0)&"$16"),AH$20<=INDIRECT("'Enter Data Here'!"&HLOOKUP($B27,'Enter Data Here'!$5:$6,2,0)&"$17")),$B27,IF(AND(AH$20>=INDIRECT("'Enter Data Here'!"&HLOOKUP($B27,'Enter Data Here'!$5:$6,2,0)&"$19"),AH$20<=INDIRECT("'Enter Data Here'!"&HLOOKUP($B27,'Enter Data Here'!$5:$6,2,0)&"$20")),$B27,"")))))}
B28: ='Be4 you start'!E26 -> Jaida | F28: {=IF(AND(F$20>=INDIRECT("'Enter Data Here'!"&HLOOKUP($B28,'Enter Data Here'!$5:$6,2,0)&"$7"),F$20<=INDIRECT("'Enter Data Here'!"&HLOOKUP($B28,'Enter Data Here'!$5:$6,2,0)&"$8")),$B28,IF(AND(F$20>=INDIRECT("'Enter Data Here'!"&HLOOKUP($B28,'Enter Data Here'!$5:$6,2,0)&"$10"),F$20<=INDIRECT("'Enter Data Here'!"&HLOOKUP($B28,'Enter Data Here'!$5:$6,2,0)&"$11")),$B28,IF(AND(F$20>=INDIRECT("'Enter Data Here'!"&HLOOKUP($B28,'Enter Data Here'!$5:$6,2,0)&"$13"),F$20<=INDIRECT("'Enter Data Here'!"&HLOOKUP($B28,'Enter Data Here'!$5:$6,2,0)&"$14")),$B28,IF(AND(F$20>=INDIRECT("'Enter Data Here'!"&HLOOKUP($B28,'Enter Data Here'!$5:$6,2,0)&"$16"),F$20<=INDIRECT("'Enter Data Here'!"&HLOOKUP($B28,'Enter Data Here'!$5:$6,2,0)&"$17")),$B28,IF(AND(F$20>=INDIRECT("'Enter Data Here'!"&HLOOKUP($B28,'Enter Data Here'!$5:$6,2,0)&"$19"),F$20<=INDIRECT("'Enter Data Here'!"&HLOOKUP($B28,'Enter Data Here'!$5:$6,2,0)&"$20")),$B28,"")))))} | G28: {=IF(AND(G$20>=INDIRECT("'Enter Data Here'!"&HLOOKUP($B28,'Enter Data Here'!$5:$6,2,0)&"$7"),G$20<=INDIRECT("'Enter Data Here'!"&HLOOKUP($B28,'Enter Data Here'!$5:$6,2,0)&"$8")),$B28,IF(AND(G$20>=INDIRECT("'Enter Data Here'!"&HLOOKUP($B28,'Enter Data Here'!$5:$6,2,0)&"$10"),G$20<=INDIRECT("'Enter Data Here'!"&HLOOKUP($B28,'Enter Data Here'!$5:$6,2,0)&"$11")),$B28,IF(AND(G$20>=INDIRECT("'Enter Data Here'!"&HLOOKUP($B28,'Enter Data Here'!$5:$6,2,0)&"$13"),G$20<=INDIRECT("'Enter Data Here'!"&HLOOKUP($B28,'Enter Data Here'!$5:$6,2,0)&"$14")),$B28,IF(AND(G$20>=INDIRECT("'Enter Data Here'!"&HLOOKUP($B28,'Enter Data Here'!$5:$6,2,0)&"$16"),G$20<=INDIRECT("'Enter Data Here'!"&HLOOKUP($B28,'Enter Data Here'!$5:$6,2,0)&"$17")),$B28,IF(AND(G$20>=INDIRECT("'Enter Data Here'!"&HLOOKUP($B28,'Enter Data Here'!$5:$6,2,0)&"$19"),G$20<=INDIRECT("'Enter Data Here'!"&HLOOKUP($B28,'Enter Data Here'!$5:$6,2,0)&"$20")),$B28,"")))))} | H28: {=IF(AND(H$20>=INDIRECT("'Enter Data Here'!"&HLOOKUP($B28,'Enter Data Here'!$5:$6,2,0)&"$7"),H$20<=INDIRECT("'Enter Data Here'!"&HLOOKUP($B28,'Enter Data Here'!$5:$6,2,0)&"$8")),$B28,IF(AND(H$20>=INDIRECT("'Enter Data Here'!"&HLOOKUP($B28,'Enter Data Here'!$5:$6,2,0)&"$10"),H$20<=INDIRECT("'Enter Data Here'!"&HLOOKUP($B28,'Enter Data Here'!$5:$6,2,0)&"$11")),$B28,IF(AND(H$20>=INDIRECT("'Enter Data Here'!"&HLOOKUP($B28,'Enter Data Here'!$5:$6,2,0)&"$13"),H$20<=INDIRECT("'Enter Data Here'!"&HLOOKUP($B28,'Enter Data Here'!$5:$6,2,0)&"$14")),$B28,IF(AND(H$20>=INDIRECT("'Enter Data Here'!"&HLOOKUP($B28,'Enter Data Here'!$5:$6,2,0)&"$16"),H$20<=INDIRECT("'Enter Data Here'!"&HLOOKUP($B28,'Enter Data Here'!$5:$6,2,0)&"$17")),$B28,IF(AND(H$20>=INDIRECT("'Enter Data Here'!"&HLOOKUP($B28,'Enter Data Here'!$5:$6,2,0)&"$19"),H$20<=INDIRECT("'Enter Data Here'!"&HLOOKUP($B28,'Enter Data Here'!$5:$6,2,0)&"$20")),$B28,"")))))} | I28: {=IF(AND(I$20>=INDIRECT("'Enter Data Here'!"&HLOOKUP($B28,'Enter Data Here'!$5:$6,2,0)&"$7"),I$20<=INDIRECT("'Enter Data Here'!"&HLOOKUP($B28,'Enter Data Here'!$5:$6,2,0)&"$8")),$B28,IF(AND(I$20>=INDIRECT("'Enter Data Here'!"&HLOOKUP($B28,'Enter Data Here'!$5:$6,2,0)&"$10"),I$20<=INDIRECT("'Enter Data Here'!"&HLOOKUP($B28,'Enter Data Here'!$5:$6,2,0)&"$11")),$B28,IF(AND(I$20>=INDIRECT("'Enter Data Here'!"&HLOOKUP($B28,'Enter Data Here'!$5:$6,2,0)&"$13"),I$20<=INDIRECT("'Enter Data Here'!"&HLOOKUP($B28,'Enter Data Here'!$5:$6,2,0)&"$14")),$B28,IF(AND(I$20>=INDIRECT("'Enter Data Here'!"&HLOOKUP($B28,'Enter Data Here'!$5:$6,2,0)&"$16"),I$20<=INDIRECT("'Enter Data Here'!"&HLOOKUP($B28,'Enter Data Here'!$5:$6,2,0)&"$17")),$B28,IF(AND(I$20>=INDIRECT("'Enter Data Here'!"&HLOOKUP($B28,'Enter Data Here'!$5:$6,2,0)&"$19"),I$20<=INDIRECT("'Enter Data Here'!"&HLOOKUP($B28,'Enter Data Here'!$5:$6,2,0)&"$20")),$B28,"")))))} | J28: {=IF(AND(J$20>=INDIRECT("'Enter Data Here'!"&HLOOKUP($B28,'Enter Data Here'!$5:$6,2,0)&"$7"),J$20<=INDIRECT("'Enter Data Here'!"&HLOOKUP($B28,'Enter Data Here'!$5:$6,2,0)&"$8")),$B28,IF(AND(J$20>=INDIRECT("'Enter Data Here'!"&HLOOKUP($B28,'Enter Data Here'!$5:$6,2,0)&"$10"),J$20<=INDIRECT("'Enter Data Here'!"&HLOOKUP($B28,'Enter Data Here'!$5:$6,2,0)&"$11")),$B28,IF(AND(J$20>=INDIRECT("'Enter Data Here'!"&HLOOKUP($B28,'Enter Data Here'!$5:$6,2,0)&"$13"),J$20<=INDIRECT("'Enter Data Here'!"&HLOOKUP($B28,'Enter Data Here'!$5:$6,2,0)&"$14")),$B28,IF(AND(J$20>=INDIRECT("'Enter Data Here'!"&HLOOKUP($B28,'Enter Data Here'!$5:$6,2,0)&"$16"),J$20<=INDIRECT("'Enter Data Here'!"&HLOOKUP($B28,'Enter Data Here'!$5:$6,2,0)&"$17")),$B28,IF(AND(J$20>=INDIRECT("'Enter Data Here'!"&HLOOKUP($B28,'Enter Data Here'!$5:$6,2,0)&"$19"),J$20<=INDIRECT("'Enter Data Here'!"&HLOOKUP($B28,'Enter Data Here'!$5:$6,2,0)&"$20")),$B28,"")))))} | K28: {=IF(AND(K$20>=INDIRECT("'Enter Data Here'!"&HLOOKUP($B28,'Enter Data Here'!$5:$6,2,0)&"$7"),K$20<=INDIRECT("'Enter Data Here'!"&HLOOKUP($B28,'Enter Data Here'!$5:$6,2,0)&"$8")),$B28,IF(AND(K$20>=INDIRECT("'Enter Data Here'!"&HLOOKUP($B28,'Enter Data Here'!$5:$6,2,0)&"$10"),K$20<=INDIRECT("'Enter Data Here'!"&HLOOKUP($B28,'Enter Data Here'!$5:$6,2,0)&"$11")),$B28,IF(AND(K$20>=INDIRECT("'Enter Data Here'!"&HLOOKUP($B28,'Enter Data Here'!$5:$6,2,0)&"$13"),K$20<=INDIRECT("'Enter Data Here'!"&HLOOKUP($B28,'Enter Data Here'!$5:$6,2,0)&"$14")),$B28,IF(AND(K$20>=INDIRECT("'Enter Data Here'!"&HLOOKUP($B28,'Enter Data Here'!$5:$6,2,0)&"$16"),K$20<=INDIRECT("'Enter Data Here'!"&HLOOKUP($B28,'Enter Data Here'!$5:$6,2,0)&"$17")),$B28,IF(AND(K$20>=INDIRECT("'Enter Data Here'!"&HLOOKUP($B28,'Enter Data Here'!$5:$6,2,0)&"$19"),K$20<=INDIRECT("'Enter Data Here'!"&HLOOKUP($B28,'Enter Data Here'!$5:$6,2,0)&"$20")),$B28,"")))))} | L28: {=IF(AND(L$20>=INDIRECT("'Enter Data Here'!"&HLOOKUP($B28,'Enter Data Here'!$5:$6,2,0)&"$7"),L$20<=INDIRECT("'Enter Data Here'!"&HLOOKUP($B28,'Enter Data Here'!$5:$6,2,0)&"$8")),$B28,IF(AND(L$20>=INDIRECT("'Enter Data Here'!"&HLOOKUP($B28,'Enter Data Here'!$5:$6,2,0)&"$10"),L$20<=INDIRECT("'Enter Data Here'!"&HLOOKUP($B28,'Enter Data Here'!$5:$6,2,0)&"$11")),$B28,IF(AND(L$20>=INDIRECT("'Enter Data Here'!"&HLOOKUP($B28,'Enter Data Here'!$5:$6,2,0)&"$13"),L$20<=INDIRECT("'Enter Data Here'!"&HLOOKUP($B28,'Enter Data Here'!$5:$6,2,0)&"$14")),$B28,IF(AND(L$20>=INDIRECT("'Enter Data Here'!"&HLOOKUP($B28,'Enter Data Here'!$5:$6,2,0)&"$16"),L$20<=INDIRECT("'Enter Data Here'!"&HLOOKUP($B28,'Enter Data Here'!$5:$6,2,0)&"$17")),$B28,IF(AND(L$20>=INDIRECT("'Enter Data Here'!"&HLOOKUP($B28,'Enter Data Here'!$5:$6,2,0)&"$19"),L$20<=INDIRECT("'Enter Data Here'!"&HLOOKUP($B28,'Enter Data Here'!$5:$6,2,0)&"$20")),$B28,"")))))} | M28: {=IF(AND(M$20>=INDIRECT("'Enter Data Here'!"&HLOOKUP($B28,'Enter Data Here'!$5:$6,2,0)&"$7"),M$20<=INDIRECT("'Enter Data Here'!"&HLOOKUP($B28,'Enter Data Here'!$5:$6,2,0)&"$8")),$B28,IF(AND(M$20>=INDIRECT("'Enter Data Here'!"&HLOOKUP($B28,'Enter Data Here'!$5:$6,2,0)&"$10"),M$20<=INDIRECT("'Enter Data Here'!"&HLOOKUP($B28,'Enter Data Here'!$5:$6,2,0)&"$11")),$B28,IF(AND(M$20>=INDIRECT("'Enter Data Here'!"&HLOOKUP($B28,'Enter Data Here'!$5:$6,2,0)&"$13"),M$20<=INDIRECT("'Enter Data Here'!"&HLOOKUP($B28,'Enter Data Here'!$5:$6,2,0)&"$14")),$B28,IF(AND(M$20>=INDIRECT("'Enter Data Here'!"&HLOOKUP($B28,'Enter Data Here'!$5:$6,2,0)&"$16"),M$20<=INDIRECT("'Enter Data Here'!"&HLOOKUP($B28,'Enter Data Here'!$5:$6,2,0)&"$17")),$B28,IF(AND(M$20>=INDIRECT("'Enter Data Here'!"&HLOOKUP($B28,'Enter Data Here'!$5:$6,2,0)&"$19"),M$20<=INDIRECT("'Enter Data Here'!"&HLOOKUP($B28,'Enter Data Here'!$5:$6,2,0)&"$20")),$B28,"")))))} | ... AH28: {=IF(AND(AH$20>=INDIRECT("'Enter Data Here'!"&HLOOKUP($B28,'Enter Data Here'!$5:$6,2,0)&"$7"),AH$20<=INDIRECT("'Enter Data Here'!"&HLOOKUP($B28,'Enter Data Here'!$5:$6,2,0)&"$8")),$B28,IF(AND(AH$20>=INDIRECT("'Enter Data Here'!"&HLOOKUP($B28,'Enter Data Here'!$5:$6,2,0)&"$10"),AH$20<=INDIRECT("'Enter Data Here'!"&HLOOKUP($B28,'Enter Data Here'!$5:$6,2,0)&"$11")),$B28,IF(AND(AH$20>=INDIRECT("'Enter Data Here'!"&HLOOKUP($B28,'Enter Data Here'!$5:$6,2,0)&"$13"),AH$20<=INDIRECT("'Enter Data Here'!"&HLOOKUP($B28,'Enter Data Here'!$5:$6,2,0)&"$14")),$B28,IF(AND(AH$20>=INDIRECT("'Enter Data Here'!"&HLOOKUP($B28,'Enter Data Here'!$5:$6,2,0)&"$16"),AH$20<=INDIRECT("'Enter Data Here'!"&HLOOKUP($B28,'Enter Data Here'!$5:$6,2,0)&"$17")),$B28,IF(AND(AH$20>=INDIRECT("'Enter Data Here'!"&HLOOKUP($B28,'Enter Data Here'!$5:$6,2,0)&"$19"),AH$20<=INDIRECT("'Enter Data Here'!"&HLOOKUP($B28,'Enter Data Here'!$5:$6,2,0)&"$20")),$B28,"")))))}
B29: ='Be4 you start'!E27 -> Denise | F29: {=IF(AND(F$20>=INDIRECT("'Enter Data Here'!"&HLOOKUP($B29,'Enter Data Here'!$5:$6,2,0)&"$7"),F$20<=INDIRECT("'Enter Data Here'!"&HLOOKUP($B29,'Enter Data Here'!$5:$6,2,0)&"$8")),$B29,IF(AND(F$20>=INDIRECT("'Enter Data Here'!"&HLOOKUP($B29,'Enter Data Here'!$5:$6,2,0)&"$10"),F$20<=INDIRECT("'Enter Data Here'!"&HLOOKUP($B29,'Enter Data Here'!$5:$6,2,0)&"$11")),$B29,IF(AND(F$20>=INDIRECT("'Enter Data Here'!"&HLOOKUP($B29,'Enter Data Here'!$5:$6,2,0)&"$13"),F$20<=INDIRECT("'Enter Data Here'!"&HLOOKUP($B29,'Enter Data Here'!$5:$6,2,0)&"$14")),$B29,IF(AND(F$20>=INDIRECT("'Enter Data Here'!"&HLOOKUP($B29,'Enter Data Here'!$5:$6,2,0)&"$16"),F$20<=INDIRECT("'Enter Data Here'!"&HLOOKUP($B29,'Enter Data Here'!$5:$6,2,0)&"$17")),$B29,IF(AND(F$20>=INDIRECT("'Enter Data Here'!"&HLOOKUP($B29,'Enter Data Here'!$5:$6,2,0)&"$19"),F$20<=INDIRECT("'Enter Data Here'!"&HLOOKUP($B29,'Enter Data Here'!$5:$6,2,0)&"$20")),$B29,"")))))} | G29: {=IF(AND(G$20>=INDIRECT("'Enter Data Here'!"&HLOOKUP($B29,'Enter Data Here'!$5:$6,2,0)&"$7"),G$20<=INDIRECT("'Enter Data Here'!"&HLOOKUP($B29,'Enter Data Here'!$5:$6,2,0)&"$8")),$B29,IF(AND(G$20>=INDIRECT("'Enter Data Here'!"&HLOOKUP($B29,'Enter Data Here'!$5:$6,2,0)&"$10"),G$20<=INDIRECT("'Enter Data Here'!"&HLOOKUP($B29,'Enter Data Here'!$5:$6,2,0)&"$11")),$B29,IF(AND(G$20>=INDIRECT("'Enter Data Here'!"&HLOOKUP($B29,'Enter Data Here'!$5:$6,2,0)&"$13"),G$20<=INDIRECT("'Enter Data Here'!"&HLOOKUP($B29,'Enter Data Here'!$5:$6,2,0)&"$14")),$B29,IF(AND(G$20>=INDIRECT("'Enter Data Here'!"&HLOOKUP($B29,'Enter Data Here'!$5:$6,2,0)&"$16"),G$20<=INDIRECT("'Enter Data Here'!"&HLOOKUP($B29,'Enter Data Here'!$5:$6,2,0)&"$17")),$B29,IF(AND(G$20>=INDIRECT("'Enter Data Here'!"&HLOOKUP($B29,'Enter Data Here'!$5:$6,2,0)&"$19"),G$20<=INDIRECT("'Enter Data Here'!"&HLOOKUP($B29,'Enter Data Here'!$5:$6,2,0)&"$20")),$B29,"")))))} | H29: {=IF(AND(H$20>=INDIRECT("'Enter Data Here'!"&HLOOKUP($B29,'Enter Data Here'!$5:$6,2,0)&"$7"),H$20<=INDIRECT("'Enter Data Here'!"&HLOOKUP($B29,'Enter Data Here'!$5:$6,2,0)&"$8")),$B29,IF(AND(H$20>=INDIRECT("'Enter Data Here'!"&HLOOKUP($B29,'Enter Data Here'!$5:$6,2,0)&"$10"),H$20<=INDIRECT("'Enter Data Here'!"&HLOOKUP($B29,'Enter Data Here'!$5:$6,2,0)&"$11")),$B29,IF(AND(H$20>=INDIRECT("'Enter Data Here'!"&HLOOKUP($B29,'Enter Data Here'!$5:$6,2,0)&"$13"),H$20<=INDIRECT("'Enter Data Here'!"&HLOOKUP($B29,'Enter Data Here'!$5:$6,2,0)&"$14")),$B29,IF(AND(H$20>=INDIRECT("'Enter Data Here'!"&HLOOKUP($B29,'Enter Data Here'!$5:$6,2,0)&"$16"),H$20<=INDIRECT("'Enter Data Here'!"&HLOOKUP($B29,'Enter Data Here'!$5:$6,2,0)&"$17")),$B29,IF(AND(H$20>=INDIRECT("'Enter Data Here'!"&HLOOKUP($B29,'Enter Data Here'!$5:$6,2,0)&"$19"),H$20<=INDIRECT("'Enter Data Here'!"&HLOOKUP($B29,'Enter Data Here'!$5:$6,2,0)&"$20")),$B29,"")))))} | I29: {=IF(AND(I$20>=INDIRECT("'Enter Data Here'!"&HLOOKUP($B29,'Enter Data Here'!$5:$6,2,0)&"$7"),I$20<=INDIRECT("'Enter Data Here'!"&HLOOKUP($B29,'Enter Data Here'!$5:$6,2,0)&"$8")),$B29,IF(AND(I$20>=INDIRECT("'Enter Data Here'!"&HLOOKUP($B29,'Enter Data Here'!$5:$6,2,0)&"$10"),I$20<=INDIRECT("'Enter Data Here'!"&HLOOKUP($B29,'Enter Data Here'!$5:$6,2,0)&"$11")),$B29,IF(AND(I$20>=INDIRECT("'Enter Data Here'!"&HLOOKUP($B29,'Enter Data Here'!$5:$6,2,0)&"$13"),I$20<=INDIRECT("'Enter Data Here'!"&HLOOKUP($B29,'Enter Data Here'!$5:$6,2,0)&"$14")),$B29,IF(AND(I$20>=INDIRECT("'Enter Data Here'!"&HLOOKUP($B29,'Enter Data Here'!$5:$6,2,0)&"$16"),I$20<=INDIRECT("'Enter Data Here'!"&HLOOKUP($B29,'Enter Data Here'!$5:$6,2,0)&"$17")),$B29,IF(AND(I$20>=INDIRECT("'Enter Data Here'!"&HLOOKUP($B29,'Enter Data Here'!$5:$6,2,0)&"$19"),I$20<=INDIRECT("'Enter Data Here'!"&HLOOKUP($B29,'Enter Data Here'!$5:$6,2,0)&"$20")),$B29,"")))))} | J29: {=IF(AND(J$20>=INDIRECT("'Enter Data Here'!"&HLOOKUP($B29,'Enter Data Here'!$5:$6,2,0)&"$7"),J$20<=INDIRECT("'Enter Data Here'!"&HLOOKUP($B29,'Enter Data Here'!$5:$6,2,0)&"$8")),$B29,IF(AND(J$20>=INDIRECT("'Enter Data Here'!"&HLOOKUP($B29,'Enter Data Here'!$5:$6,2,0)&"$10"),J$20<=INDIRECT("'Enter Data Here'!"&HLOOKUP($B29,'Enter Data Here'!$5:$6,2,0)&"$11")),$B29,IF(AND(J$20>=INDIRECT("'Enter Data Here'!"&HLOOKUP($B29,'Enter Data Here'!$5:$6,2,0)&"$13"),J$20<=INDIRECT("'Enter Data Here'!"&HLOOKUP($B29,'Enter Data Here'!$5:$6,2,0)&"$14")),$B29,IF(AND(J$20>=INDIRECT("'Enter Data Here'!"&HLOOKUP($B29,'Enter Data Here'!$5:$6,2,0)&"$16"),J$20<=INDIRECT("'Enter Data Here'!"&HLOOKUP($B29,'Enter Data Here'!$5:$6,2,0)&"$17")),$B29,IF(AND(J$20>=INDIRECT("'Enter Data Here'!"&HLOOKUP($B29,'Enter Data Here'!$5:$6,2,0)&"$19"),J$20<=INDIRECT("'Enter Data Here'!"&HLOOKUP($B29,'Enter Data Here'!$5:$6,2,0)&"$20")),$B29,"")))))} | K29: {=IF(AND(K$20>=INDIRECT("'Enter Data Here'!"&HLOOKUP($B29,'Enter Data Here'!$5:$6,2,0)&"$7"),K$20<=INDIRECT("'Enter Data Here'!"&HLOOKUP($B29,'Enter Data Here'!$5:$6,2,0)&"$8")),$B29,IF(AND(K$20>=INDIRECT("'Enter Data Here'!"&HLOOKUP($B29,'Enter Data Here'!$5:$6,2,0)&"$10"),K$20<=INDIRECT("'Enter Data Here'!"&HLOOKUP($B29,'Enter Data Here'!$5:$6,2,0)&"$11")),$B29,IF(AND(K$20>=INDIRECT("'Enter Data Here'!"&HLOOKUP($B29,'Enter Data Here'!$5:$6,2,0)&"$13"),K$20<=INDIRECT("'Enter Data Here'!"&HLOOKUP($B29,'Enter Data Here'!$5:$6,2,0)&"$14")),$B29,IF(AND(K$20>=INDIRECT("'Enter Data Here'!"&HLOOKUP($B29,'Enter Data Here'!$5:$6,2,0)&"$16"),K$20<=INDIRECT("'Enter Data Here'!"&HLOOKUP($B29,'Enter Data Here'!$5:$6,2,0)&"$17")),$B29,IF(AND(K$20>=INDIRECT("'Enter Data Here'!"&HLOOKUP($B29,'Enter Data Here'!$5:$6,2,0)&"$19"),K$20<=INDIRECT("'Enter Data Here'!"&HLOOKUP($B29,'Enter Data Here'!$5:$6,2,0)&"$20")),$B29,"")))))} | L29: {=IF(AND(L$20>=INDIRECT("'Enter Data Here'!"&HLOOKUP($B29,'Enter Data Here'!$5:$6,2,0)&"$7"),L$20<=INDIRECT("'Enter Data Here'!"&HLOOKUP($B29,'Enter Data Here'!$5:$6,2,0)&"$8")),$B29,IF(AND(L$20>=INDIRECT("'Enter Data Here'!"&HLOOKUP($B29,'Enter Data Here'!$5:$6,2,0)&"$10"),L$20<=INDIRECT("'Enter Data Here'!"&HLOOKUP($B29,'Enter Data Here'!$5:$6,2,0)&"$11")),$B29,IF(AND(L$20>=INDIRECT("'Enter Data Here'!"&HLOOKUP($B29,'Enter Data Here'!$5:$6,2,0)&"$13"),L$20<=INDIRECT("'Enter Data Here'!"&HLOOKUP($B29,'Enter Data Here'!$5:$6,2,0)&"$14")),$B29,IF(AND(L$20>=INDIRECT("'Enter Data Here'!"&HLOOKUP($B29,'Enter Data Here'!$5:$6,2,0)&"$16"),L$20<=INDIRECT("'Enter Data Here'!"&HLOOKUP($B29,'Enter Data Here'!$5:$6,2,0)&"$17")),$B29,IF(AND(L$20>=INDIRECT("'Enter Data Here'!"&HLOOKUP($B29,'Enter Data Here'!$5:$6,2,0)&"$19"),L$20<=INDIRECT("'Enter Data Here'!"&HLOOKUP($B29,'Enter Data Here'!$5:$6,2,0)&"$20")),$B29,"")))))} | M29: {=IF(AND(M$20>=INDIRECT("'Enter Data Here'!"&HLOOKUP($B29,'Enter Data Here'!$5:$6,2,0)&"$7"),M$20<=INDIRECT("'Enter Data Here'!"&HLOOKUP($B29,'Enter Data Here'!$5:$6,2,0)&"$8")),$B29,IF(AND(M$20>=INDIRECT("'Enter Data Here'!"&HLOOKUP($B29,'Enter Data Here'!$5:$6,2,0)&"$10"),M$20<=INDIRECT("'Enter Data Here'!"&HLOOKUP($B29,'Enter Data Here'!$5:$6,2,0)&"$11")),$B29,IF(AND(M$20>=INDIRECT("'Enter Data Here'!"&HLOOKUP($B29,'Enter Data Here'!$5:$6,2,0)&"$13"),M$20<=INDIRECT("'Enter Data Here'!"&HLOOKUP($B29,'Enter Data Here'!$5:$6,2,0)&"$14")),$B29,IF(AND(M$20>=INDIRECT("'Enter Data Here'!"&HLOOKUP($B29,'Enter Data Here'!$5:$6,2,0)&"$16"),M$20<=INDIRECT("'Enter Data Here'!"&HLOOKUP($B29,'Enter Data Here'!$5:$6,2,0)&"$17")),$B29,IF(AND(M$20>=INDIRECT("'Enter Data Here'!"&HLOOKUP($B29,'Enter Data Here'!$5:$6,2,0)&"$19"),M$20<=INDIRECT("'Enter Data Here'!"&HLOOKUP($B29,'Enter Data Here'!$5:$6,2,0)&"$20")),$B29,"")))))} | ... AH29: {=IF(AND(AH$20>=INDIRECT("'Enter Data Here'!"&HLOOKUP($B29,'Enter Data Here'!$5:$6,2,0)&"$7"),AH$20<=INDIRECT("'Enter Data Here'!"&HLOOKUP($B29,'Enter Data Here'!$5:$6,2,0)&"$8")),$B29,IF(AND(AH$20>=INDIRECT("'Enter Data Here'!"&HLOOKUP($B29,'Enter Data Here'!$5:$6,2,0)&"$10"),AH$20<=INDIRECT("'Enter Data Here'!"&HLOOKUP($B29,'Enter Data Here'!$5:$6,2,0)&"$11")),$B29,IF(AND(AH$20>=INDIRECT("'Enter Data Here'!"&HLOOKUP($B29,'Enter Data Here'!$5:$6,2,0)&"$13"),AH$20<=INDIRECT("'Enter Data Here'!"&HLOOKUP($B29,'Enter Data Here'!$5:$6,2,0)&"$14")),$B29,IF(AND(AH$20>=INDIRECT("'Enter Data Here'!"&HLOOKUP($B29,'Enter Data Here'!$5:$6,2,0)&"$16"),AH$20<=INDIRECT("'Enter Data Here'!"&HLOOKUP($B29,'Enter Data Here'!$5:$6,2,0)&"$17")),$B29,IF(AND(AH$20>=INDIRECT("'Enter Data Here'!"&HLOOKUP($B29,'Enter Data Here'!$5:$6,2,0)&"$19"),AH$20<=INDIRECT("'Enter Data Here'!"&HLOOKUP($B29,'Enter Data Here'!$5:$6,2,0)&"$20")),$B29,"")))))}
B30: ='Be4 you start'!E28 -> Wisam | F30: {=IF(AND(F$20>=INDIRECT("'Enter Data Here'!"&HLOOKUP($B30,'Enter Data Here'!$5:$6,2,0)&"$7"),F$20<=INDIRECT("'Enter Data Here'!"&HLOOKUP($B30,'Enter Data Here'!$5:$6,2,0)&"$8")),$B30,IF(AND(F$20>=INDIRECT("'Enter Data Here'!"&HLOOKUP($B30,'Enter Data Here'!$5:$6,2,0)&"$10"),F$20<=INDIRECT("'Enter Data Here'!"&HLOOKUP($B30,'Enter Data Here'!$5:$6,2,0)&"$11")),$B30,IF(AND(F$20>=INDIRECT("'Enter Data Here'!"&HLOOKUP($B30,'Enter Data Here'!$5:$6,2,0)&"$13"),F$20<=INDIRECT("'Enter Data Here'!"&HLOOKUP($B30,'Enter Data Here'!$5:$6,2,0)&"$14")),$B30,IF(AND(F$20>=INDIRECT("'Enter Data Here'!"&HLOOKUP($B30,'Enter Data Here'!$5:$6,2,0)&"$16"),F$20<=INDIRECT("'Enter Data Here'!"&HLOOKUP($B30,'Enter Data Here'!$5:$6,2,0)&"$17")),$B30,IF(AND(F$20>=INDIRECT("'Enter Data Here'!"&HLOOKUP($B30,'Enter Data Here'!$5:$6,2,0)&"$19"),F$20<=INDIRECT("'Enter Data Here'!"&HLOOKUP($B30,'Enter Data Here'!$5:$6,2,0)&"$20")),$B30,"")))))} | G30: {=IF(AND(G$20>=INDIRECT("'Enter Data Here'!"&HLOOKUP($B30,'Enter Data Here'!$5:$6,2,0)&"$7"),G$20<=INDIRECT("'Enter Data Here'!"&HLOOKUP($B30,'Enter Data Here'!$5:$6,2,0)&"$8")),$B30,IF(AND(G$20>=INDIRECT("'Enter Data Here'!"&HLOOKUP($B30,'Enter Data Here'!$5:$6,2,0)&"$10"),G$20<=INDIRECT("'Enter Data Here'!"&HLOOKUP($B30,'Enter Data Here'!$5:$6,2,0)&"$11")),$B30,IF(AND(G$20>=INDIRECT("'Enter Data Here'!"&HLOOKUP($B30,'Enter Data Here'!$5:$6,2,0)&"$13"),G$20<=INDIRECT("'Enter Data Here'!"&HLOOKUP($B30,'Enter Data Here'!$5:$6,2,0)&"$14")),$B30,IF(AND(G$20>=INDIRECT("'Enter Data Here'!"&HLOOKUP($B30,'Enter Data Here'!$5:$6,2,0)&"$16"),G$20<=INDIRECT("'Enter Data Here'!"&HLOOKUP($B30,'Enter Data Here'!$5:$6,2,0)&"$17")),$B30,IF(AND(G$20>=INDIRECT("'Enter Data Here'!"&HLOOKUP($B30,'Enter Data Here'!$5:$6,2,0)&"$19"),G$20<=INDIRECT("'Enter Data Here'!"&HLOOKUP($B30,'Enter Data Here'!$5:$6,2,0)&"$20")),$B30,"")))))} | H30: {=IF(AND(H$20>=INDIRECT("'Enter Data Here'!"&HLOOKUP($B30,'Enter Data Here'!$5:$6,2,0)&"$7"),H$20<=INDIRECT("'Enter Data Here'!"&HLOOKUP($B30,'Enter Data Here'!$5:$6,2,0)&"$8")),$B30,IF(AND(H$20>=INDIRECT("'Enter Data Here'!"&HLOOKUP($B30,'Enter Data Here'!$5:$6,2,0)&"$10"),H$20<=INDIRECT("'Enter Data Here'!"&HLOOKUP($B30,'Enter Data Here'!$5:$6,2,0)&"$11")),$B30,IF(AND(H$20>=INDIRECT("'Enter Data Here'!"&HLOOKUP($B30,'Enter Data Here'!$5:$6,2,0)&"$13"),H$20<=INDIRECT("'Enter Data Here'!"&HLOOKUP($B30,'Enter Data Here'!$5:$6,2,0)&"$14")),$B30,IF(AND(H$20>=INDIRECT("'Enter Data Here'!"&HLOOKUP($B30,'Enter Data Here'!$5:$6,2,0)&"$16"),H$20<=INDIRECT("'Enter Data Here'!"&HLOOKUP($B30,'Enter Data Here'!$5:$6,2,0)&"$17")),$B30,IF(AND(H$20>=INDIRECT("'Enter Data Here'!"&HLOOKUP($B30,'Enter Data Here'!$5:$6,2,0)&"$19"),H$20<=INDIRECT("'Enter Data Here'!"&HLOOKUP($B30,'Enter Data Here'!$5:$6,2,0)&"$20")),$B30,"")))))} | I30: {=IF(AND(I$20>=INDIRECT("'Enter Data Here'!"&HLOOKUP($B30,'Enter Data Here'!$5:$6,2,0)&"$7"),I$20<=INDIRECT("'Enter Data Here'!"&HLOOKUP($B30,'Enter Data Here'!$5:$6,2,0)&"$8")),$B30,IF(AND(I$20>=INDIRECT("'Enter Data Here'!"&HLOOKUP($B30,'Enter Data Here'!$5:$6,2,0)&"$10"),I$20<=INDIRECT("'Enter Data Here'!"&HLOOKUP($B30,'Enter Data Here'!$5:$6,2,0)&"$11")),$B30,IF(AND(I$20>=INDIRECT("'Enter Data Here'!"&HLOOKUP($B30,'Enter Data Here'!$5:$6,2,0)&"$13"),I$20<=INDIRECT("'Enter Data Here'!"&HLOOKUP($B30,'Enter Data Here'!$5:$6,2,0)&"$14")),$B30,IF(AND(I$20>=INDIRECT("'Enter Data Here'!"&HLOOKUP($B30,'Enter Data Here'!$5:$6,2,0)&"$16"),I$20<=INDIRECT("'Enter Data Here'!"&HLOOKUP($B30,'Enter Data Here'!$5:$6,2,0)&"$17")),$B30,IF(AND(I$20>=INDIRECT("'Enter Data Here'!"&HLOOKUP($B30,'Enter Data Here'!$5:$6,2,0)&"$19"),I$20<=INDIRECT("'Enter Data Here'!"&HLOOKUP($B30,'Enter Data Here'!$5:$6,2,0)&"$20")),$B30,"")))))} | J30: {=IF(AND(J$20>=INDIRECT("'Enter Data Here'!"&HLOOKUP($B30,'Enter Data Here'!$5:$6,2,0)&"$7"),J$20<=INDIRECT("'Enter Data Here'!"&HLOOKUP($B30,'Enter Data Here'!$5:$6,2,0)&"$8")),$B30,IF(AND(J$20>=INDIRECT("'Enter Data Here'!"&HLOOKUP($B30,'Enter Data Here'!$5:$6,2,0)&"$10"),J$20<=INDIRECT("'Enter Data Here'!"&HLOOKUP($B30,'Enter Data Here'!$5:$6,2,0)&"$11")),$B30,IF(AND(J$20>=INDIRECT("'Enter Data Here'!"&HLOOKUP($B30,'Enter Data Here'!$5:$6,2,0)&"$13"),J$20<=INDIRECT("'Enter Data Here'!"&HLOOKUP($B30,'Enter Data Here'!$5:$6,2,0)&"$14")),$B30,IF(AND(J$20>=INDIRECT("'Enter Data Here'!"&HLOOKUP($B30,'Enter Data Here'!$5:$6,2,0)&"$16"),J$20<=INDIRECT("'Enter Data Here'!"&HLOOKUP($B30,'Enter Data Here'!$5:$6,2,0)&"$17")),$B30,IF(AND(J$20>=INDIRECT("'Enter Data Here'!"&HLOOKUP($B30,'Enter Data Here'!$5:$6,2,0)&"$19"),J$20<=INDIRECT("'Enter Data Here'!"&HLOOKUP($B30,'Enter Data Here'!$5:$6,2,0)&"$20")),$B30,"")))))} | K30: {=IF(AND(K$20>=INDIRECT("'Enter Data Here'!"&HLOOKUP($B30,'Enter Data Here'!$5:$6,2,0)&"$7"),K$20<=INDIRECT("'Enter Data Here'!"&HLOOKUP($B30,'Enter Data Here'!$5:$6,2,0)&"$8")),$B30,IF(AND(K$20>=INDIRECT("'Enter Data Here'!"&HLOOKUP($B30,'Enter Data Here'!$5:$6,2,0)&"$10"),K$20<=INDIRECT("'Enter Data Here'!"&HLOOKUP($B30,'Enter Data Here'!$5:$6,2,0)&"$11")),$B30,IF(AND(K$20>=INDIRECT("'Enter Data Here'!"&HLOOKUP($B30,'Enter Data Here'!$5:$6,2,0)&"$13"),K$20<=INDIRECT("'Enter Data Here'!"&HLOOKUP($B30,'Enter Data Here'!$5:$6,2,0)&"$14")),$B30,IF(AND(K$20>=INDIRECT("'Enter Data Here'!"&HLOOKUP($B30,'Enter Data Here'!$5:$6,2,0)&"$16"),K$20<=INDIRECT("'Enter Data Here'!"&HLOOKUP($B30,'Enter Data Here'!$5:$6,2,0)&"$17")),$B30,IF(AND(K$20>=INDIRECT("'Enter Data Here'!"&HLOOKUP($B30,'Enter Data Here'!$5:$6,2,0)&"$19"),K$20<=INDIRECT("'Enter Data Here'!"&HLOOKUP($B30,'Enter Data Here'!$5:$6,2,0)&"$20")),$B30,"")))))} | L30: {=IF(AND(L$20>=INDIRECT("'Enter Data Here'!"&HLOOKUP($B30,'Enter Data Here'!$5:$6,2,0)&"$7"),L$20<=INDIRECT("'Enter Data Here'!"&HLOOKUP($B30,'Enter Data Here'!$5:$6,2,0)&"$8")),$B30,IF(AND(L$20>=INDIRECT("'Enter Data Here'!"&HLOOKUP($B30,'Enter Data Here'!$5:$6,2,0)&"$10"),L$20<=INDIRECT("'Enter Data Here'!"&HLOOKUP($B30,'Enter Data Here'!$5:$6,2,0)&"$11")),$B30,IF(AND(L$20>=INDIRECT("'Enter Data Here'!"&HLOOKUP($B30,'Enter Data Here'!$5:$6,2,0)&"$13"),L$20<=INDIRECT("'Enter Data Here'!"&HLOOKUP($B30,'Enter Data Here'!$5:$6,2,0)&"$14")),$B30,IF(AND(L$20>=INDIRECT("'Enter Data Here'!"&HLOOKUP($B30,'Enter Data Here'!$5:$6,2,0)&"$16"),L$20<=INDIRECT("'Enter Data Here'!"&HLOOKUP($B30,'Enter Data Here'!$5:$6,2,0)&"$17")),$B30,IF(AND(L$20>=INDIRECT("'Enter Data Here'!"&HLOOKUP($B30,'Enter Data Here'!$5:$6,2,0)&"$19"),L$20<=INDIRECT("'Enter Data Here'!"&HLOOKUP($B30,'Enter Data Here'!$5:$6,2,0)&"$20")),$B30,"")))))} | M30: {=IF(AND(M$20>=INDIRECT("'Enter Data Here'!"&HLOOKUP($B30,'Enter Data Here'!$5:$6,2,0)&"$7"),M$20<=INDIRECT("'Enter Data Here'!"&HLOOKUP($B30,'Enter Data Here'!$5:$6,2,0)&"$8")),$B30,IF(AND(M$20>=INDIRECT("'Enter Data Here'!"&HLOOKUP($B30,'Enter Data Here'!$5:$6,2,0)&"$10"),M$20<=INDIRECT("'Enter Data Here'!"&HLOOKUP($B30,'Enter Data Here'!$5:$6,2,0)&"$11")),$B30,IF(AND(M$20>=INDIRECT("'Enter Data Here'!"&HLOOKUP($B30,'Enter Data Here'!$5:$6,2,0)&"$13"),M$20<=INDIRECT("'Enter Data Here'!"&HLOOKUP($B30,'Enter Data Here'!$5:$6,2,0)&"$14")),$B30,IF(AND(M$20>=INDIRECT("'Enter Data Here'!"&HLOOKUP($B30,'Enter Data Here'!$5:$6,2,0)&"$16"),M$20<=INDIRECT("'Enter Data Here'!"&HLOOKUP($B30,'Enter Data Here'!$5:$6,2,0)&"$17")),$B30,IF(AND(M$20>=INDIRECT("'Enter Data Here'!"&HLOOKUP($B30,'Enter Data Here'!$5:$6,2,0)&"$19"),M$20<=INDIRECT("'Enter Data Here'!"&HLOOKUP($B30,'Enter Data Here'!$5:$6,2,0)&"$20")),$B30,"")))))} | ... AH30: {=IF(AND(AH$20>=INDIRECT("'Enter Data Here'!"&HLOOKUP($B30,'Enter Data Here'!$5:$6,2,0)&"$7"),AH$20<=INDIRECT("'Enter Data Here'!"&HLOOKUP($B30,'Enter Data Here'!$5:$6,2,0)&"$8")),$B30,IF(AND(AH$20>=INDIRECT("'Enter Data Here'!"&HLOOKUP($B30,'Enter Data Here'!$5:$6,2,0)&"$10"),AH$20<=INDIRECT("'Enter Data Here'!"&HLOOKUP($B30,'Enter Data Here'!$5:$6,2,0)&"$11")),$B30,IF(AND(AH$20>=INDIRECT("'Enter Data Here'!"&HLOOKUP($B30,'Enter Data Here'!$5:$6,2,0)&"$13"),AH$20<=INDIRECT("'Enter Data Here'!"&HLOOKUP($B30,'Enter Data Here'!$5:$6,2,0)&"$14")),$B30,IF(AND(AH$20>=INDIRECT("'Enter Data Here'!"&HLOOKUP($B30,'Enter Data Here'!$5:$6,2,0)&"$16"),AH$20<=INDIRECT("'Enter Data Here'!"&HLOOKUP($B30,'Enter Data Here'!$5:$6,2,0)&"$17")),$B30,IF(AND(AH$20>=INDIRECT("'Enter Data Here'!"&HLOOKUP($B30,'Enter Data Here'!$5:$6,2,0)&"$19"),AH$20<=INDIRECT("'Enter Data Here'!"&HLOOKUP($B30,'Enter Data Here'!$5:$6,2,0)&"$20")),$B30,"")))))}
B31: ='Be4 you start'!E29 -> Tahani | F31: {=IF(AND(F$20>=INDIRECT("'Enter Data Here'!"&HLOOKUP($B31,'Enter Data Here'!$5:$6,2,0)&"$7"),F$20<=INDIRECT("'Enter Data Here'!"&HLOOKUP($B31,'Enter Data Here'!$5:$6,2,0)&"$8")),$B31,IF(AND(F$20>=INDIRECT("'Enter Data Here'!"&HLOOKUP($B31,'Enter Data Here'!$5:$6,2,0)&"$10"),F$20<=INDIRECT("'Enter Data Here'!"&HLOOKUP($B31,'Enter Data Here'!$5:$6,2,0)&"$11")),$B31,IF(AND(F$20>=INDIRECT("'Enter Data Here'!"&HLOOKUP($B31,'Enter Data Here'!$5:$6,2,0)&"$13"),F$20<=INDIRECT("'Enter Data Here'!"&HLOOKUP($B31,'Enter Data Here'!$5:$6,2,0)&"$14")),$B31,IF(AND(F$20>=INDIRECT("'Enter Data Here'!"&HLOOKUP($B31,'Enter Data Here'!$5:$6,2,0)&"$16"),F$20<=INDIRECT("'Enter Data Here'!"&HLOOKUP($B31,'Enter Data Here'!$5:$6,2,0)&"$17")),$B31,IF(AND(F$20>=INDIRECT("'Enter Data Here'!"&HLOOKUP($B31,'Enter Data Here'!$5:$6,2,0)&"$19"),F$20<=INDIRECT("'Enter Data Here'!"&HLOOKUP($B31,'Enter Data Here'!$5:$6,2,0)&"$20")),$B31,"")))))} | G31: {=IF(AND(G$20>=INDIRECT("'Enter Data Here'!"&HLOOKUP($B31,'Enter Data Here'!$5:$6,2,0)&"$7"),G$20<=INDIRECT("'Enter Data Here'!"&HLOOKUP($B31,'Enter Data Here'!$5:$6,2,0)&"$8")),$B31,IF(AND(G$20>=INDIRECT("'Enter Data Here'!"&HLOOKUP($B31,'Enter Data Here'!$5:$6,2,0)&"$10"),G$20<=INDIRECT("'Enter Data Here'!"&HLOOKUP($B31,'Enter Data Here'!$5:$6,2,0)&"$11")),$B31,IF(AND(G$20>=INDIRECT("'Enter Data Here'!"&HLOOKUP($B31,'Enter Data Here'!$5:$6,2,0)&"$13"),G$20<=INDIRECT("'Enter Data Here'!"&HLOOKUP($B31,'Enter Data Here'!$5:$6,2,0)&"$14")),$B31,IF(AND(G$20>=INDIRECT("'Enter Data Here'!"&HLOOKUP($B31,'Enter Data Here'!$5:$6,2,0)&"$16"),G$20<=INDIRECT("'Enter Data Here'!"&HLOOKUP($B31,'Enter Data Here'!$5:$6,2,0)&"$17")),$B31,IF(AND(G$20>=INDIRECT("'Enter Data Here'!"&HLOOKUP($B31,'Enter Data Here'!$5:$6,2,0)&"$19"),G$20<=INDIRECT("'Enter Data Here'!"&HLOOKUP($B31,'Enter Data Here'!$5:$6,2,0)&"$20")),$B31,"")))))} | H31: {=IF(AND(H$20>=INDIRECT("'Enter Data Here'!"&HLOOKUP($B31,'Enter Data Here'!$5:$6,2,0)&"$7"),H$20<=INDIRECT("'Enter Data Here'!"&HLOOKUP($B31,'Enter Data Here'!$5:$6,2,0)&"$8")),$B31,IF(AND(H$20>=INDIRECT("'Enter Data Here'!"&HLOOKUP($B31,'Enter Data Here'!$5:$6,2,0)&"$10"),H$20<=INDIRECT("'Enter Data Here'!"&HLOOKUP($B31,'Enter Data Here'!$5:$6,2,0)&"$11")),$B31,IF(AND(H$20>=INDIRECT("'Enter Data Here'!"&HLOOKUP($B31,'Enter Data Here'!$5:$6,2,0)&"$13"),H$20<=INDIRECT("'Enter Data Here'!"&HLOOKUP($B31,'Enter Data Here'!$5:$6,2,0)&"$14")),$B31,IF(AND(H$20>=INDIRECT("'Enter Data Here'!"&HLOOKUP($B31,'Enter Data Here'!$5:$6,2,0)&"$16"),H$20<=INDIRECT("'Enter Data Here'!"&HLOOKUP($B31,'Enter Data Here'!$5:$6,2,0)&"$17")),$B31,IF(AND(H$20>=INDIRECT("'Enter Data Here'!"&HLOOKUP($B31,'Enter Data Here'!$5:$6,2,0)&"$19"),H$20<=INDIRECT("'Enter Data Here'!"&HLOOKUP($B31,'Enter Data Here'!$5:$6,2,0)&"$20")),$B31,"")))))} | I31: {=IF(AND(I$20>=INDIRECT("'Enter Data Here'!"&HLOOKUP($B31,'Enter Data Here'!$5:$6,2,0)&"$7"),I$20<=INDIRECT("'Enter Data Here'!"&HLOOKUP($B31,'Enter Data Here'!$5:$6,2,0)&"$8")),$B31,IF(AND(I$20>=INDIRECT("'Enter Data Here'!"&HLOOKUP($B31,'Enter Data Here'!$5:$6,2,0)&"$10"),I$20<=INDIRECT("'Enter Data Here'!"&HLOOKUP($B31,'Enter Data Here'!$5:$6,2,0)&"$11")),$B31,IF(AND(I$20>=INDIRECT("'Enter Data Here'!"&HLOOKUP($B31,'Enter Data Here'!$5:$6,2,0)&"$13"),I$20<=INDIRECT("'Enter Data Here'!"&HLOOKUP($B31,'Enter Data Here'!$5:$6,2,0)&"$14")),$B31,IF(AND(I$20>=INDIRECT("'Enter Data Here'!"&HLOOKUP($B31,'Enter Data Here'!$5:$6,2,0)&"$16"),I$20<=INDIRECT("'Enter Data Here'!"&HLOOKUP($B31,'Enter Data Here'!$5:$6,2,0)&"$17")),$B31,IF(AND(I$20>=INDIRECT("'Enter Data Here'!"&HLOOKUP($B31,'Enter Data Here'!$5:$6,2,0)&"$19"),I$20<=INDIRECT("'Enter Data Here'!"&HLOOKUP($B31,'Enter Data Here'!$5:$6,2,0)&"$20")),$B31,"")))))} | J31: {=IF(AND(J$20>=INDIRECT("'Enter Data Here'!"&HLOOKUP($B31,'Enter Data Here'!$5:$6,2,0)&"$7"),J$20<=INDIRECT("'Enter Data Here'!"&HLOOKUP($B31,'Enter Data Here'!$5:$6,2,0)&"$8")),$B31,IF(AND(J$20>=INDIRECT("'Enter Data Here'!"&HLOOKUP($B31,'Enter Data Here'!$5:$6,2,0)&"$10"),J$20<=INDIRECT("'Enter Data Here'!"&HLOOKUP($B31,'Enter Data Here'!$5:$6,2,0)&"$11")),$B31,IF(AND(J$20>=INDIRECT("'Enter Data Here'!"&HLOOKUP($B31,'Enter Data Here'!$5:$6,2,0)&"$13"),J$20<=INDIRECT("'Enter Data Here'!"&HLOOKUP($B31,'Enter Data Here'!$5:$6,2,0)&"$14")),$B31,IF(AND(J$20>=INDIRECT("'Enter Data Here'!"&HLOOKUP($B31,'Enter Data Here'!$5:$6,2,0)&"$16"),J$20<=INDIRECT("'Enter Data Here'!"&HLOOKUP($B31,'Enter Data Here'!$5:$6,2,0)&"$17")),$B31,IF(AND(J$20>=INDIRECT("'Enter Data Here'!"&HLOOKUP($B31,'Enter Data Here'!$5:$6,2,0)&"$19"),J$20<=INDIRECT("'Enter Data Here'!"&HLOOKUP($B31,'Enter Data Here'!$5:$6,2,0)&"$20")),$B31,"")))))} | K31: {=IF(AND(K$20>=INDIRECT("'Enter Data Here'!"&HLOOKUP($B31,'Enter Data Here'!$5:$6,2,0)&"$7"),K$20<=INDIRECT("'Enter Data Here'!"&HLOOKUP($B31,'Enter Data Here'!$5:$6,2,0)&"$8")),$B31,IF(AND(K$20>=INDIRECT("'Enter Data Here'!"&HLOOKUP($B31,'Enter Data Here'!$5:$6,2,0)&"$10"),K$20<=INDIRECT("'Enter Data Here'!"&HLOOKUP($B31,'Enter Data Here'!$5:$6,2,0)&"$11")),$B31,IF(AND(K$20>=INDIRECT("'Enter Data Here'!"&HLOOKUP($B31,'Enter Data Here'!$5:$6,2,0)&"$13"),K$20<=INDIRECT("'Enter Data Here'!"&HLOOKUP($B31,'Enter Data Here'!$5:$6,2,0)&"$14")),$B31,IF(AND(K$20>=INDIRECT("'Enter Data Here'!"&HLOOKUP($B31,'Enter Data Here'!$5:$6,2,0)&"$16"),K$20<=INDIRECT("'Enter Data Here'!"&HLOOKUP($B31,'Enter Data Here'!$5:$6,2,0)&"$17")),$B31,IF(AND(K$20>=INDIRECT("'Enter Data Here'!"&HLOOKUP($B31,'Enter Data Here'!$5:$6,2,0)&"$19"),K$20<=INDIRECT("'Enter Data Here'!"&HLOOKUP($B31,'Enter Data Here'!$5:$6,2,0)&"$20")),$B31,"")))))} | L31: {=IF(AND(L$20>=INDIRECT("'Enter Data Here'!"&HLOOKUP($B31,'Enter Data Here'!$5:$6,2,0)&"$7"),L$20<=INDIRECT("'Enter Data Here'!"&HLOOKUP($B31,'Enter Data Here'!$5:$6,2,0)&"$8")),$B31,IF(AND(L$20>=INDIRECT("'Enter Data Here'!"&HLOOKUP($B31,'Enter Data Here'!$5:$6,2,0)&"$10"),L$20<=INDIRECT("'Enter Data Here'!"&HLOOKUP($B31,'Enter Data Here'!$5:$6,2,0)&"$11")),$B31,IF(AND(L$20>=INDIRECT("'Enter Data Here'!"&HLOOKUP($B31,'Enter Data Here'!$5:$6,2,0)&"$13"),L$20<=INDIRECT("'Enter Data Here'!"&HLOOKUP($B31,'Enter Data Here'!$5:$6,2,0)&"$14")),$B31,IF(AND(L$20>=INDIRECT("'Enter Data Here'!"&HLOOKUP($B31,'Enter Data Here'!$5:$6,2,0)&"$16"),L$20<=INDIRECT("'Enter Data Here'!"&HLOOKUP($B31,'Enter Data Here'!$5:$6,2,0)&"$17")),$B31,IF(AND(L$20>=INDIRECT("'Enter Data Here'!"&HLOOKUP($B31,'Enter Data Here'!$5:$6,2,0)&"$19"),L$20<=INDIRECT("'Enter Data Here'!"&HLOOKUP($B31,'Enter Data Here'!$5:$6,2,0)&"$20")),$B31,"")))))} | M31: {=IF(AND(M$20>=INDIRECT("'Enter Data Here'!"&HLOOKUP($B31,'Enter Data Here'!$5:$6,2,0)&"$7"),M$20<=INDIRECT("'Enter Data Here'!"&HLOOKUP($B31,'Enter Data Here'!$5:$6,2,0)&"$8")),$B31,IF(AND(M$20>=INDIRECT("'Enter Data Here'!"&HLOOKUP($B31,'Enter Data Here'!$5:$6,2,0)&"$10"),M$20<=INDIRECT("'Enter Data Here'!"&HLOOKUP($B31,'Enter Data Here'!$5:$6,2,0)&"$11")),$B31,IF(AND(M$20>=INDIRECT("'Enter Data Here'!"&HLOOKUP($B31,'Enter Data Here'!$5:$6,2,0)&"$13"),M$20<=INDIRECT("'Enter Data Here'!"&HLOOKUP($B31,'Enter Data Here'!$5:$6,2,0)&"$14")),$B31,IF(AND(M$20>=INDIRECT("'Enter Data Here'!"&HLOOKUP($B31,'Enter Data Here'!$5:$6,2,0)&"$16"),M$20<=INDIRECT("'Enter Data Here'!"&HLOOKUP($B31,'Enter Data Here'!$5:$6,2,0)&"$17")),$B31,IF(AND(M$20>=INDIRECT("'Enter Data Here'!"&HLOOKUP($B31,'Enter Data Here'!$5:$6,2,0)&"$19"),M$20<=INDIRECT("'Enter Data Here'!"&HLOOKUP($B31,'Enter Data Here'!$5:$6,2,0)&"$20")),$B31,"")))))} | ... AH31: {=IF(AND(AH$20>=INDIRECT("'Enter Data Here'!"&HLOOKUP($B31,'Enter Data Here'!$5:$6,2,0)&"$7"),AH$20<=INDIRECT("'Enter Data Here'!"&HLOOKUP($B31,'Enter Data Here'!$5:$6,2,0)&"$8")),$B31,IF(AND(AH$20>=INDIRECT("'Enter Data Here'!"&HLOOKUP($B31,'Enter Data Here'!$5:$6,2,0)&"$10"),AH$20<=INDIRECT("'Enter Data Here'!"&HLOOKUP($B31,'Enter Data Here'!$5:$6,2,0)&"$11")),$B31,IF(AND(AH$20>=INDIRECT("'Enter Data Here'!"&HLOOKUP($B31,'Enter Data Here'!$5:$6,2,0)&"$13"),AH$20<=INDIRECT("'Enter Data Here'!"&HLOOKUP($B31,'Enter Data Here'!$5:$6,2,0)&"$14")),$B31,IF(AND(AH$20>=INDIRECT("'Enter Data Here'!"&HLOOKUP($B31,'Enter Data Here'!$5:$6,2,0)&"$16"),AH$20<=INDIRECT("'Enter Data Here'!"&HLOOKUP($B31,'Enter Data Here'!$5:$6,2,0)&"$17")),$B31,IF(AND(AH$20>=INDIRECT("'Enter Data Here'!"&HLOOKUP($B31,'Enter Data Here'!$5:$6,2,0)&"$19"),AH$20<=INDIRECT("'Enter Data Here'!"&HLOOKUP($B31,'Enter Data Here'!$5:$6,2,0)&"$20")),$B31,"")))))}
B32: ='Be4 you start'!E30 -> ياسمين | F32: {=IF(AND(F$20>=INDIRECT("'Enter Data Here'!"&HLOOKUP($B32,'Enter Data Here'!$5:$6,2,0)&"$7"),F$20<=INDIRECT("'Enter Data Here'!"&HLOOKUP($B32,'Enter Data Here'!$5:$6,2,0)&"$8")),$B32,IF(AND(F$20>=INDIRECT("'Enter Data Here'!"&HLOOKUP($B32,'Enter Data Here'!$5:$6,2,0)&"$10"),F$20<=INDIRECT("'Enter Data Here'!"&HLOOKUP($B32,'Enter Data Here'!$5:$6,2,0)&"$11")),$B32,IF(AND(F$20>=INDIRECT("'Enter Data Here'!"&HLOOKUP($B32,'Enter Data Here'!$5:$6,2,0)&"$13"),F$20<=INDIRECT("'Enter Data Here'!"&HLOOKUP($B32,'Enter Data Here'!$5:$6,2,0)&"$14")),$B32,IF(AND(F$20>=INDIRECT("'Enter Data Here'!"&HLOOKUP($B32,'Enter Data Here'!$5:$6,2,0)&"$16"),F$20<=INDIRECT("'Enter Data Here'!"&HLOOKUP($B32,'Enter Data Here'!$5:$6,2,0)&"$17")),$B32,IF(AND(F$20>=INDIRECT("'Enter Data Here'!"&HLOOKUP($B32,'Enter Data Here'!$5:$6,2,0)&"$19"),F$20<=INDIRECT("'Enter Data Here'!"&HLOOKUP($B32,'Enter Data Here'!$5:$6,2,0)&"$20")),$B32,"")))))} | G32: {=IF(AND(G$20>=INDIRECT("'Enter Data Here'!"&HLOOKUP($B32,'Enter Data Here'!$5:$6,2,0)&"$7"),G$20<=INDIRECT("'Enter Data Here'!"&HLOOKUP($B32,'Enter Data Here'!$5:$6,2,0)&"$8")),$B32,IF(AND(G$20>=INDIRECT("'Enter Data Here'!"&HLOOKUP($B32,'Enter Data Here'!$5:$6,2,0)&"$10"),G$20<=INDIRECT("'Enter Data Here'!"&HLOOKUP($B32,'Enter Data Here'!$5:$6,2,0)&"$11")),$B32,IF(AND(G$20>=INDIRECT("'Enter Data Here'!"&HLOOKUP($B32,'Enter Data Here'!$5:$6,2,0)&"$13"),G$20<=INDIRECT("'Enter Data Here'!"&HLOOKUP($B32,'Enter Data Here'!$5:$6,2,0)&"$14")),$B32,IF(AND(G$20>=INDIRECT("'Enter Data Here'!"&HLOOKUP($B32,'Enter Data Here'!$5:$6,2,0)&"$16"),G$20<=INDIRECT("'Enter Data Here'!"&HLOOKUP($B32,'Enter Data Here'!$5:$6,2,0)&"$17")),$B32,IF(AND(G$20>=INDIRECT("'Enter Data Here'!"&HLOOKUP($B32,'Enter Data Here'!$5:$6,2,0)&"$19"),G$20<=INDIRECT("'Enter Data Here'!"&HLOOKUP($B32,'Enter Data Here'!$5:$6,2,0)&"$20")),$B32,"")))))} | H32: {=IF(AND(H$20>=INDIRECT("'Enter Data Here'!"&HLOOKUP($B32,'Enter Data Here'!$5:$6,2,0)&"$7"),H$20<=INDIRECT("'Enter Data Here'!"&HLOOKUP($B32,'Enter Data Here'!$5:$6,2,0)&"$8")),$B32,IF(AND(H$20>=INDIRECT("'Enter Data Here'!"&HLOOKUP($B32,'Enter Data Here'!$5:$6,2,0)&"$10"),H$20<=INDIRECT("'Enter Data Here'!"&HLOOKUP($B32,'Enter Data Here'!$5:$6,2,0)&"$11")),$B32,IF(AND(H$20>=INDIRECT("'Enter Data Here'!"&HLOOKUP($B32,'Enter Data Here'!$5:$6,2,0)&"$13"),H$20<=INDIRECT("'Enter Data Here'!"&HLOOKUP($B32,'Enter Data Here'!$5:$6,2,0)&"$14")),$B32,IF(AND(H$20>=INDIRECT("'Enter Data Here'!"&HLOOKUP($B32,'Enter Data Here'!$5:$6,2,0)&"$16"),H$20<=INDIRECT("'Enter Data Here'!"&HLOOKUP($B32,'Enter Data Here'!$5:$6,2,0)&"$17")),$B32,IF(AND(H$20>=INDIRECT("'Enter Data Here'!"&HLOOKUP($B32,'Enter Data Here'!$5:$6,2,0)&"$19"),H$20<=INDIRECT("'Enter Data Here'!"&HLOOKUP($B32,'Enter Data Here'!$5:$6,2,0)&"$20")),$B32,"")))))} | I32: {=IF(AND(I$20>=INDIRECT("'Enter Data Here'!"&HLOOKUP($B32,'Enter Data Here'!$5:$6,2,0)&"$7"),I$20<=INDIRECT("'Enter Data Here'!"&HLOOKUP($B32,'Enter Data Here'!$5:$6,2,0)&"$8")),$B32,IF(AND(I$20>=INDIRECT("'Enter Data Here'!"&HLOOKUP($B32,'Enter Data Here'!$5:$6,2,0)&"$10"),I$20<=INDIRECT("'Enter Data Here'!"&HLOOKUP($B32,'Enter Data Here'!$5:$6,2,0)&"$11")),$B32,IF(AND(I$20>=INDIRECT("'Enter Data Here'!"&HLOOKUP($B32,'Enter Data Here'!$5:$6,2,0)&"$13"),I$20<=INDIRECT("'Enter Data Here'!"&HLOOKUP($B32,'Enter Data Here'!$5:$6,2,0)&"$14")),$B32,IF(AND(I$20>=INDIRECT("'Enter Data Here'!"&HLOOKUP($B32,'Enter Data Here'!$5:$6,2,0)&"$16"),I$20<=INDIRECT("'Enter Data Here'!"&HLOOKUP($B32,'Enter Data Here'!$5:$6,2,0)&"$17")),$B32,IF(AND(I$20>=INDIRECT("'Enter Data Here'!"&HLOOKUP($B32,'Enter Data Here'!$5:$6,2,0)&"$19"),I$20<=INDIRECT("'Enter Data Here'!"&HLOOKUP($B32,'Enter Data Here'!$5:$6,2,0)&"$20")),$B32,"")))))} | J32: {=IF(AND(J$20>=INDIRECT("'Enter Data Here'!"&HLOOKUP($B32,'Enter Data Here'!$5:$6,2,0)&"$7"),J$20<=INDIRECT("'Enter Data Here'!"&HLOOKUP($B32,'Enter Data Here'!$5:$6,2,0)&"$8")),$B32,IF(AND(J$20>=INDIRECT("'Enter Data Here'!"&HLOOKUP($B32,'Enter Data Here'!$5:$6,2,0)&"$10"),J$20<=INDIRECT("'Enter Data Here'!"&HLOOKUP($B32,'Enter Data Here'!$5:$6,2,0)&"$11")),$B32,IF(AND(J$20>=INDIRECT("'Enter Data Here'!"&HLOOKUP($B32,'Enter Data Here'!$5:$6,2,0)&"$13"),J$20<=INDIRECT("'Enter Data Here'!"&HLOOKUP($B32,'Enter Data Here'!$5:$6,2,0)&"$14")),$B32,IF(AND(J$20>=INDIRECT("'Enter Data Here'!"&HLOOKUP($B32,'Enter Data Here'!$5:$6,2,0)&"$16"),J$20<=INDIRECT("'Enter Data Here'!"&HLOOKUP($B32,'Enter Data Here'!$5:$6,2,0)&"$17")),$B32,IF(AND(J$20>=INDIRECT("'Enter Data Here'!"&HLOOKUP($B32,'Enter Data Here'!$5:$6,2,0)&"$19"),J$20<=INDIRECT("'Enter Data Here'!"&HLOOKUP($B32,'Enter Data Here'!$5:$6,2,0)&"$20")),$B32,"")))))} | K32: {=IF(AND(K$20>=INDIRECT("'Enter Data Here'!"&HLOOKUP($B32,'Enter Data Here'!$5:$6,2,0)&"$7"),K$20<=INDIRECT("'Enter Data Here'!"&HLOOKUP($B32,'Enter Data Here'!$5:$6,2,0)&"$8")),$B32,IF(AND(K$20>=INDIRECT("'Enter Data Here'!"&HLOOKUP($B32,'Enter Data Here'!$5:$6,2,0)&"$10"),K$20<=INDIRECT("'Enter Data Here'!"&HLOOKUP($B32,'Enter Data Here'!$5:$6,2,0)&"$11")),$B32,IF(AND(K$20>=INDIRECT("'Enter Data Here'!"&HLOOKUP($B32,'Enter Data Here'!$5:$6,2,0)&"$13"),K$20<=INDIRECT("'Enter Data Here'!"&HLOOKUP($B32,'Enter Data Here'!$5:$6,2,0)&"$14")),$B32,IF(AND(K$20>=INDIRECT("'Enter Data Here'!"&HLOOKUP($B32,'Enter Data Here'!$5:$6,2,0)&"$16"),K$20<=INDIRECT("'Enter Data Here'!"&HLOOKUP($B32,'Enter Data Here'!$5:$6,2,0)&"$17")),$B32,IF(AND(K$20>=INDIRECT("'Enter Data Here'!"&HLOOKUP($B32,'Enter Data Here'!$5:$6,2,0)&"$19"),K$20<=INDIRECT("'Enter Data Here'!"&HLOOKUP($B32,'Enter Data Here'!$5:$6,2,0)&"$20")),$B32,"")))))} | L32: {=IF(AND(L$20>=INDIRECT("'Enter Data Here'!"&HLOOKUP($B32,'Enter Data Here'!$5:$6,2,0)&"$7"),L$20<=INDIRECT("'Enter Data Here'!"&HLOOKUP($B32,'Enter Data Here'!$5:$6,2,0)&"$8")),$B32,IF(AND(L$20>=INDIRECT("'Enter Data Here'!"&HLOOKUP($B32,'Enter Data Here'!$5:$6,2,0)&"$10"),L$20<=INDIRECT("'Enter Data Here'!"&HLOOKUP($B32,'Enter Data Here'!$5:$6,2,0)&"$11")),$B32,IF(AND(L$20>=INDIRECT("'Enter Data Here'!"&HLOOKUP($B32,'Enter Data Here'!$5:$6,2,0)&"$13"),L$20<=INDIRECT("'Enter Data Here'!"&HLOOKUP($B32,'Enter Data Here'!$5:$6,2,0)&"$14")),$B32,IF(AND(L$20>=INDIRECT("'Enter Data Here'!"&HLOOKUP($B32,'Enter Data Here'!$5:$6,2,0)&"$16"),L$20<=INDIRECT("'Enter Data Here'!"&HLOOKUP($B32,'Enter Data Here'!$5:$6,2,0)&"$17")),$B32,IF(AND(L$20>=INDIRECT("'Enter Data Here'!"&HLOOKUP($B32,'Enter Data Here'!$5:$6,2,0)&"$19"),L$20<=INDIRECT("'Enter Data Here'!"&HLOOKUP($B32,'Enter Data Here'!$5:$6,2,0)&"$20")),$B32,"")))))} | M32: {=IF(AND(M$20>=INDIRECT("'Enter Data Here'!"&HLOOKUP($B32,'Enter Data Here'!$5:$6,2,0)&"$7"),M$20<=INDIRECT("'Enter Data Here'!"&HLOOKUP($B32,'Enter Data Here'!$5:$6,2,0)&"$8")),$B32,IF(AND(M$20>=INDIRECT("'Enter Data Here'!"&HLOOKUP($B32,'Enter Data Here'!$5:$6,2,0)&"$10"),M$20<=INDIRECT("'Enter Data Here'!"&HLOOKUP($B32,'Enter Data Here'!$5:$6,2,0)&"$11")),$B32,IF(AND(M$20>=INDIRECT("'Enter Data Here'!"&HLOOKUP($B32,'Enter Data Here'!$5:$6,2,0)&"$13"),M$20<=INDIRECT("'Enter Data Here'!"&HLOOKUP($B32,'Enter Data Here'!$5:$6,2,0)&"$14")),$B32,IF(AND(M$20>=INDIRECT("'Enter Data Here'!"&HLOOKUP($B32,'Enter Data Here'!$5:$6,2,0)&"$16"),M$20<=INDIRECT("'Enter Data Here'!"&HLOOKUP($B32,'Enter Data Here'!$5:$6,2,0)&"$17")),$B32,IF(AND(M$20>=INDIRECT("'Enter Data Here'!"&HLOOKUP($B32,'Enter Data Here'!$5:$6,2,0)&"$19"),M$20<=INDIRECT("'Enter Data Here'!"&HLOOKUP($B32,'Enter Data Here'!$5:$6,2,0)&"$20")),$B32,"")))))} | ... AH32: {=IF(AND(AH$20>=INDIRECT("'Enter Data Here'!"&HLOOKUP($B32,'Enter Data Here'!$5:$6,2,0)&"$7"),AH$20<=INDIRECT("'Enter Data Here'!"&HLOOKUP($B32,'Enter Data Here'!$5:$6,2,0)&"$8")),$B32,IF(AND(AH$20>=INDIRECT("'Enter Data Here'!"&HLOOKUP($B32,'Enter Data Here'!$5:$6,2,0)&"$10"),AH$20<=INDIRECT("'Enter Data Here'!"&HLOOKUP($B32,'Enter Data Here'!$5:$6,2,0)&"$11")),$B32,IF(AND(AH$20>=INDIRECT("'Enter Data Here'!"&HLOOKUP($B32,'Enter Data Here'!$5:$6,2,0)&"$13"),AH$20<=INDIRECT("'Enter Data Here'!"&HLOOKUP($B32,'Enter Data Here'!$5:$6,2,0)&"$14")),$B32,IF(AND(AH$20>=INDIRECT("'Enter Data Here'!"&HLOOKUP($B32,'Enter Data Here'!$5:$6,2,0)&"$16"),AH$20<=INDIRECT("'Enter Data Here'!"&HLOOKUP($B32,'Enter Data Here'!$5:$6,2,0)&"$17")),$B32,IF(AND(AH$20>=INDIRECT("'Enter Data Here'!"&HLOOKUP($B32,'Enter Data Here'!$5:$6,2,0)&"$19"),AH$20<=INDIRECT("'Enter Data Here'!"&HLOOKUP($B32,'Enter Data Here'!$5:$6,2,0)&"$20")),$B32,"")))))}
F33: =WEEKDAY(F35) -> 7 | G33: =WEEKDAY(G35) -> 1 | H33: =WEEKDAY(H35) -> 2 | I33: =WEEKDAY(I35) -> 3 | J33: =WEEKDAY(J35) -> 4 | K33: =WEEKDAY(K35) -> 5 | L33: =WEEKDAY(L35) -> 6 | M33: =WEEKDAY(M35) -> 7 | ... AJ33: =WEEKDAY(AJ35) -> 2
F34: =COUNTBLANK(F37:F47)-'Be4 you start'!$S$32 -> 4 | G34: =COUNTBLANK(G37:G47)-'Be4 you start'!$S$32 -> 4 | H34: =COUNTBLANK(H37:H47)-'Be4 you start'!$S$32 -> 3 | I34: =COUNTBLANK(I37:I47)-'Be4 you start'!$S$32 -> 3 | J34: =COUNTBLANK(J37:J47)-'Be4 you start'!$S$32 -> 3 | K34: =COUNTBLANK(K37:K47)-'Be4 you start'!$S$32 -> 3 | L34: =COUNTBLANK(L37:L47)-'Be4 you start'!$S$32 -> 3 | M34: =COUNTBLANK(M37:M47)-'Be4 you start'!$S$32 -> 3 | ... AJ34: =COUNTBLANK(AJ37:AJ47)-'Be4 you start'!$S$32 -> 4
D35: March | E35: 3 | F35: =DATE($B$1,$E$35,F36) -> 45717 | G35: =DATE($B$1,$E$35,G36) -> 45718 | H35: =DATE($B$1,$E$35,H36) -> 45719 | I35: =DATE($B$1,$E$35,I36) -> 45720 | J35: =DATE($B$1,$E$35,J36) -> 45721 | K35: =DATE($B$1,$E$35,K36) -> 45722 | L35: =DATE($B$1,$E$35,L36) -> 45723 | M35: =DATE($B$1,$E$35,M36) -> 45724 | ... AJ35: =DATE($B$1,$E$35,AJ36) -> 45747
