Workbook

Sheet Be4 you start
B2: =DATE(YEAR(TODAY()),I2,1) -> 45901 | I2: =MONTH(TODAY()) -> 9 | J2: =MONTH(TODAY()) -> 9
B3: Sunday | C3: Monday | D3: Tuesday | E3: Wednesday | F3: Thursday | G3: Friday | H3: Saturday
B4: الأحد | C4: الإثنين | D4: الثلاثاء | E4: الأربعاء | F4: الخميس | G4: الجمعة | H4: السبت
B5: =IF(MONTH($B$2)<>MONTH($B$2-WEEKDAY($B$2,1)+(ROW(B5)-ROW($B$5))*7+(COLUMN(B5)-COLUMN($B$5)+1)),"",$B$2-WEEKDAY($B$2,1)+(ROW(B5)-ROW($B$5))*7+(COLUMN(B5)-COLUMN($B$5)+1)) | C5: =IF(MONTH($B$2)<>MONTH($B$2-WEEKDAY($B$2,1)+(ROW(C5)-ROW($B$5))*7+(COLUMN(C5)-COLUMN($B$5)+1)),"",$B$2-WEEKDAY($B$2,1)+(ROW(C5)-ROW($B$5))*7+(COLUMN(C5)-COLUMN($B$5)+1)) -> 45901 | D5: =IF(MONTH($B$2)<>MONTH($B$2-WEEKDAY($B$2,1)+(ROW(D5)-ROW($B$5))*7+(COLUMN(D5)-COLUMN($B$5)+1)),"",$B$2-WEEKDAY($B$2,1)+(ROW(D5)-ROW($B$5))*7+(COLUMN(D5)-COLUMN($B$5)+1)) -> 45902 | E5: =IF(MONTH($B$2)<>MONTH($B$2-WEEKDAY($B$2,1)+(ROW(E5)-ROW($B$5))*7+(COLUMN(E5)-COLUMN($B$5)+1)),"",$B$2-WEEKDAY($B$2,1)+(ROW(E5)-ROW($B$5))*7+(COLUMN(E5)-COLUMN($B$5)+1)) -> 45903 | F5: =IF(MONTH($B$2)<>MONTH($B$2-WEEKDAY($B$2,1)+(ROW(F5)-ROW($B$5))*7+(COLUMN(F5)-COLUMN($B$5)+1)),"",$B$2-WEEKDAY($B$2,1)+(ROW(F5)-ROW($B$5))*7+(COLUMN(F5)-COLUMN($B$5)+1)) -> 45904 | G5: =IF(MONTH($B$2)<>MONTH($B$2-WEEKDAY($B$2,1)+(ROW(G5)-ROW($B$5))*7+(COLUMN(G5)-COLUMN($B$5)+1)),"",$B$2-WEEKDAY($B$2,1)+(ROW(G5)-ROW($B$5))*7+(COLUMN(G5)-COLUMN($B$5)+1)) -> 45905 | H5: =IF(MONTH($B$2)<>MONTH($B$2-WEEKDAY($B$2,1)+(ROW(H5)-ROW($B$5))*7+(COLUMN(H5)-COLUMN($B$5)+1)),"",$B$2-WEEKDAY($B$2,1)+(ROW(H5)-ROW($B$5))*7+(COLUMN(H5)-COLUMN($B$5)+1)) -> 45906
B6: =IF(MONTH($B$2)<>MONTH($B$2-WEEKDAY($B$2,1)+(ROW(B6)-ROW($B$5))*7+(COLUMN(B6)-COLUMN($B$5)+1)),"",$B$2-WEEKDAY($B$2,1)+(ROW(B6)-ROW($B$5))*7+(COLUMN(B6)-COLUMN($B$5)+1)) -> 45907 | C6: =IF(MONTH($B$2)<>MONTH($B$2-WEEKDAY($B$2,1)+(ROW(C6)-ROW($B$5))*7+(COLUMN(C6)-COLUMN($B$5)+1)),"",$B$2-WEEKDAY($B$2,1)+(ROW(C6)-ROW($B$5))*7+(COLUMN(C6)-COLUMN($B$5)+1)) -> 45908 | D6: =IF(MONTH($B$2)<>MONTH($B$2-WEEKDAY($B$2,1)+(ROW(D6)-ROW($B$5))*7+(COLUMN(D6)-COLUMN($B$5)+1)),"",$B$2-WEEKDAY($B$2,1)+(ROW(D6)-ROW($B$5))*7+(COLUMN(D6)-COLUMN($B$5)+1)) -> 45909 | E6: =IF(MONTH($B$2)<>MONTH($B$2-WEEKDAY($B$2,1)+(ROW(E6)-ROW($B$5))*7+(COLUMN(E6)-COLUMN($B$5)+1)),"",$B$2-WEEKDAY($B$2,1)+(ROW(E6)-ROW($B$5))*7+(COLUMN(E6)-COLUMN($B$5)+1)) -> 45910 | F6: =IF(MONTH($B$2)<>MONTH($B$2-WEEKDAY($B$2,1)+(ROW(F6)-ROW($B$5))*7+(COLUMN(F6)-COLUMN($B$5)+1)),"",$B$2-WEEKDAY($B$2,1)+(ROW(F6)-ROW($B$5))*7+(COLUMN(F6)-COLUMN($B$5)+1)) -> 45911 | G6: =IF(MONTH($B$2)<>MONTH($B$2-WEEKDAY($B$2,1)+(ROW(G6)-ROW($B$5))*7+(COLUMN(G6)-COLUMN($B$5)+1)),"",$B$2-WEEKDAY($B$2,1)+(ROW(G6)-ROW($B$5))*7+(COLUMN(G6)-COLUMN($B$5)+1)) -> 45912 | H6: =IF(MONTH($B$2)<>MONTH($B$2-WEEKDAY($B$2,1)+(ROW(H6)-ROW($B$5))*7+(COLUMN(H6)-COLUMN($B$5)+1)),"",$B$2-WEEKDAY($B$2,1)+(ROW(H6)-ROW($B$5))*7+(COLUMN(H6)-COLUMN($B$5)+1)) -> 45913
B7: =IF(MONTH($B$2)<>MONTH($B$2-WEEKDAY($B$2,1)+(ROW(B7)-ROW($B$5))*7+(COLUMN(B7)-COLUMN($B$5)+1)),"",$B$2-WEEKDAY($B$2,1)+(ROW(B7)-ROW($B$5))*7+(COLUMN(B7)-COLUMN($B$5)+1)) -> 45914 | C7: =IF(MONTH($B$2)<>MONTH($B$2-WEEKDAY($B$2,1)+(ROW(C7)-ROW($B$5))*7+(COLUMN(C7)-COLUMN($B$5)+1)),"",$B$2-WEEKDAY($B$2,1)+(ROW(C7)-ROW($B$5))*7+(COLUMN(C7)-COLUMN($B$5)+1)) -> 45915 | D7: =IF(MONTH($B$2)<>MONTH($B$2-WEEKDAY($B$2,1)+(ROW(D7)-ROW($B$5))*7+(COLUMN(D7)-COLUMN($B$5)+1)),"",$B$2-WEEKDAY($B$2,1)+(ROW(D7)-ROW($B$5))*7+(COLUMN(D7)-COLUMN($B$5)+1)) -> 45916 | E7: =IF(MONTH($B$2)<>MONTH($B$2-WEEKDAY($B$2,1)+(ROW(E7)-ROW($B$5))*7+(COLUMN(E7)-COLUMN($B$5)+1)),"",$B$2-WEEKDAY($B$2,1)+(ROW(E7)-ROW($B$5))*7+(COLUMN(E7)-COLUMN($B$5)+1)) -> 45917 | F7: =IF(MONTH($B$2)<>MONTH($B$2-WEEKDAY($B$2,1)+(ROW(F7)-ROW($B$5))*7+(COLUMN(F7)-COLUMN($B$5)+1)),"",$B$2-WEEKDAY($B$2,1)+(ROW(F7)-ROW($B$5))*7+(COLUMN(F7)-COLUMN($B$5)+1)) -> 45918 | G7: =IF(MONTH($B$2)<>MONTH($B$2-WEEKDAY($B$2,1)+(ROW(G7)-ROW($B$5))*7+(COLUMN(G7)-COLUMN($B$5)+1)),"",$B$2-WEEKDAY($B$2,1)+(ROW(G7)-ROW($B$5))*7+(COLUMN(G7)-COLUMN($B$5)+1)) -> 45919 | H7: =IF(MONTH($B$2)<>MONTH($B$2-WEEKDAY($B$2,1)+(ROW(H7)-ROW($B$5))*7+(COLUMN(H7)-COLUMN($B$5)+1)),"",$B$2-WEEKDAY($B$2,1)+(ROW(H7)-ROW($B$5))*7+(COLUMN(H7)-COLUMN($B$5)+1)) -> 45920
B8: =IF(MONTH($B$2)<>MONTH($B$2-WEEKDAY($B$2,1)+(ROW(B8)-ROW($B$5))*7+(COLUMN(B8)-COLUMN($B$5)+1)),"",$B$2-WEEKDAY($B$2,1)+(ROW(B8)-ROW($B$5))*7+(COLUMN(B8)-COLUMN($B$5)+1)) -> 45921 | C8: =IF(MONTH($B$2)<>MONTH($B$2-WEEKDAY($B$2,1)+(ROW(C8)-ROW($B$5))*7+(COLUMN(C8)-COLUMN($B$5)+1)),"",$B$2-WEEKDAY($B$2,1)+(ROW(C8)-ROW($B$5))*7+(COLUMN(C8)-COLUMN($B$5)+1)) -> 45922 | D8: =IF(MONTH($B$2)<>MONTH($B$2-WEEKDAY($B$2,1)+(ROW(D8)-ROW($B$5))*7+(COLUMN(D8)-COLUMN($B$5)+1)),"",$B$2-WEEKDAY($B$2,1)+(ROW(D8)-ROW($B$5))*7+(COLUMN(D8)-COLUMN($B$5)+1)) -> 45923 | E8: =IF(MONTH($B$2)<>MONTH($B$2-WEEKDAY($B$2,1)+(ROW(E8)-ROW($B$5))*7+(COLUMN(E8)-COLUMN($B$5)+1)),"",$B$2-WEEKDAY($B$2,1)+(ROW(E8)-ROW($B$5))*7+(COLUMN(E8)-COLUMN($B$5)+1)) -> 45924 | F8: =IF(MONTH($B$2)<>MONTH($B$2-WEEKDAY($B$2,1)+(ROW(F8)-ROW($B$5))*7+(COLUMN(F8)-COLUMN($B$5)+1)),"",$B$2-WEEKDAY($B$2,1)+(ROW(F8)-ROW($B$5))*7+(COLUMN(F8)-COLUMN($B$5)+1)) -> 45925 | G8: =IF(MONTH($B$2)<>MONTH($B$2-WEEKDAY($B$2,1)+(ROW(G8)-ROW($B$5))*7+(COLUMN(G8)-COLUMN($B$5)+1)),"",$B$2-WEEKDAY($B$2,1)+(ROW(G8)-ROW($B$5))*7+(COLUMN(G8)-COLUMN($B$5)+1)) -> 45926 | H8: =IF(MONTH($B$2)<>MONTH($B$2-WEEKDAY($B$2,1)+(ROW(H8)-ROW($B$5))*7+(COLUMN(H8)-COLUMN($B$5)+1)),"",$B$2-WEEKDAY($B$2,1)+(ROW(H8)-ROW($B$5))*7+(COLUMN(H8)-COLUMN($B$5)+1)) -> 45927
B9: =IF(MONTH($B$2)<>MONTH($B$2-WEEKDAY($B$2,1)+(ROW(B9)-ROW($B$5))*7+(COLUMN(B9)-COLUMN($B$5)+1)),"",$B$2-WEEKDAY($B$2,1)+(ROW(B9)-ROW($B$5))*7+(COLUMN(B9)-COLUMN($B$5)+1)) -> 45928 | C9: =IF(MONTH($B$2)<>MONTH($B$2-WEEKDAY($B$2,1)+(ROW(C9)-ROW($B$5))*7+(COLUMN(C9)-COLUMN($B$5)+1)),"",$B$2-WEEKDAY($B$2,1)+(ROW(C9)-ROW($B$5))*7+(COLUMN(C9)-COLUMN($B$5)+1)) -> 45929 | D9: =IF(MONTH($B$2)<>MONTH($B$2-WEEKDAY($B$2,1)+(ROW(D9)-ROW($B$5))*7+(COLUMN(D9)-COLUMN($B$5)+1)),"",$B$2-WEEKDAY($B$2,1)+(ROW(D9)-ROW($B$5))*7+(COLUMN(D9)-COLUMN($B$5)+1)) -> 45930 | E9: =IF(MONTH($B$2)<>MONTH($B$2-WEEKDAY($B$2,1)+(ROW(E9)-ROW($B$5))*7+(COLUMN(E9)-COLUMN($B$5)+1)),"",$B$2-WEEKDAY($B$2,1)+(ROW(E9)-ROW($B$5))*7+(COLUMN(E9)-COLUMN($B$5)+1)) | F9: =IF(MONTH($B$2)<>MONTH($B$2-WEEKDAY($B$2,1)+(ROW(F9)-ROW($B$5))*7+(COLUMN(F9)-COLUMN($B$5)+1)),"",$B$2-WEEKDAY($B$2,1)+(ROW(F9)-ROW($B$5))*7+(COLUMN(F9)-COLUMN($B$5)+1)) | G9: =IF(MONTH($B$2)<>MONTH($B$2-WEEKDAY($B$2,1)+(ROW(G9)-ROW($B$5))*7+(COLUMN(G9)-COLUMN($B$5)+1)),"",$B$2-WEEKDAY($B$2,1)+(ROW(G9)-ROW($B$5))*7+(COLUMN(G9)-COLUMN($B$5)+1)) | H9: =IF(MONTH($B$2)<>MONTH($B$2-WEEKDAY($B$2,1)+(ROW(H9)-ROW($B$5))*7+(COLUMN(H9)-COLUMN($B$5)+1)),"",$B$2-WEEKDAY($B$2,1)+(ROW(H9)-ROW($B$5))*7+(COLUMN(H9)-COLUMN($B$5)+1))
B10: =IF(MONTH($B$2)<>MONTH($B$2-WEEKDAY($B$2,1)+(ROW(B10)-ROW($B$5))*7+(COLUMN(B10)-COLUMN($B$5)+1)),"",$B$2-WEEKDAY($B$2,1)+(ROW(B10)-ROW($B$5))*7+(COLUMN(B10)-COLUMN($B$5)+1)) | C10: =IF(MONTH($B$2)<>MONTH($B$2-WEEKDAY($B$2,1)+(ROW(C10)-ROW($B$5))*7+(COLUMN(C10)-COLUMN($B$5)+1)),"",$B$2-WEEKDAY($B$2,1)+(ROW(C10)-ROW($B$5))*7+(COLUMN(C10)-COLUMN($B$5)+1)) | D10: =IF(MONTH($B$2)<>MONTH($B$2-WEEKDAY($B$2,1)+(ROW(D10)-ROW($B$5))*7+(COLUMN(D10)-COLUMN($B$5)+1)),"",$B$2-WEEKDAY($B$2,1)+(ROW(D10)-ROW($B$5))*7+(COLUMN(D10)-COLUMN($B$5)+1)) | E10: =IF(MONTH($B$2)<>MONTH($B$2-WEEKDAY($B$2,1)+(ROW(E10)-ROW($B$5))*7+(COLUMN(E10)-COLUMN($B$5)+1)),"",$B$2-WEEKDAY($B$2,1)+(ROW(E10)-ROW($B$5))*7+(COLUMN(E10)-COLUMN($B$5)+1)) | F10: =IF(MONTH($B$2)<>MONTH($B$2-WEEKDAY($B$2,1)+(ROW(F10)-ROW($B$5))*7+(COLUMN(F10)-COLUMN($B$5)+1)),"",$B$2-WEEKDAY($B$2,1)+(ROW(F10)-ROW($B$5))*7+(COLUMN(F10)-COLUMN($B$5)+1)) | G10: =IF(MONTH($B$2)<>MONTH($B$2-WEEKDAY($B$2,1)+(ROW(G10)-ROW($B$5))*7+(COLUMN(G10)-COLUMN($B$5)+1)),"",$B$2-WEEKDAY($B$2,1)+(ROW(G10)-ROW($B$5))*7+(COLUMN(G10)-COLUMN($B$5)+1)) | H10: =IF(MONTH($B$2)<>MONTH($B$2-WEEKDAY($B$2,1)+(ROW(H10)-ROW($B$5))*7+(COLUMN(H10)-COLUMN($B$5)+1)),"",$B$2-WEEKDAY($B$2,1)+(ROW(H10)-ROW($B$5))*7+(COLUMN(H10)-COLUMN($B$5)+1))
S13: Saturday | T13: =IF(S13=$E$17,"",S13) -> Saturday | U13: =IF(T13=$E$16,"",T13) | V13: 7 | W13: 2025
B14: Select Year | E14: 2025 | H14: اختر السنة | S14: Sunday | T14: =IF(S14=$E$17,"",S14) | U14: =IF(T14=$E$16,"",T14) | V14: 1 | W14: 2026
E15: =IF(AND(MOD(E14,4)=0, OR(MOD(E14,100)<>0, MOD(E14,400)=0)), "Leap Year", "") | S15: Monday | T15: =IF(S15=$E$17,"",S15) -> Monday | U15: =IF(T15=$E$16,"",T15) -> Monday | V15: 2 | W15: 2027
B16: Choose Weekend Days | E16: Saturday | H16: اختر أيام العطلة الأسبوعية | K16: =IFERROR(VLOOKUP(E16,S13:V19,4,0),"-") -> 7 | S16: Tuesday | T16: =IF(S16=$E$17,"",S16) -> Tuesday | U16: =IF(T16=$E$16,"",T16) -> Tuesday | V16: 3 | W16: 2028
E17: Sunday | K17: =IFERROR(VLOOKUP(E17,S14:V20,4,0),"-") -> 1 | S17: Wednesday | T17: =IF(S17=$E$17,"",S17) -> Wednesday | U17: =IF(T17=$E$16,"",T17) -> Wednesday | V17: 4 | W17: 2029
S18: Thursday | T18: =IF(S18=$E$17,"",S18) -> Thursday | U18: =IF(T18=$E$16,"",T18) -> Thursday | V18: 5 | W18: 2030
B19: Employees' Names | H19: أسماء الموظفين | S19: Friday | T19: =IF(S19=$E$17,"",S19) -> Friday | U19: =IF(T19=$E$16,"",T19) -> Friday | V19: 6 | W19: 2031
E20: Mustafa Habra | W20: 2032
E21: Waseem Zeitouni | W21: 2033
E22: Lubna R | W22: 2034
E23: Lubna Q
E24: Moataz Al Sakka
E25: Yara
E26: Jaida
E27: Denise
E28: Wisam
E29: Tahani
E30: ياسمين
B32: Number of Employees | E32: =COUNTA(E20:F30) -> 11 | H32: عدد الموظفين | S32: =E32-E36 -> 7
B34: Vacation Warning: Too Many Vacations in One Day | F34: التنبيه عند وجود عدة إجازات بنفس اليوم
D36: Set Limit: | E36: 4
E37: Minimum | F37: على الأقل

Sheet Enter Data Here
C1: Enter Data Here
C2: Insert the vacation plan for each employee
C3: ="Year "&'Leave Plan'!B1 -> Year 2025
C5: ='Be4 you start'!E20 -> Mustafa Habra | E5: ='Be4 you start'!E21 -> Waseem Zeitouni | G5: ='Be4 you start'!E22 -> Lubna R | I5: ='Be4 you start'!E23 -> Lubna Q | K5: ='Be4 you start'!E24 -> Moataz Al Sakka | M5: ='Be4 you start'!E25 -> Yara | O5: ='Be4 you start'!E26 -> Jaida | Q5: ='Be4 you start'!E27 -> Denise | S5: ='Be4 you start'!E28 -> Wisam | U5: ='Be4 you start'!E29 -> Tahani | W5: ='Be4 you start'!E30 -> ياسمين
C6: =SUBSTITUTE(ADDRESS(1, COLUMN(C5), 4), "1", "") -> C | E6: =SUBSTITUTE(ADDRESS(1, COLUMN(E5), 4), "1", "") -> E | G6: =SUBSTITUTE(ADDRESS(1, COLUMN(G5), 4), "1", "") -> G | I6: =SUBSTITUTE(ADDRESS(1, COLUMN(I5), 4), "1", "") -> I | K6: =SUBSTITUTE(ADDRESS(1, COLUMN(K5), 4), "1", "") -> K | M6: =SUBSTITUTE(ADDRESS(1, COLUMN(M5), 4), "1", "") -> M | O6: =SUBSTITUTE(ADDRESS(1, COLUMN(O5), 4), "1", "") -> O | Q6: =SUBSTITUTE(ADDRESS(1, COLUMN(Q5), 4), "1", "") -> Q | S6: =SUBSTITUTE(ADDRESS(1, COLUMN(S5), 4), "1", "") -> S | U6: =SUBSTITUTE(ADDRESS(1, COLUMN(U5), 4), "1", "") -> U | W6: =SUBSTITUTE(ADDRESS(1, COLUMN(W5), 4), "1", "") -> W
A7: From | C7: 45658 | E7: 45672 | G7: 45662 | I7: 45689 | K7: 45663 | M7: 45719 | O7: 45992 | Q7: 45762 | S7: 45787 | U7: 45815 | W7: 46017
A8: To | C8: 45688 | E8: 45687 | G8: 45664 | I8: 45716 | K8: 45667 | M8: 45731 | O8: 46022 | Q8: 45791 | S8: 45817 | U8: 45816 | W8: 46022
A10: From | E10: 45689 | G10: 46014 | I10: 45992 | K10: 45702 | M10: 45778 | Q10: 46020 | S10: 46021 | U10: 45870
A11: To | E11: 45703 | G11: 46020 | I11: 45994 | K11: 45716 | M11: 45782 | Q11: 46022 | S11: 46022 | U11: 45891
A13: From | I13: 46013 | K13: 45748 | M13: 45839 | U13: 45912
A14: To | I14: 46022 | K14: 45762 | M14: 45846 | U14: 45916
A16: From | K16: 45997 | M16: 46019
A17: To | K17: 45997 | M17: 46022
A19: From
A20: To

Sheet Leave Plan
B1: ='Be4 you start'!E14 -> 2025
F3: =WEEKDAY(F5) -> 4 | G3: =WEEKDAY(G5) -> 5 | H3: =WEEKDAY(H5) -> 6 | I3: =WEEKDAY(I5) -> 7 | J3: =WEEKDAY(J5) -> 1 | K3: =WEEKDAY(K5) -> 2 | L3: =WEEKDAY(L5) -> 3 | M3: =WEEKDAY(M5) -> 4 | ... AJ3: =WEEKDAY(AJ5) -> 6
F4: =COUNTBLANK(F7:F17)-'Be4 you start'!$S$32 -> 3 | G4: =COUNTBLANK(G7:G17)-'Be4 you start'!$S$32 -> 3 | H4: =COUNTBLANK(H7:H17)-'Be4 you start'!$S$32 -> 3 | I4: =COUNTBLANK(I7:I17)-'Be4 you start'!$S$32 -> 3 | J4: =COUNTBLANK(J7:J17)-'Be4 you start'!$S$32 -> 2 | K4: =COUNTBLANK(K7:K17)-'Be4 you start'!$S$32 -> 1 | L4: =COUNTBLANK(L7:L17)-'Be4 you start'!$S$32 -> 1 | M4: =COUNTBLANK(M7:M17)-'Be4 you start'!$S$32 -> 2 | ... AJ4: =COUNTBLANK(AJ7:AJ17)-'Be4 you start'!$S$32 -> 3
D5: January | E5: 1 | F5: =DATE($B$1,$E$5,F6) -> 45658 | G5: =DATE($B$1,$E$5,G6) -> 45659 | H5: =DATE($B$1,$E$5,H6) -> 45660 | I5: =DATE($B$1,$E$5,I6) -> 45661 | J5: =DATE($B$1,$E$5,J6) -> 45662 | K5: =DATE($B$1,$E$5,K6) -> 45663 | L5: =DATE($B$1,$E$5,L6) -> 45664 | M5: =DATE($B$1,$E$5,M6) -> 45665 | ... AJ5: =DATE($B$1,$E$5,AJ6) -> 45688
F6: 1 | G6: 2 | H6: 3 | I6: 4 | J6: 5 | K6: 6 | L6: 7 | M6: 8 | N6: 9 | O6: 10 | P6: 11 | Q6: 12 | R6: 13 | S6: 14 | T6: 15 | U6: 16 | V6: 17 | W6: 18 | X6: 19 | Y6: 20 | Z6: 21 | AA6: 22 | AB6: 23 | AC6: 24 | AD6: 25 | AE6: 26 | AF6: 27 | AG6: 28 | AH6: 29 | AI6: 30 | AJ6: 31
B7: ='Be4 you start'!E20 -> Mustafa Habra | F7: {=IF(AND(F$5>=INDIRECT("'Enter Data Here'!"&HLOOKUP($B7,'Enter Data Here'!$5:$6,2,0)&"$7"),F$5<=INDIRECT("'Enter Data Here'!"&HLOOKUP($B7,'Enter Data Here'!$5:$6,2,0)&"$8")),$B7,IF(AND(F$5>=INDIRECT("'Enter Data Here'!"&HLOOKUP($B7,'Enter Data Here'!$5:$6,2,0)&"$10"),F$5<=INDIRECT("'Enter Data Here'!"&HLOOKUP($B7,'Enter Data Here'!$5:$6,2,0)&"$11")),$B7,IF(AND(F$5>=INDIRECT("'Enter Data Here'!"&HLOOKUP($B7,'Enter Data Here'!$5:$6,2,0)&"$13"),F$5<=INDIRECT("'Enter Data Here'!"&HLOOKUP($B7,'Enter Data Here'!$5:$6,2,0)&"$14")),$B7,IF(AND(F$5>=INDIRECT("'Enter Data Here'!"&HLOOKUP($B7,'Enter Data Here'!$5:$6,2,0)&"$16"),F$5<=INDIRECT("'Enter Data Here'!"&HLOOKUP($B7,'Enter Data Here'!$5:$6,2,0)&"$17")),$B7,IF(AND(F$5>=INDIRECT("'Enter Data Here'!"&HLOOKUP($B7,'Enter Data Here'!$5:$6,2,0)&"$19"),F$5<=INDIRECT("'Enter Data Here'!"&HLOOKUP($B7,'Enter Data Here'!$5:$6,2,0)&"$20")),$B7,"")))))} -> Mustafa Habra | G7: {=IF(AND(G$5>=INDIRECT("'Enter Data Here'!"&HLOOKUP($B7,'Enter Data Here'!$5:$6,2,0)&"$7"),G$5<=INDIRECT("'Enter Data Here'!"&HLOOKUP($B7,'Enter Data Here'!$5:$6,2,0)&"$8")),$B7,IF(AND(G$5>=INDIRECT("'Enter Data Here'!"&HLOOKUP($B7,'Enter Data Here'!$5:$6,2,0)&"$10"),G$5<=INDIRECT("'Enter Data Here'!"&HLOOKUP($B7,'Enter Data Here'!$5:$6,2,0)&"$11")),$B7,IF(AND(G$5>=INDIRECT("'Enter Data Here'!"&HLOOKUP($B7,'Enter Data Here'!$5:$6,2,0)&"$13"),G$5<=INDIRECT("'Enter Data Here'!"&HLOOKUP($B7,'Enter Data Here'!$5:$6,2,0)&"$14")),$B7,IF(AND(G$5>=INDIRECT("'Enter Data Here'!"&HLOOKUP($B7,'Enter Data Here'!$5:$6,2,0)&"$16"),G$5<=INDIRECT("'Enter Data Here'!"&HLOOKUP($B7,'Enter Data Here'!$5:$6,2,0)&"$17")),$B7,IF(AND(G$5>=INDIRECT("'Enter Data Here'!"&HLOOKUP($B7,'Enter Data Here'!$5:$6,2,0)&"$19"),G$5<=INDIRECT("'Enter Data Here'!"&HLOOKUP($B7,'Enter Data Here'!$5:$6,2,0)&"$20")),$B7,"")))))} -> Mustafa Habra | H7: {=IF(AND(H$5>=INDIRECT("'Enter Data Here'!"&HLOOKUP($B7,'Enter Data Here'!$5:$6,2,0)&"$7"),H$5<=INDIRECT("'Enter Data Here'!"&HLOOKUP($B7,'Enter Data Here'!$5:$6,2,0)&"$8")),$B7,IF(AND(H$5>=INDIRECT("'Enter Data Here'!"&HLOOKUP($B7,'Enter Data Here'!$5:$6,2,0)&"$10"),H$5<=INDIRECT("'Enter Data Here'!"&HLOOKUP($B7,'Enter Data Here'!$5:$6,2,0)&"$11")),$B7,IF(AND(H$5>=INDIRECT("'Enter Data Here'!"&HLOOKUP($B7,'Enter Data Here'!$5:$6,2,0)&"$13"),H$5<=INDIRECT("'Enter Data Here'!"&HLOOKUP($B7,'Enter Data Here'!$5:$6,2,0)&"$14")),$B7,IF(AND(H$5>=INDIRECT("'Enter Data Here'!"&HLOOKUP($B7,'Enter Data Here'!$5:$6,2,0)&"$16"),H$5<=INDIRECT("'Enter Data Here'!"&HLOOKUP($B7,'Enter Data Here'!$5:$6,2,0)&"$17")),$B7,IF(AND(H$5>=INDIRECT("'Enter Data Here'!"&HLOOKUP($B7,'Enter Data Here'!$5:$6,2,0)&"$19"),H$5<=INDIRECT("'Enter Data Here'!"&HLOOKUP($B7,'Enter Data Here'!$5:$6,2,0)&"$20")),$B7,"")))))} -> Mustafa Habra | I7: {=IF(AND(I$5>=INDIRECT("'Enter Data Here'!"&HLOOKUP($B7,'Enter Data Here'!$5:$6,2,0)&"$7"),I$5<=INDIRECT("'Enter Data Here'!"&HLOOKUP($B7,'Enter Data Here'!$5:$6,2,0)&"$8")),$B7,IF(AND(I$5>=INDIRECT("'Enter Data Here'!"&HLOOKUP($B7,'Enter Data Here'!$5:$6,2,0)&"$10"),I$5<=INDIRECT("'Enter Data Here'!"&HLOOKUP($B7,'Enter Data Here'!$5:$6,2,0)&"$11")),$B7,IF(AND(I$5>=INDIRECT("'Enter Data Here'!"&HLOOKUP($B7,'Enter Data Here'!$5:$6,2,0)&"$13"),I$5<=INDIRECT("'Enter Data Here'!"&HLOOKUP($B7,'Enter Data Here'!$5:$6,2,0)&"$14")),$B7,IF(AND(I$5>=INDIRECT("'Enter Data Here'!"&HLOOKUP($B7,'Enter Data Here'!$5:$6,2,0)&"$16"),I$5<=INDIRECT("'Enter Data Here'!"&HLOOKUP($B7,'Enter Data Here'!$5:$6,2,0)&"$17")),$B7,IF(AND(I$5>=INDIRECT("'Enter Data Here'!"&HLOOKUP($B7,'Enter Data Here'!$5:$6,2,0)&"$19"),I$5<=INDIRECT("'Enter Data Here'!"&HLOOKUP($B7,'Enter Data Here'!$5:$6,2,0)&"$20")),$B7,"")))))} -> Mustafa Habra | J7: {=IF(AND(J$5>=INDIRECT("'Enter Data Here'!"&HLOOKUP($B7,'Enter Data Here'!$5:$6,2,0)&"$7"),J$5<=INDIRECT("'Enter Data Here'!"&HLOOKUP($B7,'Enter Data Here'!$5:$6,2,0)&"$8")),$B7,IF(AND(J$5>=INDIRECT("'Enter Data Here'!"&HLOOKUP($B7,'Enter Data Here'!$5:$6,2,0)&"$10"),J$5<=INDIRECT("'Enter Data Here'!"&HLOOKUP($B7,'Enter Data Here'!$5:$6,2,0)&"$11")),$B7,IF(AND(J$5>=INDIRECT("'Enter Data Here'!"&HLOOKUP($B7,'Enter Data Here'!$5:$6,2,0)&"$13"),J$5<=INDIRECT("'Enter Data Here'!"&HLOOKUP($B7,'Enter Data Here'!$5:$6,2,0)&"$14")),$B7,IF(AND(J$5>=INDIRECT("'Enter Data Here'!"&HLOOKUP($B7,'Enter Data Here'!$5:$6,2,0)&"$16"),J$5<=INDIRECT("'Enter Data Here'!"&HLOOKUP($B7,'Enter Data Here'!$5:$6,2,0)&"$17")),$B7,IF(AND(J$5>=INDIRECT("'Enter Data Here'!"&HLOOKUP($B7,'Enter Data Here'!$5:$6,2,0)&"$19"),J$5<=INDIRECT("'Enter Data Here'!"&HLOOKUP($B7,'Enter Data Here'!$5:$6,2,0)&"$20")),$B7,"")))))} -> Mustafa Habra | K7: {=IF(AND(K$5>=INDIRECT("'Enter Data Here'!"&HLOOKUP($B7,'Enter Data Here'!$5:$6,2,0)&"$7"),K$5<=INDIRECT("'Enter Data Here'!"&HLOOKUP($B7,'Enter Data Here'!$5:$6,2,0)&"$8")),$B7,IF(AND(K$5>=INDIRECT("'Enter Data Here'!"&HLOOKUP($B7,'Enter Data Here'!$5:$6,2,0)&"$10"),K$5<=INDIRECT("'Enter Data Here'!"&HLOOKUP($B7,'Enter Data Here'!$5:$6,2,0)&"$11")),$B7,IF(AND(K$5>=INDIRECT("'Enter Data Here'!"&HLOOKUP($B7,'Enter Data Here'!$5:$6,2,0)&"$13"),K$5<=INDIRECT("'Enter Data Here'!"&HLOOKUP($B7,'Enter Data Here'!$5:$6,2,0)&"$14")),$B7,IF(AND(K$5>=INDIRECT("'Enter Data Here'!"&HLOOKUP($B7,'Enter Data Here'!$5:$6,2,0)&"$16"),K$5<=INDIRECT("'Enter Data Here'!"&HLOOKUP($B7,'Enter Data Here'!$5:$6,2,0)&"$17")),$B7,IF(AND(K$5>=INDIRECT("'Enter Data Here'!"&HLOOKUP($B7,'Enter Data Here'!$5:$6,2,0)&"$19"),K$5<=INDIRECT("'Enter Data Here'!"&HLOOKUP($B7,'Enter Data Here'!$5:$6,2,0)&"$20")),$B7,"")))))} -> Mustafa Habra | L7: {=IF(AND(L$5>=INDIRECT("'Enter Data Here'!"&HLOOKUP($B7,'Enter Data Here'!$5:$6,2,0)&"$7"),L$5<=INDIRECT("'Enter Data Here'!"&HLOOKUP($B7,'Enter Data Here'!$5:$6,2,0)&"$8")),$B7,IF(AND(L$5>=INDIRECT("'Enter Data Here'!"&HLOOKUP($B7,'Enter Data Here'!$5:$6,2,0)&"$10"),L$5<=INDIRECT("'Enter Data Here'!"&HLOOKUP($B7,'Enter Data Here'!$5:$6,2,0)&"$11")),$B7,IF(AND(L$5>=INDIRECT("'Enter Data Here'!"&HLOOKUP($B7,'Enter Data Here'!$5:$6,2,0)&"$13"),L$5<=INDIRECT("'Enter Data Here'!"&HLOOKUP($B7,'Enter Data Here'!$5:$6,2,0)&"$14")),$B7,IF(AND(L$5>=INDIRECT("'Enter Data Here'!"&HLOOKUP($B7,'Enter Data Here'!$5:$6,2,0)&"$16"),L$5<=INDIRECT("'Enter Data Here'!"&HLOOKUP($B7,'Enter Data Here'!$5:$6,2,0)&"$17")),$B7,IF(AND(L$5>=INDIRECT("'Enter Data Here'!"&HLOOKUP($B7,'Enter Data Here'!$5:$6,2,0)&"$19"),L$5<=INDIRECT("'Enter Data Here'!"&HLOOKUP($B7,'Enter Data Here'!$5:$6,2,0)&"$20")),$B7,"")))))} -> Mustafa Habra | M7: {=IF(AND(M$5>=INDIRECT("'Enter Data Here'!"&HLOOKUP($B7,'Enter Data Here'!$5:$6,2,0)&"$7"),M$5<=INDIRECT("'Enter Data Here'!"&HLOOKUP($B7,'Enter Data Here'!$5:$6,2,0)&"$8")),$B7,IF(AND(M$5>=INDIRECT("'Enter Data Here'!"&HLOOKUP($B7,'Enter Data Here'!$5:$6,2,0)&"$10"),M$5<=INDIRECT("'Enter Data Here'!"&HLOOKUP($B7,'Enter Data Here'!$5:$6,2,0)&"$11")),$B7,IF(AND(M$5>=INDIRECT("'Enter Data Here'!"&HLOOKUP($B7,'Enter Data Here'!$5:$6,2,0)&"$13"),M$5<=INDIRECT("'Enter Data Here'!"&HLOOKUP($B7,'Enter Data Here'!$5:$6,2,0)&"$14")),$B7,IF(AND(M$5>=INDIRECT("'Enter Data Here'!"&HLOOKUP($B7,'Enter Data Here'!$5:$6,2,0)&"$16"),M$5<=INDIRECT("'Enter Data Here'!"&HLOOKUP($B7,'Enter Data Here'!$5:$6,2,0)&"$17")),$B7,IF(AND(M$5>=INDIRECT("'Enter Data Here'!"&HLOOKUP($B7,'Enter Data Here'!$5:$6,2,0)&"$19"),M$5<=INDIRECT("'Enter Data Here'!"&HLOOKUP($B7,'Enter Data Here'!$5:$6,2,0)&"$20")),$B7,"")))))} -> Mustafa Habra | ... AJ7: {=IF(AND(AJ$5>=INDIRECT("'Enter Data Here'!"&HLOOKUP($B7,'Enter Data Here'!$5:$6,2,0)&"$7"),AJ$5<=INDIRECT("'Enter Data Here'!"&HLOOKUP($B7,'Enter Data Here'!$5:$6,2,0)&"$8")),$B7,IF(AND(AJ$5>=INDIRECT("'Enter Data Here'!"&HLOOKUP($B7,'Enter Data Here'!$5:$6,2,0)&"$10"),AJ$5<=INDIRECT("'Enter Data Here'!"&HLOOKUP($B7,'Enter Data Here'!$5:$6,2,0)&"$11")),$B7,IF(AND(AJ$5>=INDIRECT("'Enter Data Here'!"&HLOOKUP($B7,'Enter Data Here'!$5:$6,2,0)&"$13"),AJ$5<=INDIRECT("'Enter Data Here'!"&HLOOKUP($B7,'Enter Data Here'!$5:$6,2,0)&"$14")),$B7,IF(AND(AJ$5>=INDIRECT("'Enter Data Here'!"&HLOOKUP($B7,'Enter Data Here'!$5:$6,2,0)&"$16"),AJ$5<=INDIRECT("'Enter Data Here'!"&HLOOKUP($B7,'Enter Data Here'!$5:$6,2,0)&"$17")),$B7,IF(AND(AJ$5>=INDIRECT("'Enter Data Here'!"&HLOOKUP($B7,'Enter Data Here'!$5:$6,2,0)&"$19"),AJ$5<=INDIRECT("'Enter Data Here'!"&HLOOKUP($B7,'Enter Data Here'!$5:$6,2,0)&"$20")),$B7,"")))))} -> Mustafa Habra
B8: ='Be4 you start'!E21 -> Waseem Zeitouni | F8: {=IF(AND(F$5>=INDIRECT("'Enter Data Here'!"&HLOOKUP($B8,'Enter Data Here'!$5:$6,2,0)&"$7"),F$5<=INDIRECT("'Enter Data Here'!"&HLOOKUP($B8,'Enter Data Here'!$5:$6,2,0)&"$8")),$B8,IF(AND(F$5>=INDIRECT("'Enter Data Here'!"&HLOOKUP($B8,'Enter Data Here'!$5:$6,2,0)&"$10"),F$5<=INDIRECT("'Enter Data Here'!"&HLOOKUP($B8,'Enter Data Here'!$5:$6,2,0)&"$11")),$B8,IF(AND(F$5>=INDIRECT("'Enter Data Here'!"&HLOOKUP($B8,'Enter Data Here'!$5:$6,2,0)&"$13"),F$5<=INDIRECT("'Enter Data Here'!"&HLOOKUP($B8,'Enter Data Here'!$5:$6,2,0)&"$14")),$B8,IF(AND(F$5>=INDIRECT("'Enter Data Here'!"&HLOOKUP($B8,'Enter Data Here'!$5:$6,2,0)&"$16"),F$5<=INDIRECT("'Enter Data Here'!"&HLOOKUP($B8,'Enter Data Here'!$5:$6,2,0)&"$17")),$B8,IF(AND(F$5>=INDIRECT("'Enter Data Here'!"&HLOOKUP($B8,'Enter Data Here'!$5:$6,2,0)&"$19"),F$5<=INDIRECT("'Enter Data Here'!"&HLOOKUP($B8,'Enter Data Here'!$5:$6,2,0)&"$20")),$B8,"")))))} | G8: {=IF(AND(G$5>=INDIRECT("'Enter Data Here'!"&HLOOKUP($B8,'Enter Data Here'!$5:$6,2,0)&"$7"),G$5<=INDIRECT("'Enter Data Here'!"&HLOOKUP($B8,'Enter Data Here'!$5:$6,2,0)&"$8")),$B8,IF(AND(G$5>=INDIRECT("'Enter Data Here'!"&HLOOKUP($B8,'Enter Data Here'!$5:$6,2,0)&"$10"),G$5<=INDIRECT("'Enter Data Here'!"&HLOOKUP($B8,'Enter Data Here'!$5:$6,2,0)&"$11")),$B8,IF(AND(G$5>=INDIRECT("'Enter Data Here'!"&HLOOKUP($B8,'Enter Data Here'!$5:$6,2,0)&"$13"),G$5<=INDIRECT("'Enter Data Here'!"&HLOOKUP($B8,'Enter Data Here'!$5:$6,2,0)&"$14")),$B8,IF(AND(G$5>=INDIRECT("'Enter Data Here'!"&HLOOKUP($B8,'Enter Data Here'!$5:$6,2,0)&"$16"),G$5<=INDIRECT("'Enter Data Here'!"&HLOOKUP($B8,'Enter Data Here'!$5:$6,2,0)&"$17")),$B8,IF(AND(G$5>=INDIRECT("'Enter Data Here'!"&HLOOKUP($B8,'Enter Data Here'!$5:$6,2,0)&"$19"),G$5<=INDIRECT("'Enter Data Here'!"&HLOOKUP($B8,'Enter Data Here'!$5:$6,2,0)&"$20")),$B8,"")))))} | H8: {=IF(AND(H$5>=INDIRECT("'Enter Data Here'!"&HLOOKUP($B8,'Enter Data Here'!$5:$6,2,0)&"$7"),H$5<=INDIRECT("'Enter Data Here'!"&HLOOKUP($B8,'Enter Data Here'!$5:$6,2,0)&"$8")),$B8,IF(AND(H$5>=INDIRECT("'Enter Data Here'!"&HLOOKUP($B8,'Enter Data Here'!$5:$6,2,0)&"$10"),H$5<=INDIRECT("'Enter Data Here'!"&HLOOKUP($B8,'Enter Data Here'!$5:$6,2,0)&"$11")),$B8,IF(AND(H$5>=INDIRECT("'Enter Data Here'!"&HLOOKUP($B8,'Enter Data Here'!$5:$6,2,0)&"$13"),H$5<=INDIRECT("'Enter Data Here'!"&HLOOKUP($B8,'Enter Data Here'!$5:$6,2,0)&"$14")),$B8,IF(AND(H$5>=INDIRECT("'Enter Data Here'!"&HLOOKUP($B8,'Enter Data Here'!$5:$6,2,0)&"$16"),H$5<=INDIRECT("'Enter Data Here'!"&HLOOKUP($B8,'Enter Data Here'!$5:$6,2,0)&"$17")),$B8,IF(AND(H$5>=INDIRECT("'Enter Data Here'!"&HLOOKUP($B8,'Enter Data Here'!$5:$6,2,0)&"$19"),H$5<=INDIRECT("'Enter Data Here'!"&HLOOKUP($B8,'Enter Data Here'!$5:$6,2,0)&"$20")),$B8,"")))))} | I8: {=IF(AND(I$5>=INDIRECT("'Enter Data Here'!"&HLOOKUP($B8,'Enter Data Here'!$5:$6,2,0)&"$7"),I$5<=INDIRECT("'Enter Data Here'!"&HLOOKUP($B8,'Enter Data Here'!$5:$6,2,0)&"$8")),$B8,IF(AND(I$5>=INDIRECT("'Enter Data Here'!"&HLOOKUP($B8,'Enter Data Here'!$5:$6,2,0)&"$10"),I$5<=INDIRECT("'Enter Data Here'!"&HLOOKUP($B8,'Enter Data Here'!$5:$6,2,0)&"$11")),$B8,IF(AND(I$5>=INDIRECT("'Enter Data Here'!"&HLOOKUP($B8,'Enter Data Here'!$5:$6,2,0)&"$13"),I$5<=INDIRECT("'Enter Data Here'!"&HLOOKUP($B8,'Enter Data Here'!$5:$6,2,0)&"$14")),$B8,IF(AND(I$5>=INDIRECT("'Enter Data Here'!"&HLOOKUP($B8,'Enter Data Here'!$5:$6,2,0)&"$16"),I$5<=INDIRECT("'Enter Data Here'!"&HLOOKUP($B8,'Enter Data Here'!$5:$6,2,0)&"$17")),$B8,IF(AND(I$5>=INDIRECT("'Enter Data Here'!"&HLOOKUP($B8,'Enter Data Here'!$5:$6,2,0)&"$19"),I$5<=INDIRECT("'Enter Data Here'!"&HLOOKUP($B8,'Enter Data Here'!$5:$6,2,0)&"$20")),$B8,"")))))} | J8: {=IF(AND(J$5>=INDIRECT("'Enter Data Here'!"&HLOOKUP($B8,'Enter Data Here'!$5:$6,2,0)&"$7"),J$5<=INDIRECT("'Enter Data Here'!"&HLOOKUP($B8,'Enter Data Here'!$5:$6,2,0)&"$8")),$B8,IF(AND(J$5>=INDIRECT("'Enter Data Here'!"&HLOOKUP($B8,'Enter Data Here'!$5:$6,2,0)&"$10"),J$5<=INDIRECT("'Enter Data Here'!"&HLOOKUP($B8,'Enter Data Here'!$5:$6,2,0)&"$11")),$B8,IF(AND(J$5>=INDIRECT("'Enter Data Here'!"&HLOOKUP($B8,'Enter Data Here'!$5:$6,2,0)&"$13"),J$5<=INDIRECT("'Enter Data Here'!"&HLOOKUP($B8,'Enter Data Here'!$5:$6,2,0)&"$14")),$B8,IF(AND(J$5>=INDIRECT("'Enter Data Here'!"&HLOOKUP($B8,'Enter Data Here'!$5:$6,2,0)&"$16"),J$5<=INDIRECT("'Enter Data Here'!"&HLOOKUP($B8,'Enter Data Here'!$5:$6,2,0)&"$17")),$B8,IF(AND(J$5>=INDIRECT("'Enter Data Here'!"&HLOOKUP($B8,'Enter Data Here'!$5:$6,2,0)&"$19"),J$5<=INDIRECT("'Enter Data Here'!"&HLOOKUP($B8,'Enter Data Here'!$5:$6,2,0)&"$20")),$B8,"")))))} | K8: {=IF(AND(K$5>=INDIRECT("'Enter Data Here'!"&HLOOKUP($B8,'Enter Data Here'!$5:$6,2,0)&"$7"),K$5<=INDIRECT("'Enter Data Here'!"&HLOOKUP($B8,'Enter Data Here'!$5:$6,2,0)&"$8")),$B8,IF(AND(K$5>=INDIRECT("'Enter Data Here'!"&HLOOKUP($B8,'Enter Data Here'!$5:$6,2,0)&"$10"),K$5<=INDIRECT("'Enter Data Here'!"&HLOOKUP($B8,'Enter Data Here'!$5:$6,2,0)&"$11")),$B8,IF(AND(K$5>=INDIRECT("'Enter Data Here'!"&HLOOKUP($B8,'Enter Data Here'!$5:$6,2,0)&"$13"),K$5<=INDIRECT("'Enter Data Here'!"&HLOOKUP($B8,'Enter Data Here'!$5:$6,2,0)&"$14")),$B8,IF(AND(K$5>=INDIRECT("'Enter Data Here'!"&HLOOKUP($B8,'Enter Data Here'!$5:$6,2,0)&"$16"),K$5<=INDIRECT("'Enter Data Here'!"&HLOOKUP($B8,'Enter Data Here'!$5:$6,2,0)&"$17")),$B8,IF(AND(K$5>=INDIRECT("'Enter Data Here'!"&HLOOKUP($B8,'Enter Data Here'!$5:$6,2,0)&"$19"),K$5<=INDIRECT("'Enter Data Here'!"&HLOOKUP($B8,'Enter Data Here'!$5:$6,2,0)&"$20")),$B8,"")))))} | L8: {=IF(AND(L$5>=INDIRECT("'Enter Data Here'!"&HLOOKUP($B8,'Enter Data Here'!$5:$6,2,0)&"$7"),L$5<=INDIRECT("'Enter Data Here'!"&HLOOKUP($B8,'Enter Data Here'!$5:$6,2,0)&"$8")),$B8,IF(AND(L$5>=INDIRECT("'Enter Data Here'!"&HLOOKUP($B8,'Enter Data Here'!$5:$6,2,0)&"$10"),L$5<=INDIRECT("'Enter Data Here'!"&HLOOKUP($B8,'Enter Data Here'!$5:$6,2,0)&"$11")),$B8,IF(AND(L$5>=INDIRECT("'Enter Data Here'!"&HLOOKUP($B8,'Enter Data Here'!$5:$6,2,0)&"$13"),L$5<=INDIRECT("'Enter Data Here'!"&HLOOKUP($B8,'Enter Data Here'!$5:$6,2,0)&"$14")),$B8,IF(AND(L$5>=INDIRECT("'Enter Data Here'!"&HLOOKUP($B8,'Enter Data Here'!$5:$6,2,0)&"$16"),L$5<=INDIRECT("'Enter Data Here'!"&HLOOKUP($B8,'Enter Data Here'!$5:$6,2,0)&"$17")),$B8,IF(AND(L$5>=INDIRECT("'Enter Data Here'!"&HLOOKUP($B8,'Enter Data Here'!$5:$6,2,0)&"$19"),L$5<=INDIRECT("'Enter Data Here'!"&HLOOKUP($B8,'Enter Data Here'!$5:$6,2,0)&"$20")),$B8,"")))))} | M8: {=IF(AND(M$5>=INDIRECT("'Enter Data Here'!"&HLOOKUP($B8,'Enter Data Here'!$5:$6,2,0)&"$7"),M$5<=INDIRECT("'Enter Data Here'!"&HLOOKUP($B8,'Enter Data Here'!$5:$6,2,0)&"$8")),$B8,IF(AND(M$5>=INDIRECT("'Enter Data Here'!"&HLOOKUP($B8,'Enter Data Here'!$5:$6,2,0)&"$10"),M$5<=INDIRECT("'Enter Data Here'!"&HLOOKUP($B8,'Enter Data Here'!$5:$6,2,0)&"$11")),$B8,IF(AND(M$5>=INDIRECT("'Enter Data Here'!"&HLOOKUP($B8,'Enter Data Here'!$5:$6,2,0)&"$13"),M$5<=INDIRECT("'Enter Data Here'!"&HLOOKUP($B8,'Enter Data Here'!$5:$6,2,0)&"$14")),$B8,IF(AND(M$5>=INDIRECT("'Enter Data Here'!"&HLOOKUP($B8,'Enter Data Here'!$5:$6,2,0)&"$16"),M$5<=INDIRECT("'Enter Data Here'!"&HLOOKUP($B8,'Enter Data Here'!$5:$6,2,0)&"$17")),$B8,IF(AND(M$5>=INDIRECT("'Enter Data Here'!"&HLOOKUP($B8,'Enter Data Here'!$5:$6,2,0)&"$19"),M$5<=INDIRECT("'Enter Data Here'!"&HLOOKUP($B8,'Enter Data Here'!$5:$6,2,0)&"$20")),$B8,"")))))} | ... AJ8: {=IF(AND(AJ$5>=INDIRECT("'Enter Data Here'!"&HLOOKUP($B8,'Enter Data Here'!$5:$6,2,0)&"$7"),AJ$5<=INDIRECT("'Enter Data Here'!"&HLOOKUP($B8,'Enter Data Here'!$5:$6,2,0)&"$8")),$B8,IF(AND(AJ$5>=INDIRECT("'Enter Data Here'!"&HLOOKUP($B8,'Enter Data Here'!$5:$6,2,0)&"$10"),AJ$5<=INDIRECT("'Enter Data Here'!"&HLOOKUP($B8,'Enter Data Here'!$5:$6,2,0)&"$11")),$B8,IF(AND(AJ$5>=INDIRECT("'Enter Data Here'!"&HLOOKUP($B8,'Enter Data Here'!$5:$6,2,0)&"$13"),AJ$5<=INDIRECT("'Enter Data Here'!"&HLOOKUP($B8,'Enter Data Here'!$5:$6,2,0)&"$14")),$B8,IF(AND(AJ$5>=INDIRECT("'Enter Data Here'!"&HLOOKUP($B8,'Enter Data Here'!$5:$6,2,0)&"$16"),AJ$5<=INDIRECT("'Enter Data Here'!"&HLOOKUP($B8,'Enter Data Here'!$5:$6,2,0)&"$17")),$B8,IF(AND(AJ$5>=INDIRECT("'Enter Data Here'!"&HLOOKUP($B8,'Enter Data Here'!$5:$6,2,0)&"$19"),AJ$5<=INDIRECT("'Enter Data Here'!"&HLOOKUP($B8,'Enter Data Here'!$5:$6,2,0)&"$20")),$B8,"")))))}
B9: ='Be4 you start'!E22 -> Lubna R | F9: {=IF(AND(F$5>=INDIRECT("'Enter Data Here'!"&HLOOKUP($B9,'Enter Data Here'!$5:$6,2,0)&"$7"),F$5<=INDIRECT("'Enter Data Here'!"&HLOOKUP($B9,'Enter Data Here'!$5:$6,2,0)&"$8")),$B9,IF(AND(F$5>=INDIRECT("'Enter Data Here'!"&HLOOKUP($B9,'Enter Data Here'!$5:$6,2,0)&"$10"),F$5<=INDIRECT("'Enter Data Here'!"&HLOOKUP($B9,'Enter Data Here'!$5:$6,2,0)&"$11")),$B9,IF(AND(F$5>=INDIRECT("'Enter Data Here'!"&HLOOKUP($B9,'Enter Data Here'!$5:$6,2,0)&"$13"),F$5<=INDIRECT("'Enter Data Here'!"&HLOOKUP($B9,'Enter Data Here'!$5:$6,2,0)&"$14")),$B9,IF(AND(F$5>=INDIRECT("'Enter Data Here'!"&HLOOKUP($B9,'Enter Data Here'!$5:$6,2,0)&"$16"),F$5<=INDIRECT("'Enter Data Here'!"&HLOOKUP($B9,'Enter Data Here'!$5:$6,2,0)&"$17")),$B9,IF(AND(F$5>=INDIRECT("'Enter Data Here'!"&HLOOKUP($B9,'Enter Data Here'!$5:$6,2,0)&"$19"),F$5<=INDIRECT("'Enter Data Here'!"&HLOOKUP($B9,'Enter Data Here'!$5:$6,2,0)&"$20")),$B9,"")))))} | G9: {=IF(AND(G$5>=INDIRECT("'Enter Data Here'!"&HLOOKUP($B9,'Enter Data Here'!$5:$6,2,0)&"$7"),G$5<=INDIRECT("'Enter Data Here'!"&HLOOKUP($B9,'Enter Data Here'!$5:$6,2,0)&"$8")),$B9,IF(AND(G$5>=INDIRECT("'Enter Data Here'!"&HLOOKUP($B9,'Enter Data Here'!$5:$6,2,0)&"$10"),G$5<=INDIRECT("'Enter Data Here'!"&HLOOKUP($B9,'Enter Data Here'!$5:$6,2,0)&"$11")),$B9,IF(AND(G$5>=INDIRECT("'Enter Data Here'!"&HLOOKUP($B9,'Enter Data Here'!$5:$6,2,0)&"$13"),G$5<=INDIRECT("'Enter Data Here'!"&HLOOKUP($B9,'Enter Data Here'!$5:$6,2,0)&"$14")),$B9,IF(AND(G$5>=INDIRECT("'Enter Data Here'!"&HLOOKUP($B9,'Enter Data Here'!$5:$6,2,0)&"$16"),G$5<=INDIRECT("'Enter Data Here'!"&HLOOKUP($B9,'Enter Data Here'!$5:$6,2,0)&"$17")),$B9,IF(AND(G$5>=INDIRECT("'Enter Data Here'!"&HLOOKUP($B9,'Enter Data Here'!$5:$6,2,0)&"$19"),G$5<=INDIRECT("'Enter Data Here'!"&HLOOKUP($B9,'Enter Data Here'!$5:$6,2,0)&"$20")),$B9,"")))))} | H9: {=IF(AND(H$5>=INDIRECT("'Enter Data Here'!"&HLOOKUP($B9,'Enter Data Here'!$5:$6,2,0)&"$7"),H$5<=INDIRECT("'Enter Data Here'!"&HLOOKUP($B9,'Enter Data Here'!$5:$6,2,0)&"$8")),$B9,IF(AND(H$5>=INDIRECT("'Enter Data Here'!"&HLOOKUP($B9,'Enter Data Here'!$5:$6,2,0)&"$10"),H$5<=INDIRECT("'Enter Data Here'!"&HLOOKUP($B9,'Enter Data Here'!$5:$6,2,0)&"$11")),$B9,IF(AND(H$5>=INDIRECT("'Enter Data Here'!"&HLOOKUP($B9,'Enter Data Here'!$5:$6,2,0)&"$13"),H$5<=INDIRECT("'Enter Data Here'!"&HLOOKUP($B9,'Enter Data Here'!$5:$6,2,0)&"$14")),$B9,IF(AND(H$5>=INDIRECT("'Enter Data Here'!"&HLOOKUP($B9,'Enter Data Here'!$5:$6,2,0)&"$16"),H$5<=INDIRECT("'Enter Data Here'!"&HLOOKUP($B9,'Enter Data Here'!$5:$6,2,0)&"$17")),$B9,IF(AND(H$5>=INDIRECT("'Enter Data Here'!"&HLOOKUP($B9,'Enter Data Here'!$5:$6,2,0)&"$19"),H$5<=INDIRECT("'Enter Data Here'!"&HLOOKUP($B9,'Enter Data Here'!$5:$6,2,0)&"$20")),$B9,"")))))} | I9: {=IF(AND(I$5>=INDIRECT("'Enter Data Here'!"&HLOOKUP($B9,'Enter Data Here'!$5:$6,2,0)&"$7"),I$5<=INDIRECT("'Enter Data Here'!"&HLOOKUP($B9,'Enter Data Here'!$5:$6,2,0)&"$8")),$B9,IF(AND(I$5>=INDIRECT("'Enter Data Here'!"&HLOOKUP($B9,'Enter Data Here'!$5:$6,2,0)&"$10"),I$5<=INDIRECT("'Enter Data Here'!"&HLOOKUP($B9,'Enter Data Here'!$5:$6,2,0)&"$11")),$B9,IF(AND(I$5>=INDIRECT("'Enter Data Here'!"&HLOOKUP($B9,'Enter Data Here'!$5:$6,2,0)&"$13"),I$5<=INDIRECT("'Enter Data Here'!"&HLOOKUP($B9,'Enter Data Here'!$5:$6,2,0)&"$14")),$B9,IF(AND(I$5>=INDIRECT("'Enter Data Here'!"&HLOOKUP($B9,'Enter Data Here'!$5:$6,2,0)&"$16"),I$5<=INDIRECT("'Enter Data Here'!"&HLOOKUP($B9,'Enter Data Here'!$5:$6,2,0)&"$17")),$B9,IF(AND(I$5>=INDIRECT("'Enter Data Here'!"&HLOOKUP($B9,'Enter Data Here'!$5:$6,2,0)&"$19"),I$5<=INDIRECT("'Enter Data Here'!"&HLOOKUP($B9,'Enter Data Here'!$5:$6,2,0)&"$20")),$B9,"")))))} | J9: {=IF(AND(J$5>=INDIRECT("'Enter Data Here'!"&HLOOKUP($B9,'Enter Data Here'!$5:$6,2,0)&"$7"),J$5<=INDIRECT("'Enter Data Here'!"&HLOOKUP($B9,'Enter Data Here'!$5:$6,2,0)&"$8")),$B9,IF(AND(J$5>=INDIRECT("'Enter Data Here'!"&HLOOKUP($B9,'Enter Data Here'!$5:$6,2,0)&"$10"),J$5<=INDIRECT("'Enter Data Here'!"&HLOOKUP($B9,'Enter Data Here'!$5:$6,2,0)&"$11")),$B9,IF(AND(J$5>=INDIRECT("'Enter Data Here'!"&HLOOKUP($B9,'Enter Data Here'!$5:$6,2,0)&"$13"),J$5<=INDIRECT("'Enter Data Here'!"&HLOOKUP($B9,'Enter Data Here'!$5:$6,2,0)&"$14")),$B9,IF(AND(J$5>=INDIRECT("'Enter Data Here'!"&HLOOKUP($B9,'Enter Data Here'!$5:$6,2,0)&"$16"),J$5<=INDIRECT("'Enter Data Here'!"&HLOOKUP($B9,'Enter Data Here'!$5:$6,2,0)&"$17")),$B9,IF(AND(J$5>=INDIRECT("'Enter Data Here'!"&HLOOKUP($B9,'Enter Data Here'!$5:$6,2,0)&"$19"),J$5<=INDIRECT("'Enter Data Here'!"&HLOOKUP($B9,'Enter Data Here'!$5:$6,2,0)&"$20")),$B9,"")))))} -> Lubna R | K9: {=IF(AND(K$5>=INDIRECT("'Enter Data Here'!"&HLOOKUP($B9,'Enter Data Here'!$5:$6,2,0)&"$7"),K$5<=INDIRECT("'Enter Data Here'!"&HLOOKUP($B9,'Enter Data Here'!$5:$6,2,0)&"$8")),$B9,IF(AND(K$5>=INDIRECT("'Enter Data Here'!"&HLOOKUP($B9,'Enter Data Here'!$5:$6,2,0)&"$10"),K$5<=INDIRECT("'Enter Data Here'!"&HLOOKUP($B9,'Enter Data Here'!$5:$6,2,0)&"$11")),$B9,IF(AND(K$5>=INDIRECT("'Enter Data Here'!"&HLOOKUP($B9,'Enter Data Here'!$5:$6,2,0)&"$13"),K$5<=INDIRECT("'Enter Data Here'!"&HLOOKUP($B9,'Enter Data Here'!$5:$6,2,0)&"$14")),$B9,IF(AND(K$5>=INDIRECT("'Enter Data Here'!"&HLOOKUP($B9,'Enter Data Here'!$5:$6,2,0)&"$16"),K$5<=INDIRECT("'Enter Data Here'!"&HLOOKUP($B9,'Enter Data Here'!$5:$6,2,0)&"$17")),$B9,IF(AND(K$5>=INDIRECT("'Enter Data Here'!"&HLOOKUP($B9,'Enter Data Here'!$5:$6,2,0)&"$19"),K$5<=INDIRECT("'Enter Data Here'!"&HLOOKUP($B9,'Enter Data Here'!$5:$6,2,0)&"$20")),$B9,"")))))} -> Lubna R | L9: {=IF(AND(L$5>=INDIRECT("'Enter Data Here'!"&HLOOKUP($B9,'Enter Data Here'!$5:$6,2,0)&"$7"),L$5<=INDIRECT("'Enter Data Here'!"&HLOOKUP($B9,'Enter Data Here'!$5:$6,2,0)&"$8")),$B9,IF(AND(L$5>=INDIRECT("'Enter Data Here'!"&HLOOKUP($B9,'Enter Data Here'!$5:$6,2,0)&"$10"),L$5<=INDIRECT("'Enter Data Here'!"&HLOOKUP($B9,'Enter Data Here'!$5:$6,2,0)&"$11")),$B9,IF(AND(L$5>=INDIRECT("'Enter Data Here'!"&HLOOKUP($B9,'Enter Data Here'!$5:$6,2,0)&"$13"),L$5<=INDIRECT("'Enter Data Here'!"&HLOOKUP($B9,'Enter Data Here'!$5:$6,2,0)&"$14")),$B9,IF(AND(L$5>=INDIRECT("'Enter Data Here'!"&HLOOKUP($B9,'Enter Data Here'!$5:$6,2,0)&"$16"),L$5<=INDIRECT("'Enter Data Here'!"&HLOOKUP($B9,'Enter Data Here'!$5:$6,2,0)&"$17")),$B9,IF(AND(L$5>=INDIRECT("'Enter Data Here'!"&HLOOKUP($B9,'Enter Data Here'!$5:$6,2,0)&"$19"),L$5<=INDIRECT("'Enter Data Here'!"&HLOOKUP($B9,'Enter Data Here'!$5:$6,2,0)&"$20")),$B9,"")))))} -> Lubna R | M9: {=IF(AND(M$5>=INDIRECT("'Enter Data Here'!"&HLOOKUP($B9,'Enter Data Here'!$5:$6,2,0)&"$7"),M$5<=INDIRECT("'Enter Data Here'!"&HLOOKUP($B9,'Enter Data Here'!$5:$6,2,0)&"$8")),$B9,IF(AND(M$5>=INDIRECT("'Enter Data Here'!"&HLOOKUP($B9,'Enter Data Here'!$5:$6,2,0)&"$10"),M$5<=INDIRECT("'Enter Data Here'!"&HLOOKUP($B9,'Enter Data Here'!$5:$6,2,0)&"$11")),$B9,IF(AND(M$5>=INDIRECT("'Enter Data Here'!"&HLOOKUP($B9,'Enter Data Here'!$5:$6,2,0)&"$13"),M$5<=INDIRECT("'Enter Data Here'!"&HLOOKUP($B9,'Enter Data Here'!$5:$6,2,0)&"$14")),$B9,IF(AND(M$5>=INDIRECT("'Enter Data Here'!"&HLOOKUP($B9,'Enter Data Here'!$5:$6,2,0)&"$16"),M$5<=INDIRECT("'Enter Data Here'!"&HLOOKUP($B9,'Enter Data Here'!$5:$6,2,0)&"$17")),$B9,IF(AND(M$5>=INDIRECT("'Enter Data Here'!"&HLOOKUP($B9,'Enter Data Here'!$5:$6,2,0)&"$19"),M$5<=INDIRECT("'Enter Data Here'!"&HLOOKUP($B9,'Enter Data Here'!$5:$6,2,0)&"$20")),$B9,"")))))} | ... AJ9: {=IF(AND(AJ$5>=INDIRECT("'Enter Data Here'!"&HLOOKUP($B9,'Enter Data Here'!$5:$6,2,0)&"$7"),AJ$5<=INDIRECT("'Enter Data Here'!"&HLOOKUP($B9,'Enter Data Here'!$5:$6,2,0)&"$8")),$B9,IF(AND(AJ$5>=INDIRECT("'Enter Data Here'!"&HLOOKUP($B9,'Enter Data Here'!$5:$6,2,0)&"$10"),AJ$5<=INDIRECT("'Enter Data Here'!"&HLOOKUP($B9,'Enter Data Here'!$5:$6,2,0)&"$11")),$B9,IF(AND(AJ$5>=INDIRECT("'Enter Data Here'!"&HLOOKUP($B9,'Enter Data Here'!$5:$6,2,0)&"$13"),AJ$5<=INDIRECT("'Enter Data Here'!"&HLOOKUP($B9,'Enter Data Here'!$5:$6,2,0)&"$14")),$B9,IF(AND(AJ$5>=INDIRECT("'Enter Data Here'!"&HLOOKUP($B9,'Enter Data Here'!$5:$6,2,0)&"$16"),AJ$5<=INDIRECT("'Enter Data Here'!"&HLOOKUP($B9,'Enter Data Here'!$5:$6,2,0)&"$17")),$B9,IF(AND(AJ$5>=INDIRECT("'Enter Data Here'!"&HLOOKUP($B9,'Enter Data Here'!$5:$6,2,0)&"$19"),AJ$5<=INDIRECT("'Enter Data Here'!"&HLOOKUP($B9,'Enter Data Here'!$5:$6,2,0)&"$20")),$B9,"")))))}
B10: ='Be4 you start'!E23 -> Lubna Q | F10: {=IF(AND(F$5>=INDIRECT("'Enter Data Here'!"&HLOOKUP($B10,'Enter Data Here'!$5:$6,2,0)&"$7"),F$5<=INDIRECT("'Enter Data Here'!"&HLOOKUP($B10,'Enter Data Here'!$5:$6,2,0)&"$8")),$B10,IF(AND(F$5>=INDIRECT("'Enter Data Here'!"&HLOOKUP($B10,'Enter Data Here'!$5:$6,2,0)&"$10"),F$5<=INDIRECT("'Enter Data Here'!"&HLOOKUP($B10,'Enter Data Here'!$5:$6,2,0)&"$11")),$B10,IF(AND(F$5>=INDIRECT("'Enter Data Here'!"&HLOOKUP($B10,'Enter Data Here'!$5:$6,2,0)&"$13"),F$5<=INDIRECT("'Enter Data Here'!"&HLOOKUP($B10,'Enter Data Here'!$5:$6,2,0)&"$14")),$B10,IF(AND(F$5>=INDIRECT("'Enter Data Here'!"&HLOOKUP($B10,'Enter Data Here'!$5:$6,2,0)&"$16"),F$5<=INDIRECT("'Enter Data Here'!"&HLOOKUP($B10,'Enter Data Here'!$5:$6,2,0)&"$17")),$B10,IF(AND(F$5>=INDIRECT("'Enter Data Here'!"&HLOOKUP($B10,'Enter Data Here'!$5:$6,2,0)&"$19"),F$5<=INDIRECT("'Enter Data Here'!"&HLOOKUP($B10,'Enter Data Here'!$5:$6,2,0)&"$20")),$B10,"")))))} | G10: {=IF(AND(G$5>=INDIRECT("'Enter Data Here'!"&HLOOKUP($B10,'Enter Data Here'!$5:$6,2,0)&"$7"),G$5<=INDIRECT("'Enter Data Here'!"&HLOOKUP($B10,'Enter Data Here'!$5:$6,2,0)&"$8")),$B10,IF(AND(G$5>=INDIRECT("'Enter Data Here'!"&HLOOKUP($B10,'Enter Data Here'!$5:$6,2,0)&"$10"),G$5<=INDIRECT("'Enter Data Here'!"&HLOOKUP($B10,'Enter Data Here'!$5:$6,2,0)&"$11")),$B10,IF(AND(G$5>=INDIRECT("'Enter Data Here'!"&HLOOKUP($B10,'Enter Data Here'!$5:$6,2,0)&"$13"),G$5<=INDIRECT("'Enter Data Here'!"&HLOOKUP($B10,'Enter Data Here'!$5:$6,2,0)&"$14")),$B10,IF(AND(G$5>=INDIRECT("'Enter Data Here'!"&HLOOKUP($B10,'Enter Data Here'!$5:$6,2,0)&"$16"),G$5<=INDIRECT("'Enter Data Here'!"&HLOOKUP($B10,'Enter Data Here'!$5:$6,2,0)&"$17")),$B10,IF(AND(G$5>=INDIRECT("'Enter Data Here'!"&HLOOKUP($B10,'Enter Data Here'!$5:$6,2,0)&"$19"),G$5<=INDIRECT("'Enter Data Here'!"&HLOOKUP($B10,'Enter Data Here'!$5:$6,2,0)&"$20")),$B10,"")))))} | H10: {=IF(AND(H$5>=INDIRECT("'Enter Data Here'!"&HLOOKUP($B10,'Enter Data Here'!$5:$6,2,0)&"$7"),H$5<=INDIRECT("'Enter Data Here'!"&HLOOKUP($B10,'Enter Data Here'!$5:$6,2,0)&"$8")),$B10,IF(AND(H$5>=INDIRECT("'Enter Data Here'!"&HLOOKUP($B10,'Enter Data Here'!$5:$6,2,0)&"$10"),H$5<=INDIRECT("'Enter Data Here'!"&HLOOKUP($B10,'Enter Data Here'!$5:$6,2,0)&"$11")),$B10,IF(AND(H$5>=INDIRECT("'Enter Data Here'!"&HLOOKUP($B10,'Enter Data Here'!$5:$6,2,0)&"$13"),H$5<=INDIRECT("'Enter Data Here'!"&HLOOKUP($B10,'Enter Data Here'!$5:$6,2,0)&"$14")),$B10,IF(AND(H$5>=INDIRECT("'Enter Data Here'!"&HLOOKUP($B10,'Enter Data Here'!$5:$6,2,0)&"$16"),H$5<=INDIRECT("'Enter Data Here'!"&HLOOKUP($B10,'Enter Data Here'!$5:$6,2,0)&"$17")),$B10,IF(AND(H$5>=INDIRECT("'Enter Data Here'!"&HLOOKUP($B10,'Enter Data Here'!$5:$6,2,0)&"$19"),H$5<=INDIRECT("'Enter Data Here'!"&HLOOKUP($B10,'Enter Data Here'!$5:$6,2,0)&"$20")),$B10,"")))))} | I10: {=IF(AND(I$5>=INDIRECT("'Enter Data Here'!"&HLOOKUP($B10,'Enter Data Here'!$5:$6,2,0)&"$7"),I$5<=INDIRECT("'Enter Data Here'!"&HLOOKUP($B10,'Enter Data Here'!$5:$6,2,0)&"$8")),$B10,IF(AND(I$5>=INDIRECT("'Enter Data Here'!"&HLOOKUP($B10,'Enter Data Here'!$5:$6,2,0)&"$10"),I$5<=INDIRECT("'Enter Data Here'!"&HLOOKUP($B10,'Enter Data Here'!$5:$6,2,0)&"$11")),$B10,IF(AND(I$5>=INDIRECT("'Enter Data Here'!"&HLOOKUP($B10,'Enter Data Here'!$5:$6,2,0)&"$13"),I$5<=INDIRECT("'Enter Data Here'!"&HLOOKUP($B10,'Enter Data Here'!$5:$6,2,0)&"$14")),$B10,IF(AND(I$5>=INDIRECT("'Enter Data Here'!"&HLOOKUP($B10,'Enter Data Here'!$5:$6,2,0)&"$16"),I$5<=INDIRECT("'Enter Data Here'!"&HLOOKUP($B10,'Enter Data Here'!$5:$6,2,0)&"$17")),$B10,IF(AND(I$5>=INDIRECT("'Enter Data Here'!"&HLOOKUP($B10,'Enter Data Here'!$5:$6,2,0)&"$19"),I$5<=INDIRECT("'Enter Data Here'!"&HLOOKUP($B10,'Enter Data Here'!$5:$6,2,0)&"$20")),$B10,"")))))} | J10: {=IF(AND(J$5>=INDIRECT("'Enter Data Here'!"&HLOOKUP($B10,'Enter Data Here'!$5:$6,2,0)&"$7"),J$5<=INDIRECT("'Enter Data Here'!"&HLOOKUP($B10,'Enter Data Here'!$5:$6,2,0)&"$8")),$B10,IF(AND(J$5>=INDIRECT("'Enter Data Here'!"&HLOOKUP($B10,'Enter Data Here'!$5:$6,2,0)&"$10"),J$5<=INDIRECT("'Enter Data Here'!"&HLOOKUP($B10,'Enter Data Here'!$5:$6,2,0)&"$11")),$B10,IF(AND(J$5>=INDIRECT("'Enter Data Here'!"&HLOOKUP($B10,'Enter Data Here'!$5:$6,2,0)&"$13"),J$5<=INDIRECT("'Enter Data Here'!"&HLOOKUP($B10,'Enter Data Here'!$5:$6,2,0)&"$14")),$B10,IF(AND(J$5>=INDIRECT("'Enter Data Here'!"&HLOOKUP($B10,'Enter Data Here'!$5:$6,2,0)&"$16"),J$5<=INDIRECT("'Enter Data Here'!"&HLOOKUP($B10,'Enter Data Here'!$5:$6,2,0)&"$17")),$B10,IF(AND(J$5>=INDIRECT("'Enter Data Here'!"&HLOOKUP($B10,'Enter Data Here'!$5:$6,2,0)&"$19"),J$5<=INDIRECT("'Enter Data Here'!"&HLOOKUP($B10,'Enter Data Here'!$5:$6,2,0)&"$20")),$B10,"")))))} | K10: {=IF(AND(K$5>=INDIRECT("'Enter Data Here'!"&HLOOKUP($B10,'Enter Data Here'!$5:$6,2,0)&"$7"),K$5<=INDIRECT("'Enter Data Here'!"&HLOOKUP($B10,'Enter Data Here'!$5:$6,2,0)&"$8")),$B10,IF(AND(K$5>=INDIRECT("'Enter Data Here'!"&HLOOKUP($B10,'Enter Data Here'!$5:$6,2,0)&"$10"),K$5<=INDIRECT("'Enter Data Here'!"&HLOOKUP($B10,'Enter Data Here'!$5:$6,2,0)&"$11")),$B10,IF(AND(K$5>=INDIRECT("'Enter Data Here'!"&HLOOKUP($B10,'Enter Data Here'!$5:$6,2,0)&"$13"),K$5<=INDIRECT("'Enter Data Here'!"&HLOOKUP($B10,'Enter Data Here'!$5:$6,2,0)&"$14")),$B10,IF(AND(K$5>=INDIRECT("'Enter Data Here'!"&HLOOKUP($B10,'Enter Data Here'!$5:$6,2,0)&"$16"),K$5<=INDIRECT("'Enter Data Here'!"&HLOOKUP($B10,'Enter Data Here'!$5:$6,2,0)&"$17")),$B10,IF(AND(K$5>=INDIRECT("'Enter Data Here'!"&HLOOKUP($B10,'Enter Data Here'!$5:$6,2,0)&"$19"),K$5<=INDIRECT("'Enter Data Here'!"&HLOOKUP($B10,'Enter Data Here'!$5:$6,2,0)&"$20")),$B10,"")))))} | L10: {=IF(AND(L$5>=INDIRECT("'Enter Data Here'!"&HLOOKUP($B10,'Enter Data Here'!$5:$6,2,0)&"$7"),L$5<=INDIRECT("'Enter Data Here'!"&HLOOKUP($B10,'Enter Data Here'!$5:$6,2,0)&"$8")),$B10,IF(AND(L$5>=INDIRECT("'Enter Data Here'!"&HLOOKUP($B10,'Enter Data Here'!$5:$6,2,0)&"$10"),L$5<=INDIRECT("'Enter Data Here'!"&HLOOKUP($B10,'Enter Data Here'!$5:$6,2,0)&"$11")),$B10,IF(AND(L$5>=INDIRECT("'Enter Data Here'!"&HLOOKUP($B10,'Enter Data Here'!$5:$6,2,0)&"$13"),L$5<=INDIRECT("'Enter Data Here'!"&HLOOKUP($B10,'Enter Data Here'!$5:$6,2,0)&"$14")),$B10,IF(AND(L$5>=INDIRECT("'Enter Data Here'!"&HLOOKUP($B10,'Enter Data Here'!$5:$6,2,0)&"$16"),L$5<=INDIRECT("'Enter Data Here'!"&HLOOKUP($B10,'Enter Data Here'!$5:$6,2,0)&"$17")),$B10,IF(AND(L$5>=INDIRECT("'Enter Data Here'!"&HLOOKUP($B10,'Enter Data Here'!$5:$6,2,0)&"$19"),L$5<=INDIRECT("'Enter Data Here'!"&HLOOKUP($B10,'Enter Data Here'!$5:$6,2,0)&"$20")),$B10,"")))))} | M10: {=IF(AND(M$5>=INDIRECT("'Enter Data Here'!"&HLOOKUP($B10,'Enter Data Here'!$5:$6,2,0)&"$7"),M$5<=INDIRECT("'Enter Data Here'!"&HLOOKUP($B10,'Enter Data Here'!$5:$6,2,0)&"$8")),$B10,IF(AND(M$5>=INDIRECT("'Enter Data Here'!"&HLOOKUP($B10,'Enter Data Here'!$5:$6,2,0)&"$10"),M$5<=INDIRECT("'Enter Data Here'!"&HLOOKUP($B10,'Enter Data Here'!$5:$6,2,0)&"$11")),$B10,IF(AND(M$5>=INDIRECT("'Enter Data Here'!"&HLOOKUP($B10,'Enter Data Here'!$5:$6,2,0)&"$13"),M$5<=INDIRECT("'Enter Data Here'!"&HLOOKUP($B10,'Enter Data Here'!$5:$6,2,0)&"$14")),$B10,IF(AND(M$5>=INDIRECT("'Enter Data Here'!"&HLOOKUP($B10,'Enter Data Here'!$5:$6,2,0)&"$16"),M$5<=INDIRECT("'Enter Data Here'!"&HLOOKUP($B10,'Enter Data Here'!$5:$6,2,0)&"$17")),$B10,IF(AND(M$5>=INDIRECT("'Enter Data Here'!"&HLOOKUP($B10,'Enter Data Here'!$5:$6,2,0)&"$19"),M$5<=INDIRECT("'Enter Data Here'!"&HLOOKUP($B10,'Enter Data Here'!$5:$6,2,0)&"$20")),$B10,"")))))} | ... AJ10: {=IF(AND(AJ$5>=INDIRECT("'Enter Data Here'!"&HLOOKUP($B10,'Enter Data Here'!$5:$6,2,0)&"$7"),AJ$5<=INDIRECT("'Enter Data Here'!"&HLOOKUP($B10,'Enter Data Here'!$5:$6,2,0)&"$8")),$B10,IF(AND(AJ$5>=INDIRECT("'Enter Data Here'!"&HLOOKUP($B10,'Enter Data Here'!$5:$6,2,0)&"$10"),AJ$5<=INDIRECT("'Enter Data Here'!"&HLOOKUP($B10,'Enter Data Here'!$5:$6,2,0)&"$11")),$B10,IF(AND(AJ$5>=INDIRECT("'Enter Data Here'!"&HLOOKUP($B10,'Enter Data Here'!$5:$6,2,0)&"$13"),AJ$5<=INDIRECT("'Enter Data Here'!"&HLOOKUP($B10,'Enter Data Here'!$5:$6,2,0)&"$14")),$B10,IF(AND(AJ$5>=INDIRECT("'Enter Data Here'!"&HLOOKUP($B10,'Enter Data Here'!$5:$6,2,0)&"$16"),AJ$5<=INDIRECT("'Enter Data Here'!"&HLOOKUP($B10,'Enter Data Here'!$5:$6,2,0)&"$17")),$B10,IF(AND(AJ$5>=INDIRECT("'Enter Data Here'!"&HLOOKUP($B10,'Enter Data Here'!$5:$6,2,0)&"$19"),AJ$5<=INDIRECT("'Enter Data Here'!"&HLOOKUP($B10,'Enter Data Here'!$5:$6,2,0)&"$20")),$B10,"")))))}
B11: ='Be4 you start'!E24 -> Moataz Al Sakka | F11: {=IF(AND(F$5>=INDIRECT("'Enter Data Here'!"&HLOOKUP($B11,'Enter Data Here'!$5:$6,2,0)&"$7"),F$5<=INDIRECT("'Enter Data Here'!"&HLOOKUP($B11,'Enter Data Here'!$5:$6,2,0)&"$8")),$B11,IF(AND(F$5>=INDIRECT("'Enter Data Here'!"&HLOOKUP($B11,'Enter Data Here'!$5:$6,2,0)&"$10"),F$5<=INDIRECT("'Enter Data Here'!"&HLOOKUP($B11,'Enter Data Here'!$5:$6,2,0)&"$11")),$B11,IF(AND(F$5>=INDIRECT("'Enter Data Here'!"&HLOOKUP($B11,'Enter Data Here'!$5:$6,2,0)&"$13"),F$5<=INDIRECT("'Enter Data Here'!"&HLOOKUP($B11,'Enter Data Here'!$5:$6,2,0)&"$14")),$B11,IF(AND(F$5>=INDIRECT("'Enter Data Here'!"&HLOOKUP($B11,'Enter Data Here'!$5:$6,2,0)&"$16"),F$5<=INDIRECT("'Enter Data Here'!"&HLOOKUP($B11,'Enter Data Here'!$5:$6,2,0)&"$17")),$B11,IF(AND(F$5>=INDIRECT("'Enter Data Here'!"&HLOOKUP($B11,'Enter Data Here'!$5:$6,2,0)&"$19"),F$5<=INDIRECT("'Enter Data Here'!"&HLOOKUP($B11,'Enter Data Here'!$5:$6,2,0)&"$20")),$B11,"")))))} | G11: {=IF(AND(G$5>=INDIRECT("'Enter Data Here'!"&HLOOKUP($B11,'Enter Data Here'!$5:$6,2,0)&"$7"),G$5<=INDIRECT("'Enter Data Here'!"&HLOOKUP($B11,'Enter Data Here'!$5:$6,2,0)&"$8")),$B11,IF(AND(G$5>=INDIRECT("'Enter Data Here'!"&HLOOKUP($B11,'Enter Data Here'!$5:$6,2,0)&"$10"),G$5<=INDIRECT("'Enter Data Here'!"&HLOOKUP($B11,'Enter Data Here'!$5:$6,2,0)&"$11")),$B11,IF(AND(G$5>=INDIRECT("'Enter Data Here'!"&HLOOKUP($B11,'Enter Data Here'!$5:$6,2,0)&"$13"),G$5<=INDIRECT("'Enter Data Here'!"&HLOOKUP($B11,'Enter Data Here'!$5:$6,2,0)&"$14")),$B11,IF(AND(G$5>=INDIRECT("'Enter Data Here'!"&HLOOKUP($B11,'Enter Data Here'!$5:$6,2,0)&"$16"),G$5<=INDIRECT("'Enter Data Here'!"&HLOOKUP($B11,'Enter Data Here'!$5:$6,2,0)&"$17")),$B11,IF(AND(G$5>=INDIRECT("'Enter Data Here'!"&HLOOKUP($B11,'Enter Data Here'!$5:$6,2,0)&"$19"),G$5<=INDIRECT("'Enter Data Here'!"&HLOOKUP($B11,'Enter Data Here'!$5:$6,2,0)&"$20")),$B11,"")))))} | H11: {=IF(AND(H$5>=INDIRECT("'Enter Data Here'!"&HLOOKUP($B11,'Enter Data Here'!$5:$6,2,0)&"$7"),H$5<=INDIRECT("'Enter Data Here'!"&HLOOKUP($B11,'Enter Data Here'!$5:$6,2,0)&"$8")),$B11,IF(AND(H$5>=INDIRECT("'Enter Data Here'!"&HLOOKUP($B11,'Enter Data Here'!$5:$6,2,0)&"$10"),H$5<=INDIRECT("'Enter Data Here'!"&HLOOKUP($B11,'Enter Data Here'!$5:$6,2,0)&"$11")),$B11,IF(AND(H$5>=INDIRECT("'Enter Data Here'!"&HLOOKUP($B11,'Enter Data Here'!$5:$6,2,0)&"$13"),H$5<=INDIRECT("'Enter Data Here'!"&HLOOKUP($B11,'Enter Data Here'!$5:$6,2,0)&"$14")),$B11,IF(AND(H$5>=INDIRECT("'Enter Data Here'!"&HLOOKUP($B11,'Enter Data Here'!$5:$6,2,0)&"$16"),H$5<=INDIRECT("'Enter Data Here'!"&HLOOKUP($B11,'Enter Data Here'!$5:$6,2,0)&"$17")),$B11,IF(AND(H$5>=INDIRECT("'Enter Data Here'!"&HLOOKUP($B11,'Enter Data Here'!$5:$6,2,0)&"$19"),H$5<=INDIRECT("'Enter Data Here'!"&HLOOKUP($B11,'Enter Data Here'!$5:$6,2,0)&"$20")),$B11,"")))))} | I11: {=IF(AND(I$5>=INDIRECT("'Enter Data Here'!"&HLOOKUP($B11,'Enter Data Here'!$5:$6,2,0)&"$7"),I$5<=INDIRECT("'Enter Data Here'!"&HLOOKUP($B11,'Enter Data Here'!$5:$6,2,0)&"$8")),$B11,IF(AND(I$5>=INDIRECT("'Enter Data Here'!"&HLOOKUP($B11,'Enter Data Here'!$5:$6,2,0)&"$10"),I$5<=INDIRECT("'Enter Data Here'!"&HLOOKUP($B11,'Enter Data Here'!$5:$6,2,0)&"$11")),$B11,IF(AND(I$5>=INDIRECT("'Enter Data Here'!"&HLOOKUP($B11,'Enter Data Here'!$5:$6,2,0)&"$13"),I$5<=INDIRECT("'Enter Data Here'!"&HLOOKUP($B11,'Enter Data Here'!$5:$6,2,0)&"$14")),$B11,IF(AND(I$5>=INDIRECT("'Enter Data Here'!"&HLOOKUP($B11,'Enter Data Here'!$5:$6,2,0)&"$16"),I$5<=INDIRECT("'Enter Data Here'!"&HLOOKUP($B11,'Enter Data Here'!$5:$6,2,0)&"$17")),$B11,IF(AND(I$5>=INDIRECT("'Enter Data Here'!"&HLOOKUP($B11,'Enter Data Here'!$5:$6,2,0)&"$19"),I$5<=INDIRECT("'Enter Data Here'!"&HLOOKUP($B11,'Enter Data Here'!$5:$6,2,0)&"$20")),$B11,"")))))} | J11: {=IF(AND(J$5>=INDIRECT("'Enter Data Here'!"&HLOOKUP($B11,'Enter Data Here'!$5:$6,2,0)&"$7"),J$5<=INDIRECT("'Enter Data Here'!"&HLOOKUP($B11,'Enter Data Here'!$5:$6,2,0)&"$8")),$B11,IF(AND(J$5>=INDIRECT("'Enter Data Here'!"&HLOOKUP($B11,'Enter Data Here'!$5:$6,2,0)&"$10"),J$5<=INDIRECT("'Enter Data Here'!"&HLOOKUP($B11,'Enter Data Here'!$5:$6,2,0)&"$11")),$B11,IF(AND(J$5>=INDIRECT("'Enter Data Here'!"&HLOOKUP($B11,'Enter Data Here'!$5:$6,2,0)&"$13"),J$5<=INDIRECT("'Enter Data Here'!"&HLOOKUP($B11,'Enter Data Here'!$5:$6,2,0)&"$14")),$B11,IF(AND(J$5>=INDIRECT("'Enter Data Here'!"&HLOOKUP($B11,'Enter Data Here'!$5:$6,2,0)&"$16"),J$5<=INDIRECT("'Enter Data Here'!"&HLOOKUP($B11,'Enter Data Here'!$5:$6,2,0)&"$17")),$B11,IF(AND(J$5>=INDIRECT("'Enter Data Here'!"&HLOOKUP($B11,'Enter Data Here'!$5:$6,2,0)&"$19"),J$5<=INDIRECT("'Enter Data Here'!"&HLOOKUP($B11,'Enter Data Here'!$5:$6,2,0)&"$20")),$B11,"")))))} | K11: {=IF(AND(K$5>=INDIRECT("'Enter Data Here'!"&HLOOKUP($B11,'Enter Data Here'!$5:$6,2,0)&"$7"),K$5<=INDIRECT("'Enter Data Here'!"&HLOOKUP($B11,'Enter Data Here'!$5:$6,2,0)&"$8")),$B11,IF(AND(K$5>=INDIRECT("'Enter Data Here'!"&HLOOKUP($B11,'Enter Data Here'!$5:$6,2,0)&"$10"),K$5<=INDIRECT("'Enter Data Here'!"&HLOOKUP($B11,'Enter Data Here'!$5:$6,2,0)&"$11")),$B11,IF(AND(K$5>=INDIRECT("'Enter Data Here'!"&HLOOKUP($B11,'Enter Data Here'!$5:$6,2,0)&"$13"),K$5<=INDIRECT("'Enter Data Here'!"&HLOOKUP($B11,'Enter Data Here'!$5:$6,2,0)&"$14")),$B11,IF(AND(K$5>=INDIRECT("'Enter Data Here'!"&HLOOKUP($B11,'Enter Data Here'!$5:$6,2,0)&"$16"),K$5<=INDIRECT("'Enter Data Here'!"&HLOOKUP($B11,'Enter Data Here'!$5:$6,2,0)&"$17")),$B11,IF(AND(K$5>=INDIRECT("'Enter Data Here'!"&HLOOKUP($B11,'Enter Data Here'!$5:$6,2,0)&"$19"),K$5<=INDIRECT("'Enter Data Here'!"&HLOOKUP($B11,'Enter Data Here'!$5:$6,2,0)&"$20")),$B11,"")))))} -> Moataz Al Sakka | L11: {=IF(AND(L$5>=INDIRECT("'Enter Data Here'!"&HLOOKUP($B11,'Enter Data Here'!$5:$6,2,0)&"$7"),L$5<=INDIRECT("'Enter Data Here'!"&HLOOKUP($B11,'Enter Data Here'!$5:$6,2,0)&"$8")),$B11,IF(AND(L$5>=INDIRECT("'Enter Data Here'!"&HLOOKUP($B11,'Enter Data Here'!$5:$6,2,0)&"$10"),L$5<=INDIRECT("'Enter Data Here'!"&HLOOKUP($B11,'Enter Data Here'!$5:$6,2,0)&"$11")),$B11,IF(AND(L$5>=INDIRECT("'Enter Data Here'!"&HLOOKUP($B11,'Enter Data Here'!$5:$6,2,0)&"$13"),L$5<=INDIRECT("'Enter Data Here'!"&HLOOKUP($B11,'Enter Data Here'!$5:$6,2,0)&"$14")),$B11,IF(AND(L$5>=INDIRECT("'Enter Data Here'!"&HLOOKUP($B11,'Enter Data Here'!$5:$6,2,0)&"$16"),L$5<=INDIRECT("'Enter Data Here'!"&HLOOKUP($B11,'Enter Data Here'!$5:$6,2,0)&"$17")),$B11,IF(AND(L$5>=INDIRECT("'Enter Data Here'!"&HLOOKUP($B11,'Enter Data Here'!$5:$6,2,0)&"$19"),L$5<=INDIRECT("'Enter Data Here'!"&HLOOKUP($B11,'Enter Data Here'!$5:$6,2,0)&"$20")),$B11,"")))))} -> Moataz Al Sakka | M11: {=IF(AND(M$5>=INDIRECT("'Enter Data Here'!"&HLOOKUP($B11,'Enter Data Here'!$5:$6,2,0)&"$7"),M$5<=INDIRECT("'Enter Data Here'!"&HLOOKUP($B11,'Enter Data Here'!$5:$6,2,0)&"$8")),$B11,IF(AND(M$5>=INDIRECT("'Enter Data Here'!"&HLOOKUP($B11,'Enter Data Here'!$5:$6,2,0)&"$10"),M$5<=INDIRECT("'Enter Data Here'!"&HLOOKUP($B11,'Enter Data Here'!$5:$6,2,0)&"$11")),$B11,IF(AND(M$5>=INDIRECT("'Enter Data Here'!"&HLOOKUP($B11,'Enter Data Here'!$5:$6,2,0)&"$13"),M$5<=INDIRECT("'Enter Data Here'!"&HLOOKUP($B11,'Enter Data Here'!$5:$6,2,0)&"$14")),$B11,IF(AND(M$5>=INDIRECT("'Enter Data Here'!"&HLOOKUP($B11,'Enter Data Here'!$5:$6,2,0)&"$16"),M$5<=INDIRECT("'Enter Data Here'!"&HLOOKUP($B11,'Enter Data Here'!$5:$6,2,0)&"$17")),$B11,IF(AND(M$5>=INDIRECT("'Enter Data Here'!"&HLOOKUP($B11,'Enter Data Here'!$5:$6,2,0)&"$19"),M$5<=INDIRECT("'Enter Data Here'!"&HLOOKUP($B11,'Enter Data Here'!$5:$6,2,0)&"$20")),$B11,"")))))} -> Moataz Al Sakka | ... AJ11: {=IF(AND(AJ$5>=INDIRECT("'Enter Data Here'!"&HLOOKUP($B11,'Enter Data Here'!$5:$6,2,0)&"$7"),AJ$5<=INDIRECT("'Enter Data Here'!"&HLOOKUP($B11,'Enter Data Here'!$5:$6,2,0)&"$8")),$B11,IF(AND(AJ$5>=INDIRECT("'Enter Data Here'!"&HLOOKUP($B11,'Enter Data Here'!$5:$6,2,0)&"$10"),AJ$5<=INDIRECT("'Enter Data Here'!"&HLOOKUP($B11,'Enter Data Here'!$5:$6,2,0)&"$11")),$B11,IF(AND(AJ$5>=INDIRECT("'Enter Data Here'!"&HLOOKUP($B11,'Enter Data Here'!$5:$6,2,0)&"$13"),AJ$5<=INDIRECT("'Enter Data Here'!"&HLOOKUP($B11,'Enter Data Here'!$5:$6,2,0)&"$14")),$B11,IF(AND(AJ$5>=INDIRECT("'Enter Data Here'!"&HLOOKUP($B11,'Enter Data Here'!$5:$6,2,0)&"$16"),AJ$5<=INDIRECT("'Enter Data Here'!"&HLOOKUP($B11,'Enter Data Here'!$5:$6,2,0)&"$17")),$B11,IF(AND(AJ$5>=INDIRECT("'Enter Data Here'!"&HLOOKUP($B11,'Enter Data Here'!$5:$6,2,0)&"$19"),AJ$5<=INDIRECT("'Enter Data Here'!"&HLOOKUP($B11,'Enter Data Here'!$5:$6,2,0)&"$20")),$B11,"")))))}
