Workbook
Name Month1: 'Cash-N-Out'!$AL$10:$AL$3509
Name Year1: 'Cash-N-Out'!$AM$10:$AM$3507

Sheet Cash-N-Out
T1: =IF(T2=0,"",T3) | U1: =IF(U2=0,"",U3) | AF1: Insert Description | AG1: =COUNTIF($AF$10:$AF$3509,AF1) -> 0 | AH1: =IF(AG1=0,"",AF1) | AI1: =AH1 | AK1: =COUNTIF($AI$1:$AJ$6,AF1) -> 0 | AL1: =IF(AK1=0,"",AF1)
D2: Balance | E2: =K6+SUM(F10:F3509)-SUM(G10:G3509) -> 2887 | G2: =Settings!E5 -> SAR | I2: Report | K2: Settings | L2: About | N2: =SUM(L10:L3509) -> 2887 | O2: =+Settings!E7+0.01 -> 1000.01 | T2: =SUM(T10:T3511) -> 0 | U2: =SUM(U10:U3511) -> 0 | V2: =SUM(V10:V3511) -> 0 | W2: =SUM(W10:W3511) -> 0 | AA2: Ayhamento | AF2: Insert Amount | AG2: =COUNTIF($AF$10:$AF$3509,AF2) -> 0 | AH2: =IF(AG2=0,"",AF2) | AI2: =AH2 | AK2: =COUNTIF($AI$1:$AJ$6,AF2) -> 0 | AL2: =IF(AK2=0,"",AF2)
O3: =+Settings!E6+0.01 -> 3000.01 | T3: Typing Error (Remove Dr. or Cr. Side) | U3: Balance must not be less than Zero | AF3: Insert Date | AG3: =COUNTIF($AF$10:$AF$3509,AF3) -> 0 | AH3: =IF(AG3=0,"",AF3) | AI3: =AH3 | AK3: =COUNTIF($AI$1:$AJ$6,AF3) -> 0 | AL3: =IF(AK3=0,"",AF3)
AF4: Insert Description Insert Amount | AG4: =COUNTIF($AF$10:$AF$3509,AF4) -> 0 | AH4: =IF(AG4=0,"",AF4) | AI4: =IF(AG4=0,"",AF1) | AJ4: =IF(AG4=0,"",AF2)
B5: ⃝ ⃝ ⃝ | C5: =IF(B10="","",AL1&" "&AL2&" "&AL3) | E5: =IF(AND(AND(E2>=0.01,E2<O3),E2>O2),"Low Balance",IF(AND(E2>=0.01,E2<O2),"Low Balance",IF(AND(E2>=0,E2<0.01),"OUT OF BALANCE",""))) -> Low Balance | AF5: Insert Description Insert Date | AG5: =COUNTIF($AF$10:$AF$3509,AF5) -> 0 | AH5: =IF(AG5=0,"",AF5) | AI5: =IF(AG5=0,"",AF1) | AJ5: =IF(AG5=0,"",AF3)
B6: =IF(C6="","","Error Message") | C6: =IF(OR(T2>0,U2>0),T1&" "&U1,"") | F6: Amount | I6: Beginning Balance | K6: =+Settings!E8 -> 5000 | AC6: Insert Description | AD6: Insert Amount | AE6: Insert Date | AF6: Insert Amount Insert Date | AG6: =COUNTIF($AF$10:$AF$3509,AF6) -> 0 | AH6: =IF(AG6=0,"",AF6) | AI6: =IF(AG6=0,"",AF2) | AJ6: =IF(AG6=0,"",AF3) | AR6: Amount
B8: Date | C8: Description | F8: Cash In ( + ) | G8: Cash Out ( - ) | K8: Balance | AC8: OK | AD8: OK | AE8: OK | AF8: OK
K9: X | R9: Ok | S9: Ok | T9: OK | U9: Ok | V9: ? | W9: ? | AC9: D | AD9: Amount | AE9: Date
A10: 1 | B10: 45658 | C10: Cheque No. 500081 , Petty Cash | F10: 4000 | I10: =IF(Z10>0,"!","") | K10: =IFERROR(IF(R10+S10=0,"",K6+F10-G10),"") -> 9000 | L10: =IF(K11="",K10,0) -> 0 | R10: =IF(F10=0,0,1) -> 1 | S10: =IF(G10=0,0,1) -> 0 | T10: =IF(S10+R10=2,1,0) -> 0 | U10: =IF(K10<0,1,0) -> 0 | V10: =IF(F10<0,1,0) -> 0 | W10: =IF(G10<0,1,0) -> 0 | Y10: =IF(AND(AC10+AD10>0,(AC10+AD10)<2),1,0) -> 0 | Z10: =SUM(T10:Y10)+AA10 -> 0 | AA10: =IF(AND(AC10+AD10+AE10<3,AC10+AD10+AE10>0),1,0) -> 0 | AC10: =COUNTA(C10) -> 1 | AD10: =IF(F10+G10>0,1,0) -> 1 | AE10: =COUNTA(B10) -> 1 | AF10: =IF(AC10+AD10+AE10=0,"",IF(AC10+AD10+AE10=3,"",AJ10)) | AG10: =IF(AC10=1,"",$AC$6) | AH10: =IF(AD10=1,"",$AD$6) | AI10: =IF(AE10=1,"",$AE$6) | AJ10: =AG10&" "&AH10&" "&AI10 | AL10: =IF(B10="","",(TEXT(B10,"MMMM"))) -> January | AM10: =IF(B10="","",YEAR(B10)) -> 2025 | AO10: =SUMIFS(F:F,AL:AL,AL10,AM:AM,AO7) -> 0
A11: 2 | B11: 45690 | C11: Stationary and office supplies | G11: 390 | I11: =IF(Z11>0,"!","") | K11: =IFERROR(IF(R11+S11=0,"",K10+F11-G11),"") -> 8610 | L11: =IF(K12="",K11,0) -> 0 | R11: =IF(F11=0,0,1) -> 0 | S11: =IF(G11=0,0,1) -> 1 | T11: =IF(S11+R11=2,1,0) -> 0 | U11: =IF(K11<0,1,0) -> 0 | V11: =IF(F11<0,1,0) -> 0 | W11: =IF(G11<0,1,0) -> 0 | Y11: =IF(AND(AC11+AD11>0,(AC11+AD11)<2),1,0) -> 0 | Z11: =SUM(T11:Y11)+AA11 -> 0 | AA11: =IF(AND(AC11+AD11+AE11<3,AC11+AD11+AE11>0),1,0) -> 0 | AC11: =COUNTA(C11) -> 1 | AD11: =IF(F11+G11>0,1,0) -> 1 | AE11: =COUNTA(B11) -> 1 | AF11: =IF(AC11+AD11+AE11=0,"",IF(AC11+AD11+AE11=3,"",AJ11)) | AG11: =IF(AC11=1,"",$AC$6) | AH11: =IF(AD11=1,"",$AD$6) | AI11: =IF(AE11=1,"",$AE$6) | AJ11: =AG11&" "&AH11&" "&AI11 | AL11: =IF(B11="","",(TEXT(B11,"MMMM"))) -> February | AM11: =IF(B11="","",YEAR(B11)) -> 2025
A12: 3 | B12: 45718 | C12: Cash received from MHD Shakhasheero | F12: 1200 | I12: =IF(Z12>0,"!","") | K12: =IFERROR(IF(R12+S12=0,"",K11+F12-G12),"") -> 9810 | L12: =IF(K13="",K12,0) -> 0 | R12: =IF(F12=0,0,1) -> 1 | S12: =IF(G12=0,0,1) -> 0 | T12: =IF(S12+R12=2,1,0) -> 0 | U12: =IF(K12<0,1,0) -> 0 | V12: =IF(F12<0,1,0) -> 0 | W12: =IF(G12<0,1,0) -> 0 | Y12: =IF(AND(AC12+AD12>0,(AC12+AD12)<2),1,0) -> 0 | Z12: =SUM(T12:Y12)+AA12 -> 0 | AA12: =IF(AND(AC12+AD12+AE12<3,AC12+AD12+AE12>0),1,0) -> 0 | AC12: =COUNTA(C12) -> 1 | AD12: =IF(F12+G12>0,1,0) -> 1 | AE12: =COUNTA(B12) -> 1 | AF12: =IF(AC12+AD12+AE12=0,"",IF(AC12+AD12+AE12=3,"",AJ12)) | AG12: =IF(AC12=1,"",$AC$6) | AH12: =IF(AD12=1,"",$AD$6) | AI12: =IF(AE12=1,"",$AE$6) | AJ12: =AG12&" "&AH12&" "&AI12 | AL12: =IF(B12="","",(TEXT(B12,"MMMM"))) -> March | AM12: =IF(B12="","",YEAR(B12)) -> 2025
A13: 4 | B13: 45719 | C13: Refund - Waseem | F13: 280 | I13: =IF(Z13>0,"!","") | K13: =IFERROR(IF(R13+S13=0,"",K12+F13-G13),"") -> 10090 | L13: =IF(K14="",K13,0) -> 0 | R13: =IF(F13=0,0,1) -> 1 | S13: =IF(G13=0,0,1) -> 0 | T13: =IF(S13+R13=2,1,0) -> 0 | U13: =IF(K13<0,1,0) -> 0 | V13: =IF(F13<0,1,0) -> 0 | W13: =IF(G13<0,1,0) -> 0 | Y13: =IF(AND(AC13+AD13>0,(AC13+AD13)<2),1,0) -> 0 | Z13: =SUM(T13:Y13)+AA13 -> 0 | AA13: =IF(AND(AC13+AD13+AE13<3,AC13+AD13+AE13>0),1,0) -> 0 | AC13: =COUNTA(C13) -> 1 | AD13: =IF(F13+G13>0,1,0) -> 1 | AE13: =COUNTA(B13) -> 1 | AF13: =IF(AC13+AD13+AE13=0,"",IF(AC13+AD13+AE13=3,"",AJ13)) | AG13: =IF(AC13=1,"",$AC$6) | AH13: =IF(AD13=1,"",$AD$6) | AI13: =IF(AE13=1,"",$AE$6) | AJ13: =AG13&" "&AH13&" "&AI13 | AL13: =IF(B13="","",(TEXT(B13,"MMMM"))) -> March | AM13: =IF(B13="","",YEAR(B13)) -> 2025
A14: 5 | B14: 45747 | C14: Fuel and parking fees | G14: 912 | I14: =IF(Z14>0,"!","") | K14: =IFERROR(IF(R14+S14=0,"",K13+F14-G14),"") -> 9178 | L14: =IF(K15="",K14,0) -> 0 | R14: =IF(F14=0,0,1) -> 0 | S14: =IF(G14=0,0,1) -> 1 | T14: =IF(S14+R14=2,1,0) -> 0 | U14: =IF(K14<0,1,0) -> 0 | V14: =IF(F14<0,1,0) -> 0 | W14: =IF(G14<0,1,0) -> 0 | Y14: =IF(AND(AC14+AD14>0,(AC14+AD14)<2),1,0) -> 0 | Z14: =SUM(T14:Y14)+AA14 -> 0 | AA14: =IF(AND(AC14+AD14+AE14<3,AC14+AD14+AE14>0),1,0) -> 0 | AC14: =COUNTA(C14) -> 1 | AD14: =IF(F14+G14>0,1,0) -> 1 | AE14: =COUNTA(B14) -> 1 | AF14: =IF(AC14+AD14+AE14=0,"",IF(AC14+AD14+AE14=3,"",AJ14)) | AG14: =IF(AC14=1,"",$AC$6) | AH14: =IF(AD14=1,"",$AD$6) | AI14: =IF(AE14=1,"",$AE$6) | AJ14: =AG14&" "&AH14&" "&AI14 | AL14: =IF(B14="","",(TEXT(B14,"MMMM"))) -> March | AM14: =IF(B14="","",YEAR(B14)) -> 2025
A15: 6 | B15: 45748 | C15: Service Charges | G15: 2699 | I15: =IF(Z15>0,"!","") | K15: =IFERROR(IF(R15+S15=0,"",K14+F15-G15),"") -> 6479 | L15: =IF(K16="",K15,0) -> 0 | R15: =IF(F15=0,0,1) -> 0 | S15: =IF(G15=0,0,1) -> 1 | T15: =IF(S15+R15=2,1,0) -> 0 | U15: =IF(K15<0,1,0) -> 0 | V15: =IF(F15<0,1,0) -> 0 | W15: =IF(G15<0,1,0) -> 0 | Y15: =IF(AND(AC15+AD15>0,(AC15+AD15)<2),1,0) -> 0 | Z15: =SUM(T15:Y15)+AA15 -> 0 | AA15: =IF(AND(AC15+AD15+AE15<3,AC15+AD15+AE15>0),1,0) -> 0 | AC15: =COUNTA(C15) -> 1 | AD15: =IF(F15+G15>0,1,0) -> 1 | AE15: =COUNTA(B15) -> 1 | AF15: =IF(AC15+AD15+AE15=0,"",IF(AC15+AD15+AE15=3,"",AJ15)) | AG15: =IF(AC15=1,"",$AC$6) | AH15: =IF(AD15=1,"",$AD$6) | AI15: =IF(AE15=1,"",$AE$6) | AJ15: =AG15&" "&AH15&" "&AI15 | AL15: =IF(B15="","",(TEXT(B15,"MMMM"))) -> April | AM15: =IF(B15="","",YEAR(B15)) -> 2025
A16: 7 | B16: 45762 | C16: Miscellaneous expences | G16: 450 | I16: =IF(Z16>0,"!","") | K16: =IFERROR(IF(R16+S16=0,"",K15+F16-G16),"") -> 6029 | L16: =IF(K17="",K16,0) -> 0 | R16: =IF(F16=0,0,1) -> 0 | S16: =IF(G16=0,0,1) -> 1 | T16: =IF(S16+R16=2,1,0) -> 0 | U16: =IF(K16<0,1,0) -> 0 | V16: =IF(F16<0,1,0) -> 0 | W16: =IF(G16<0,1,0) -> 0 | Y16: =IF(AND(AC16+AD16>0,(AC16+AD16)<2),1,0) -> 0 | Z16: =SUM(T16:Y16)+AA16 -> 0 | AA16: =IF(AND(AC16+AD16+AE16<3,AC16+AD16+AE16>0),1,0) -> 0 | AC16: =COUNTA(C16) -> 1 | AD16: =IF(F16+G16>0,1,0) -> 1 | AE16: =COUNTA(B16) -> 1 | AF16: =IF(AC16+AD16+AE16=0,"",IF(AC16+AD16+AE16=3,"",AJ16)) | AG16: =IF(AC16=1,"",$AC$6) | AH16: =IF(AD16=1,"",$AD$6) | AI16: =IF(AE16=1,"",$AE$6) | AJ16: =AG16&" "&AH16&" "&AI16 | AL16: =IF(B16="","",(TEXT(B16,"MMMM"))) -> April | AM16: =IF(B16="","",YEAR(B16)) -> 2025
A17: 8 | B17: 45765 | C17: Fees & Subscriptions | G17: 1922 | I17: =IF(Z17>0,"!","") | K17: =IFERROR(IF(R17+S17=0,"",K16+F17-G17),"") -> 4107 | L17: =IF(K18="",K17,0) -> 0 | R17: =IF(F17=0,0,1) -> 0 | S17: =IF(G17=0,0,1) -> 1 | T17: =IF(S17+R17=2,1,0) -> 0 | U17: =IF(K17<0,1,0) -> 0 | V17: =IF(F17<0,1,0) -> 0 | W17: =IF(G17<0,1,0) -> 0 | Y17: =IF(AND(AC17+AD17>0,(AC17+AD17)<2),1,0) -> 0 | Z17: =SUM(T17:Y17)+AA17 -> 0 | AA17: =IF(AND(AC17+AD17+AE17<3,AC17+AD17+AE17>0),1,0) -> 0 | AC17: =COUNTA(C17) -> 1 | AD17: =IF(F17+G17>0,1,0) -> 1 | AE17: =COUNTA(B17) -> 1 | AF17: =IF(AC17+AD17+AE17=0,"",IF(AC17+AD17+AE17=3,"",AJ17)) | AG17: =IF(AC17=1,"",$AC$6) | AH17: =IF(AD17=1,"",$AD$6) | AI17: =IF(AE17=1,"",$AE$6) | AJ17: =AG17&" "&AH17&" "&AI17 | AL17: =IF(B17="","",(TEXT(B17,"MMMM"))) -> April | AM17: =IF(B17="","",YEAR(B17)) -> 2025
A18: 9 | B18: 45769 | C18: Electricity Bill | G18: 1220 | I18: =IF(Z18>0,"!","") | K18: =IFERROR(IF(R18+S18=0,"",K17+F18-G18),"") -> 2887 | L18: =IF(K19="",K18,0) -> 2887 | R18: =IF(F18=0,0,1) -> 0 | S18: =IF(G18=0,0,1) -> 1 | T18: =IF(S18+R18=2,1,0) -> 0 | U18: =IF(K18<0,1,0) -> 0 | V18: =IF(F18<0,1,0) -> 0 | W18: =IF(G18<0,1,0) -> 0 | Y18: =IF(AND(AC18+AD18>0,(AC18+AD18)<2),1,0) -> 0 | Z18: =SUM(T18:Y18)+AA18 -> 0 | AA18: =IF(AND(AC18+AD18+AE18<3,AC18+AD18+AE18>0),1,0) -> 0 | AC18: =COUNTA(C18) -> 1 | AD18: =IF(F18+G18>0,1,0) -> 1 | AE18: =COUNTA(B18) -> 1 | AF18: =IF(AC18+AD18+AE18=0,"",IF(AC18+AD18+AE18=3,"",AJ18)) | AG18: =IF(AC18=1,"",$AC$6) | AH18: =IF(AD18=1,"",$AD$6) | AI18: =IF(AE18=1,"",$AE$6) | AJ18: =AG18&" "&AH18&" "&AI18 | AL18: =IF(B18="","",(TEXT(B18,"MMMM"))) -> April | AM18: =IF(B18="","",YEAR(B18)) -> 2025
A19: 10 | I19: =IF(Z19>0,"!","") | K19: =IFERROR(IF(R19+S19=0,"",K18+F19-G19),"") | L19: =IF(K20="",K19,0) | R19: =IF(F19=0,0,1) -> 0 | S19: =IF(G19=0,0,1) -> 0 | T19: =IF(S19+R19=2,1,0) -> 0 | U19: =IF(K19<0,1,0) -> 0 | V19: =IF(F19<0,1,0) -> 0 | W19: =IF(G19<0,1,0) -> 0 | Y19: =IF(AND(AC19+AD19>0,(AC19+AD19)<2),1,0) -> 0 | Z19: =SUM(T19:Y19)+AA19 -> 0 | AA19: =IF(AND(AC19+AD19+AE19<3,AC19+AD19+AE19>0),1,0) -> 0 | AC19: =COUNTA(C19) -> 0 | AD19: =IF(F19+G19>0,1,0) -> 0 | AE19: =COUNTA(B19) -> 0 | AF19: =IF(AC19+AD19+AE19=0,"",IF(AC19+AD19+AE19=3,"",AJ19)) | AG19: =IF(AC19=1,"",$AC$6) -> Insert Description | AH19: =IF(AD19=1,"",$AD$6) -> Insert Amount | AI19: =IF(AE19=1,"",$AE$6) -> Insert Date | AJ19: =AG19&" "&AH19&" "&AI19 -> Insert Description Insert Amount Insert Date | AL19: =IF(B19="","",(TEXT(B19,"MMMM"))) | AM19: =IF(B19="","",YEAR(B19))
A20: 11 | I20: =IF(Z20>0,"!","") | K20: =IFERROR(IF(R20+S20=0,"",K19+F20-G20),"") | L20: =IF(K21="",K20,0) | R20: =IF(F20=0,0,1) -> 0 | S20: =IF(G20=0,0,1) -> 0 | T20: =IF(S20+R20=2,1,0) -> 0 | U20: =IF(K20<0,1,0) -> 0 | V20: =IF(F20<0,1,0) -> 0 | W20: =IF(G20<0,1,0) -> 0 | Y20: =IF(AND(AC20+AD20>0,(AC20+AD20)<2),1,0) -> 0 | Z20: =SUM(T20:Y20)+AA20 -> 0 | AA20: =IF(AND(AC20+AD20+AE20<3,AC20+AD20+AE20>0),1,0) -> 0 | AC20: =COUNTA(C20) -> 0 | AD20: =IF(F20+G20>0,1,0) -> 0 | AE20: =COUNTA(B20) -> 0 | AF20: =IF(AC20+AD20+AE20=0,"",IF(AC20+AD20+AE20=3,"",AJ20)) | AG20: =IF(AC20=1,"",$AC$6) -> Insert Description | AH20: =IF(AD20=1,"",$AD$6) -> Insert Amount | AI20: =IF(AE20=1,"",$AE$6) -> Insert Date | AJ20: =AG20&" "&AH20&" "&AI20 -> Insert Description Insert Amount Insert Date | AL20: =IF(B20="","",(TEXT(B20,"MMMM"))) | AM20: =IF(B20="","",YEAR(B20))
A21: 12 | I21: =IF(Z21>0,"!","") | K21: =IFERROR(IF(R21+S21=0,"",K20+F21-G21),"") | L21: =IF(K22="",K21,0) | R21: =IF(F21=0,0,1) -> 0 | S21: =IF(G21=0,0,1) -> 0 | T21: =IF(S21+R21=2,1,0) -> 0 | U21: =IF(K21<0,1,0) -> 0 | V21: =IF(F21<0,1,0) -> 0 | W21: =IF(G21<0,1,0) -> 0 | Y21: =IF(AND(AC21+AD21>0,(AC21+AD21)<2),1,0) -> 0 | Z21: =SUM(T21:Y21)+AA21 -> 0 | AA21: =IF(AND(AC21+AD21+AE21<3,AC21+AD21+AE21>0),1,0) -> 0 | AC21: =COUNTA(C21) -> 0 | AD21: =IF(F21+G21>0,1,0) -> 0 | AE21: =COUNTA(B21) -> 0 | AF21: =IF(AC21+AD21+AE21=0,"",IF(AC21+AD21+AE21=3,"",AJ21)) | AG21: =IF(AC21=1,"",$AC$6) -> Insert Description | AH21: =IF(AD21=1,"",$AD$6) -> Insert Amount | AI21: =IF(AE21=1,"",$AE$6) -> Insert Date | AJ21: =AG21&" "&AH21&" "&AI21 -> Insert Description Insert Amount Insert Date | AL21: =IF(B21="","",(TEXT(B21,"MMMM"))) | AM21: =IF(B21="","",YEAR(B21))
A22: 13 | I22: =IF(Z22>0,"!","") | K22: =IFERROR(IF(R22+S22=0,"",K21+F22-G22),"") | L22: =IF(K23="",K22,0) | R22: =IF(F22=0,0,1) -> 0 | S22: =IF(G22=0,0,1) -> 0 | T22: =IF(S22+R22=2,1,0) -> 0 | U22: =IF(K22<0,1,0) -> 0 | V22: =IF(F22<0,1,0) -> 0 | W22: =IF(G22<0,1,0) -> 0 | Y22: =IF(AND(AC22+AD22>0,(AC22+AD22)<2),1,0) -> 0 | Z22: =SUM(T22:Y22)+AA22 -> 0 | AA22: =IF(AND(AC22+AD22+AE22<3,AC22+AD22+AE22>0),1,0) -> 0 | AC22: =COUNTA(C22) -> 0 | AD22: =IF(F22+G22>0,1,0) -> 0 | AE22: =COUNTA(B22) -> 0 | AF22: =IF(AC22+AD22+AE22=0,"",IF(AC22+AD22+AE22=3,"",AJ22)) | AG22: =IF(AC22=1,"",$AC$6) -> Insert Description | AH22: =IF(AD22=1,"",$AD$6) -> Insert Amount | AI22: =IF(AE22=1,"",$AE$6) -> Insert Date | AJ22: =AG22&" "&AH22&" "&AI22 -> Insert Description Insert Amount Insert Date | AL22: =IF(B22="","",(TEXT(B22,"MMMM"))) | AM22: =IF(B22="","",YEAR(B22))
A23: 14 | I23: =IF(Z23>0,"!","") | K23: =IFERROR(IF(R23+S23=0,"",K22+F23-G23),"") | L23: =IF(K24="",K23,0) | R23: =IF(F23=0,0,1) -> 0 | S23: =IF(G23=0,0,1) -> 0 | T23: =IF(S23+R23=2,1,0) -> 0 | U23: =IF(K23<0,1,0) -> 0 | V23: =IF(F23<0,1,0) -> 0 | W23: =IF(G23<0,1,0) -> 0 | Y23: =IF(AND(AC23+AD23>0,(AC23+AD23)<2),1,0) -> 0 | Z23: =SUM(T23:Y23)+AA23 -> 0 | AA23: =IF(AND(AC23+AD23+AE23<3,AC23+AD23+AE23>0),1,0) -> 0 | AC23: =COUNTA(C23) -> 0 | AD23: =IF(F23+G23>0,1,0) -> 0 | AE23: =COUNTA(B23) -> 0 | AF23: =IF(AC23+AD23+AE23=0,"",IF(AC23+AD23+AE23=3,"",AJ23)) | AG23: =IF(AC23=1,"",$AC$6) -> Insert Description | AH23: =IF(AD23=1,"",$AD$6) -> Insert Amount | AI23: =IF(AE23=1,"",$AE$6) -> Insert Date | AJ23: =AG23&" "&AH23&" "&AI23 -> Insert Description Insert Amount Insert Date | AL23: =IF(B23="","",(TEXT(B23,"MMMM"))) | AM23: =IF(B23="","",YEAR(B23))
A24: 15 | I24: =IF(Z24>0,"!","") | K24: =IFERROR(IF(R24+S24=0,"",K23+F24-G24),"") | L24: =IF(K25="",K24,0) | R24: =IF(F24=0,0,1) -> 0 | S24: =IF(G24=0,0,1) -> 0 | T24: =IF(S24+R24=2,1,0) -> 0 | U24: =IF(K24<0,1,0) -> 0 | V24: =IF(F24<0,1,0) -> 0 | W24: =IF(G24<0,1,0) -> 0 | Y24: =IF(AND(AC24+AD24>0,(AC24+AD24)<2),1,0) -> 0 | Z24: =SUM(T24:Y24)+AA24 -> 0 | AA24: =IF(AND(AC24+AD24+AE24<3,AC24+AD24+AE24>0),1,0) -> 0 | AC24: =COUNTA(C24) -> 0 | AD24: =IF(F24+G24>0,1,0) -> 0 | AE24: =COUNTA(B24) -> 0 | AF24: =IF(AC24+AD24+AE24=0,"",IF(AC24+AD24+AE24=3,"",AJ24)) | AG24: =IF(AC24=1,"",$AC$6) -> Insert Description | AH24: =IF(AD24=1,"",$AD$6) -> Insert Amount | AI24: =IF(AE24=1,"",$AE$6) -> Insert Date | AJ24: =AG24&" "&AH24&" "&AI24 -> Insert Description Insert Amount Insert Date | AL24: =IF(B24="","",(TEXT(B24,"MMMM"))) | AM24: =IF(B24="","",YEAR(B24))
A25: 16 | I25: =IF(Z25>0,"!","") | K25: =IFERROR(IF(R25+S25=0,"",K24+F25-G25),"") | L25: =IF(K26="",K25,0) | R25: =IF(F25=0,0,1) -> 0 | S25: =IF(G25=0,0,1) -> 0 | T25: =IF(S25+R25=2,1,0) -> 0 | U25: =IF(K25<0,1,0) -> 0 | V25: =IF(F25<0,1,0) -> 0 | W25: =IF(G25<0,1,0) -> 0 | Y25: =IF(AND(AC25+AD25>0,(AC25+AD25)<2),1,0) -> 0 | Z25: =SUM(T25:Y25)+AA25 -> 0 | AA25: =IF(AND(AC25+AD25+AE25<3,AC25+AD25+AE25>0),1,0) -> 0 | AC25: =COUNTA(C25) -> 0 | AD25: =IF(F25+G25>0,1,0) -> 0 | AE25: =COUNTA(B25) -> 0 | AF25: =IF(AC25+AD25+AE25=0,"",IF(AC25+AD25+AE25=3,"",AJ25)) | AG25: =IF(AC25=1,"",$AC$6) -> Insert Description | AH25: =IF(AD25=1,"",$AD$6) -> Insert Amount | AI25: =IF(AE25=1,"",$AE$6) -> Insert Date | AJ25: =AG25&" "&AH25&" "&AI25 -> Insert Description Insert Amount Insert Date | AL25: =IF(B25="","",(TEXT(B25,"MMMM"))) | AM25: =IF(B25="","",YEAR(B25))
A26: 17 | I26: =IF(Z26>0,"!","") | K26: =IFERROR(IF(R26+S26=0,"",K25+F26-G26),"") | L26: =IF(K27="",K26,0) | R26: =IF(F26=0,0,1) -> 0 | S26: =IF(G26=0,0,1) -> 0 | T26: =IF(S26+R26=2,1,0) -> 0 | U26: =IF(K26<0,1,0) -> 0 | V26: =IF(F26<0,1,0) -> 0 | W26: =IF(G26<0,1,0) -> 0 | Y26: =IF(AND(AC26+AD26>0,(AC26+AD26)<2),1,0) -> 0 | Z26: =SUM(T26:Y26)+AA26 -> 0 | AA26: =IF(AND(AC26+AD26+AE26<3,AC26+AD26+AE26>0),1,0) -> 0 | AC26: =COUNTA(C26) -> 0 | AD26: =IF(F26+G26>0,1,0) -> 0 | AE26: =COUNTA(B26) -> 0 | AF26: =IF(AC26+AD26+AE26=0,"",IF(AC26+AD26+AE26=3,"",AJ26)) | AG26: =IF(AC26=1,"",$AC$6) -> Insert Description | AH26: =IF(AD26=1,"",$AD$6) -> Insert Amount | AI26: =IF(AE26=1,"",$AE$6) -> Insert Date | AJ26: =AG26&" "&AH26&" "&AI26 -> Insert Description Insert Amount Insert Date | AL26: =IF(B26="","",(TEXT(B26,"MMMM"))) | AM26: =IF(B26="","",YEAR(B26))
A27: 18 | I27: =IF(Z27>0,"!","") | K27: =IFERROR(IF(R27+S27=0,"",K26+F27-G27),"") | L27: =IF(K28="",K27,0) | R27: =IF(F27=0,0,1) -> 0 | S27: =IF(G27=0,0,1) -> 0 | T27: =IF(S27+R27=2,1,0) -> 0 | U27: =IF(K27<0,1,0) -> 0 | V27: =IF(F27<0,1,0) -> 0 | W27: =IF(G27<0,1,0) -> 0 | Y27: =IF(AND(AC27+AD27>0,(AC27+AD27)<2),1,0) -> 0 | Z27: =SUM(T27:Y27)+AA27 -> 0 | AA27: =IF(AND(AC27+AD27+AE27<3,AC27+AD27+AE27>0),1,0) -> 0 | AC27: =COUNTA(C27) -> 0 | AD27: =IF(F27+G27>0,1,0) -> 0 | AE27: =COUNTA(B27) -> 0 | AF27: =IF(AC27+AD27+AE27=0,"",IF(AC27+AD27+AE27=3,"",AJ27)) | AG27: =IF(AC27=1,"",$AC$6) -> Insert Description | AH27: =IF(AD27=1,"",$AD$6) -> Insert Amount | AI27: =IF(AE27=1,"",$AE$6) -> Insert Date | AJ27: =AG27&" "&AH27&" "&AI27 -> Insert Description Insert Amount Insert Date | AL27: =IF(B27="","",(TEXT(B27,"MMMM"))) | AM27: =IF(B27="","",YEAR(B27))
A28: 19 | I28: =IF(Z28>0,"!","") | K28: =IFERROR(IF(R28+S28=0,"",K27+F28-G28),"") | L28: =IF(K29="",K28,0) | R28: =IF(F28=0,0,1) -> 0 | S28: =IF(G28=0,0,1) -> 0 | T28: =IF(S28+R28=2,1,0) -> 0 | U28: =IF(K28<0,1,0) -> 0 | V28: =IF(F28<0,1,0) -> 0 | W28: =IF(G28<0,1,0) -> 0 | Y28: =IF(AND(AC28+AD28>0,(AC28+AD28)<2),1,0) -> 0 | Z28: =SUM(T28:Y28)+AA28 -> 0 | AA28: =IF(AND(AC28+AD28+AE28<3,AC28+AD28+AE28>0),1,0) -> 0 | AC28: =COUNTA(C28) -> 0 | AD28: =IF(F28+G28>0,1,0) -> 0 | AE28: =COUNTA(B28) -> 0 | AF28: =IF(AC28+AD28+AE28=0,"",IF(AC28+AD28+AE28=3,"",AJ28)) | AG28: =IF(AC28=1,"",$AC$6) -> Insert Description | AH28: =IF(AD28=1,"",$AD$6) -> Insert Amount | AI28: =IF(AE28=1,"",$AE$6) -> Insert Date | AJ28: =AG28&" "&AH28&" "&AI28 -> Insert Description Insert Amount Insert Date | AL28: =IF(B28="","",(TEXT(B28,"MMMM"))) | AM28: =IF(B28="","",YEAR(B28))
A29: 20 | I29: =IF(Z29>0,"!","") | K29: =IFERROR(IF(R29+S29=0,"",K28+F29-G29),"") | L29: =IF(K30="",K29,0) | R29: =IF(F29=0,0,1) -> 0 | S29: =IF(G29=0,0,1) -> 0 | T29: =IF(S29+R29=2,1,0) -> 0 | U29: =IF(K29<0,1,0) -> 0 | V29: =IF(F29<0,1,0) -> 0 | W29: =IF(G29<0,1,0) -> 0 | Y29: =IF(AND(AC29+AD29>0,(AC29+AD29)<2),1,0) -> 0 | Z29: =SUM(T29:Y29)+AA29 -> 0 | AA29: =IF(AND(AC29+AD29+AE29<3,AC29+AD29+AE29>0),1,0) -> 0 | AC29: =COUNTA(C29) -> 0 | AD29: =IF(F29+G29>0,1,0) -> 0 | AE29: =COUNTA(B29) -> 0 | AF29: =IF(AC29+AD29+AE29=0,"",IF(AC29+AD29+AE29=3,"",AJ29)) | AG29: =IF(AC29=1,"",$AC$6) -> Insert Description | AH29: =IF(AD29=1,"",$AD$6) -> Insert Amount | AI29: =IF(AE29=1,"",$AE$6) -> Insert Date | AJ29: =AG29&" "&AH29&" "&AI29 -> Insert Description Insert Amount Insert Date | AL29: =IF(B29="","",(TEXT(B29,"MMMM"))) | AM29: =IF(B29="","",YEAR(B29))
A30: 21 | I30: =IF(Z30>0,"!","") | K30: =IFERROR(IF(R30+S30=0,"",K29+F30-G30),"") | L30: =IF(K31="",K30,0) | R30: =IF(F30=0,0,1) -> 0 | S30: =IF(G30=0,0,1) -> 0 | T30: =IF(S30+R30=2,1,0) -> 0 | U30: =IF(K30<0,1,0) -> 0 | V30: =IF(F30<0,1,0) -> 0 | W30: =IF(G30<0,1,0) -> 0 | Y30: =IF(AND(AC30+AD30>0,(AC30+AD30)<2),1,0) -> 0 | Z30: =SUM(T30:Y30)+AA30 -> 0 | AA30: =IF(AND(AC30+AD30+AE30<3,AC30+AD30+AE30>0),1,0) -> 0 | AC30: =COUNTA(C30) -> 0 | AD30: =IF(F30+G30>0,1,0) -> 0 | AE30: =COUNTA(B30) -> 0 | AF30: =IF(AC30+AD30+AE30=0,"",IF(AC30+AD30+AE30=3,"",AJ30)) | AG30: =IF(AC30=1,"",$AC$6) -> Insert Description | AH30: =IF(AD30=1,"",$AD$6) -> Insert Amount | AI30: =IF(AE30=1,"",$AE$6) -> Insert Date | AJ30: =AG30&" "&AH30&" "&AI30 -> Insert Description Insert Amount Insert Date | AL30: =IF(B30="","",(TEXT(B30,"MMMM"))) | AM30: =IF(B30="","",YEAR(B30))
... A3509: 3500 | I3509: =IF(Z3509>0,"!","") | K3509: =IFERROR(IF(R3509+S3509=0,"",K3508+F3509-G3509),"") | L3509: =IF(K3510="",K3509,0) | R3509: =IF(F3509=0,0,1) -> 0 | S3509: =IF(G3509=0,0,1) -> 0 | T3509: =IF(S3509+R3509=2,1,0) -> 0 | U3509: =IF(K3509<0,1,0) -> 0 | V3509: =IF(F3509<0,1,0) -> 0 | W3509: =IF(G3509<0,1,0) -> 0 | Y3509: =IF(AND(AC3509+AD3509>0,(AC3509+AD3509)<2),1,0) -> 0 | Z3509: =SUM(T3509:Y3509)+AA3509 -> 0 | AA3509: =IF(AND(AC3509+AD3509+AE3509<3,AC3509+AD3509+AE3509>0),1,0) -> 0 | AC3509: =COUNTA(C3509) -> 0 | AD3509: =IF(F3509+G3509>0,1,0) -> 0 | AE3509: =COUNTA(B3509) -> 0 | AF3509: =IF(AC3509+AD3509+AE3509=0,"",IF(AC3509+AD3509+AE3509=3,"",AJ3509)) | AG3509: =IF(AC3509=1,"",$AC$6) -> Insert Description | AH3509: =IF(AD3509=1,"",$AD$6) -> Insert Amount | AI3509: =IF(AE3509=1,"",$AE$6) -> Insert Date | AJ3509: =AG3509&" "&AH3509&" "&AI3509 -> Insert Description Insert Amount Insert Date | AL3509: =IF(B3509="","",(TEXT(B3509,"MMMM"))) | AM3509: =IF(B3509="","",YEAR(B3509))
B3510: X | C3510: X | D3510: X | E3510: X | F3510: X | G3510: X | I3510: =IF(Z3510>0,"!","")

Sheet Settings
C2: Settings
D5: Currency | E5: SAR | I5: $
D6: Low Balance (Yellow Level) | E6: 3000 | H6: =+E6+1 -> 3001 | I6: €
D7: Low Balance (Red Level) | E7: 1000 | H7: =+E7+1 -> 1001 | I7: £
D8: Beginning Balance | E8: 5000 | I8: ¥
I9: SYP
I10: AED
I11: SAR
I12: KWD
I13: EGP
I14: QAR
D15: Back to Home Page

Sheet Reports
E2: =IF(K10="!", "Error Happened , Contact System Admin","")
C6: Beginning Balance | E6: =+'Cash-N-Out'!K6 -> 5000
C8: Total (In) | E8: Total (Out) | G8: Movement
C10: =SUM('Cash-N-Out'!F10:F3509) -> 5480 | E10: =SUM('Cash-N-Out'!G10:G3509) -> 7593 | G10: =C10-E10 -> -2113 | J10: =E13-'Cash-N-Out'!E2 -> 0 | K10: =IF(J10=0,"","!")
AX12: 13 | AY12: 2023
C13: Ending Balance | E13: =E6+G10 -> 2887 | AX13: 12 | AY13: 2024
AX14: 11 | AY14: 2025 | BA14: 12 | BB14: January
C15: Customize.. | AX15: 10 | AY15: 2026 | BA15: 11 | BB15: February
AX16: 9 | AY16: 2027 | BA16: 10 | BB16: March
C17: Select Month | E17: Select Year | AX17: 8 | AY17: 2028 | BA17: 9 | BB17: April
C18: =VLOOKUP($AZ$18,$BA$14:$BB$25,2,0) -> February | E18: =VLOOKUP($AW$18,$AX$12:$AY$24,2,0) -> 2025 | AW18: 11 | AX18: 7 | AY18: 2029 | AZ18: 11 | BA18: 8 | BB18: May
AX19: 6 | AY19: 2030 | BA19: 7 | BB19: June
C20: =IF(AND(C18="",E18=""),"",IF(OR(C18="",E18=""),"",C18&" "&E18&" "&"Total (In)")) -> February 2025 Total (In) | E20: =IF(AND(C18="",E18=""),"",IF(OR(C18="",E18=""),"",C18&" "&E18&" "&"Total (Out)")) -> February 2025 Total (Out) | G20: Movement | AX20: 5 | AY20: 2031 | BA20: 6 | BB20: July
AX21: 4 | AY21: 2032 | BA21: 5 | BB21: August
C22: =SUMIFS('Cash-N-Out'!F:F,'Cash-N-Out'!$AL:$AL,$C$18,'Cash-N-Out'!$AM:$AM,$E$18) -> 0 | E22: =SUMIFS('Cash-N-Out'!G:G,'Cash-N-Out'!$AL:$AL,$C$18,'Cash-N-Out'!$AM:$AM,$E$18) -> 390 | G22: =C22-E22 -> -390 | AX22: 3 | AY22: 2033 | BA22: 4 | BB22: September
AX23: 2 | AY23: 2034 | BA23: 3 | BB23: October
AX24: 1 | AY24: 2035 | BA24: 2 | BB24: November
BA25: 1 | BB25: December
R34: January | S34: 2011
R35: February | S35: 2012
R36: March | S36: 2013
R37: April | S37: 2014
R38: May | S38: 2015
R39: June | S39: 2016
R40: July | S40: 2017
R41: August | S41: 2018
R42: September | S42: 2019
R43: October | S43: 2020
R44: November
R45: December
AZ5555: 4

Sheet About
C9: برنامج Cash-N-Out برنامج بسيط لتسجيل حركة النقود اليومية Cash and Petty Cash مع تقرير يظهر الرصيد النقدي والحركة الشهرية (المقبوض - المدفوع) .. ورسائل تنبيه عند وصول الرصيد إلى حد أدنى يتم تحديده من قبل المستخدم .. ورسائل تنبيه عند وجود خطأ في الإدخال من قبل المستخدم مثلاً : عدم إدخال بعض البيانات كالشرح أو التاريخ أو المبلغ أو إدخال مبلغ في القبض والدفع بنفس القيد/السطر أو الرصيد السالب ... (خطأ في الإدخال) ...إلخ البرنامج مفيد للنشاطات التجارية الصغيرة :المحال التجارية والمكاتب والمؤسسات الصغيرة ... البرنامج من إعداد وتصميم Ayham Al Ani
C30: =IF($N$34+8=20,"A",IF($N$34+8=19,"Y",IF($N$34+8=18,"H",IF($N$34+8=17,"A",IF($N$34+8=16,"M",IF($N$34+8=15,"E",IF($N$34+8=14,"N",IF($N$34+8=13,"T",IF($N$34+8=12,"O",IF($N$34+8<12,"","")))))))))) -> A | D30: =IF($N$34+7=20,"A",IF($N$34+7=19,"Y",IF($N$34+7=18,"H",IF($N$34+7=17,"A",IF($N$34+7=16,"M",IF($N$34+7=15,"E",IF($N$34+7=14,"N",IF($N$34+7=13,"T",IF($N$34+7=12,"O",IF($N$34+7<12,"","")))))))))) -> Y | E30: =IF($N$34+6=20,"A",IF($N$34+6=19,"Y",IF($N$34+6=18,"H",IF($N$34+6=17,"A",IF($N$34+6=16,"M",IF($N$34+6=15,"E",IF($N$34+6=14,"N",IF($N$34+6=13,"T",IF($N$34+6=12,"O",IF($N$34+6<12,"","")))))))))) -> H | F30: =IF($N$34+5=20,"A",IF($N$34+5=19,"Y",IF($N$34+5=18,"H",IF($N$34+5=17,"A",IF($N$34+5=16,"M",IF($N$34+5=15,"E",IF($N$34+5=14,"N",IF($N$34+5=13,"T",IF($N$34+5=12,"O",IF($N$34+5<12,"","")))))))))) -> A | G30: =IF($N$34+4=20,"A",IF($N$34+4=19,"Y",IF($N$34+4=18,"H",IF($N$34+4=17,"A",IF($N$34+4=16,"M",IF($N$34+4=15,"E",IF($N$34+4=14,"N",IF($N$34+4=13,"T",IF($N$34+4=12,"O",IF($N$34+4<12,"","")))))))))) -> M | H30: =IF($N$34+3=20,"A",IF($N$34+3=19,"Y",IF($N$34+3=18,"H",IF($N$34+3=17,"A",IF($N$34+3=16,"M",IF($N$34+3=15,"E",IF($N$34+3=14,"N",IF($N$34+3=13,"T",IF($N$34+3=12,"O",IF($N$34+3<12,"","")))))))))) -> E | I30: =IF($N$34+2=20,"A",IF($N$34+2=19,"Y",IF($N$34+2=18,"H",IF($N$34+2=17,"A",IF($N$34+2=16,"M",IF($N$34+2=15,"E",IF($N$34+2=14,"N",IF($N$34+2=13,"T",IF($N$34+2=12,"O",IF($N$34+2<12,"","")))))))))) -> N | J30: =IF($N$34+1=20,"A",IF($N$34+1=19,"Y",IF($N$34+1=18,"H",IF($N$34+1=17,"A",IF($N$34+1=16,"M",IF($N$34+1=15,"E",IF($N$34+1=14,"N",IF($N$34+1=13,"T",IF($N$34+1=12,"O",IF($N$34+1<12,"","")))))))))) -> T | K30: =IF($N$34=20,"A",IF($N$34=19,"Y",IF($N$34=18,"H",IF($N$34=17,"A",IF($N$34=16,"M",IF($N$34=15,"E",IF($N$34=14,"N",IF($N$34=13,"T",IF($N$34=12,"O",IF($N$34<12,"","")))))))))) -> O
C32: Help & Support للدعم الفني
N34: 12
E37: Back to Program Page
